BEGIN:VCALENDAR
VERSION:2.0
PRODID:-//ACA WSO - ECPv6.15.20//NONSGML v1.0//EN
CALSCALE:GREGORIAN
METHOD:PUBLISH
X-WR-CALNAME:ACA WSO
X-ORIGINAL-URL:https://test.acawso.org
X-WR-CALDESC:Events for ACA WSO
REFRESH-INTERVAL;VALUE=DURATION:PT1H
X-Robots-Tag:noindex
X-PUBLISHED-TTL:PT1H
BEGIN:VTIMEZONE
TZID:America/New_York
BEGIN:DAYLIGHT
TZOFFSETFROM:-0500
TZOFFSETTO:-0400
TZNAME:EDT
DTSTART:20250309T070000
END:DAYLIGHT
BEGIN:STANDARD
TZOFFSETFROM:-0400
TZOFFSETTO:-0500
TZNAME:EST
DTSTART:20251102T060000
END:STANDARD
BEGIN:DAYLIGHT
TZOFFSETFROM:-0500
TZOFFSETTO:-0400
TZNAME:EDT
DTSTART:20260308T070000
END:DAYLIGHT
BEGIN:STANDARD
TZOFFSETFROM:-0400
TZOFFSETTO:-0500
TZNAME:EST
DTSTART:20261101T060000
END:STANDARD
BEGIN:DAYLIGHT
TZOFFSETFROM:-0500
TZOFFSETTO:-0400
TZNAME:EDT
DTSTART:20270314T070000
END:DAYLIGHT
BEGIN:STANDARD
TZOFFSETFROM:-0400
TZOFFSETTO:-0500
TZNAME:EST
DTSTART:20271107T060000
END:STANDARD
END:VTIMEZONE
BEGIN:VEVENT
DTSTART;TZID=America/New_York:20260918T140000
DTEND;TZID=America/New_York:20260920T130000
DTSTAMP:20260421T161419
CREATED:20260214T131825Z
LAST-MODIFIED:20260214T131825Z
UID:10018402-1789740000-1789909200@test.acawso.org
SUMMARY:ACA Retreat in the Pines
DESCRIPTION:SEPT 18TH – 20TH 2026\nOur theme this year is “Emotional Sobriety” — a gentle\, powerful return to inner balance. We invite you to join us for a three-day weekend filled with workshops\, meetings\, free spirited fun\, fellowship\, and the opportunity for reflection. A quiet mountain peace that sinks into the soul like sunlight through the pines.\nThis retreat includes two nights of lodging\, five nourishing meals\, and access to all workshops and activities. For those who feel most at home in simplicity\, we offer discounted weekend passes for Rustic cabins\, tent camping\, and RV stays. RV spaces with water and electric hookups are available\, and the retreat center provides a dump station as well. Space is limited. You’ll find additional activity and meal options on the registration page.\nIf you feel called to volunteer\, please reach out to admin@aca-retreat.org for more information.\n* Registration opens the middle of May check out the Retreat in the Pines website: https://aca-retreat.org/\nWe can’t wait to welcome you up on the mountain this September— a place where the air is clearer\, the heart feels lighter\, and healing becomes possible. \nSponsored by IG#9
URL:https://test.acawso.org/calendar/aca-retreat-in-the-pines/
CATEGORIES:events
END:VEVENT
END:VCALENDAR