BEGIN:VCALENDAR
VERSION:2.0
PRODID:-//ACA WSO - ECPv6.15.20//NONSGML v1.0//EN
CALSCALE:GREGORIAN
METHOD:PUBLISH
X-WR-CALNAME:ACA WSO
X-ORIGINAL-URL:https://test.acawso.org
X-WR-CALDESC:Events for ACA WSO
REFRESH-INTERVAL;VALUE=DURATION:PT1H
X-Robots-Tag:noindex
X-PUBLISHED-TTL:PT1H
BEGIN:VTIMEZONE
TZID:America/New_York
BEGIN:DAYLIGHT
TZOFFSETFROM:-0500
TZOFFSETTO:-0400
TZNAME:EDT
DTSTART:20250309T070000
END:DAYLIGHT
BEGIN:STANDARD
TZOFFSETFROM:-0400
TZOFFSETTO:-0500
TZNAME:EST
DTSTART:20251102T060000
END:STANDARD
BEGIN:DAYLIGHT
TZOFFSETFROM:-0500
TZOFFSETTO:-0400
TZNAME:EDT
DTSTART:20260308T070000
END:DAYLIGHT
BEGIN:STANDARD
TZOFFSETFROM:-0400
TZOFFSETTO:-0500
TZNAME:EST
DTSTART:20261101T060000
END:STANDARD
BEGIN:DAYLIGHT
TZOFFSETFROM:-0500
TZOFFSETTO:-0400
TZNAME:EDT
DTSTART:20270314T070000
END:DAYLIGHT
BEGIN:STANDARD
TZOFFSETFROM:-0400
TZOFFSETTO:-0500
TZNAME:EST
DTSTART:20271107T060000
END:STANDARD
END:VTIMEZONE
BEGIN:VEVENT
DTSTART;TZID=America/New_York:20260314T140000
DTEND;TZID=America/New_York:20260314T190000
DTSTAMP:20260422T045716
CREATED:20260216T111244Z
LAST-MODIFIED:20260216T111244Z
UID:10018403-1773496800-1773514800@test.acawso.org
SUMMARY:Family and Friends Picnic Speaker meeting
DESCRIPTION:Come join us for a fun-filled fellowship gathering with great food\, games\, and plenty of laughter!\nBring a side dish to share with friends and family.\nWe’re asking for a $5 donation to help cover burgers (vegan option available)\, hotdogs\, and condiments.\nSpeaker meeting starts at 3:00pm\nFor full event details\, visit the website:\nhttps://acaarizona.org/event/food-friends-picnic/ (acaarizona.org in Bing) \nSponsored by IG#9 \nScreenshot
URL:https://test.acawso.org/calendar/family-and-friends-picnic-speaker-meeting/
CATEGORIES:events
END:VEVENT
BEGIN:VEVENT
DTSTART;TZID=America/New_York:20260124T170000
DTEND;TZID=America/New_York:20260124T200000
DTSTAMP:20260422T045716
CREATED:20260117T113606Z
LAST-MODIFIED:20260117T113606Z
UID:10018185-1769274000-1769284800@test.acawso.org
SUMMARY:Recovery Revolution
DESCRIPTION:The Outreach Committee for the ACA Arizona Intergroup is hosting: Recovery Revolution\, a 12-Step Speaker Symposium uniting voices from Adult Children of Alcoholics and Dysfunctional Families (ACA)\, Alcoholics Anonymous (AA)\, and Codependents Anonymous (CoDA). \nCentered on the ACA community\, this gathering offers the experience\, strength\, and hope of fellow travelers through 30-minute speaker shares with 10-minute breaks\, opening readings from ACA literature\, and Speaker Panel Q&A. We will conclude with the ACA Promises and the ACA Serenity Prayer. \nSponsored by IG#9
URL:https://test.acawso.org/calendar/recovery-revolution/
CATEGORIES:events
END:VEVENT
END:VCALENDAR