BEGIN:VCALENDAR
VERSION:2.0
PRODID:-//ACA WSO - ECPv6.15.20//NONSGML v1.0//EN
CALSCALE:GREGORIAN
METHOD:PUBLISH
X-ORIGINAL-URL:https://test.acawso.org
X-WR-CALDESC:Events for ACA WSO
REFRESH-INTERVAL;VALUE=DURATION:PT1H
X-Robots-Tag:noindex
X-PUBLISHED-TTL:PT1H
BEGIN:VTIMEZONE
TZID:America/New_York
BEGIN:DAYLIGHT
TZOFFSETFROM:-0500
TZOFFSETTO:-0400
TZNAME:EDT
DTSTART:20230312T070000
END:DAYLIGHT
BEGIN:STANDARD
TZOFFSETFROM:-0400
TZOFFSETTO:-0500
TZNAME:EST
DTSTART:20231105T060000
END:STANDARD
BEGIN:DAYLIGHT
TZOFFSETFROM:-0500
TZOFFSETTO:-0400
TZNAME:EDT
DTSTART:20240310T070000
END:DAYLIGHT
BEGIN:STANDARD
TZOFFSETFROM:-0400
TZOFFSETTO:-0500
TZNAME:EST
DTSTART:20241103T060000
END:STANDARD
BEGIN:DAYLIGHT
TZOFFSETFROM:-0500
TZOFFSETTO:-0400
TZNAME:EDT
DTSTART:20250309T070000
END:DAYLIGHT
BEGIN:STANDARD
TZOFFSETFROM:-0400
TZOFFSETTO:-0500
TZNAME:EST
DTSTART:20251102T060000
END:STANDARD
BEGIN:DAYLIGHT
TZOFFSETFROM:-0500
TZOFFSETTO:-0400
TZNAME:EDT
DTSTART:20260308T070000
END:DAYLIGHT
BEGIN:STANDARD
TZOFFSETFROM:-0400
TZOFFSETTO:-0500
TZNAME:EST
DTSTART:20261101T060000
END:STANDARD
BEGIN:DAYLIGHT
TZOFFSETFROM:-0500
TZOFFSETTO:-0400
TZNAME:EDT
DTSTART:20270314T070000
END:DAYLIGHT
BEGIN:STANDARD
TZOFFSETFROM:-0400
TZOFFSETTO:-0500
TZNAME:EST
DTSTART:20271107T060000
END:STANDARD
END:VTIMEZONE
BEGIN:VEVENT
DTSTART;TZID=America/New_York:20260222T130000
DTEND;TZID=America/New_York:20260222T143000
DTSTAMP:20260422T002414
CREATED:20260131T144600Z
LAST-MODIFIED:20260131T144600Z
UID:10018374-1771765200-1771770600@test.acawso.org
SUMMARY:Honor Your Pet Day
DESCRIPTION:In ACA we spend a lot of time talking about our “relationships” – relationships with our families\, friends\, coworkers\, partners…but what about our non-human relationships? \nThe connections that we make with our pets are some of the most heartwarming\, joyous\, helpful\, and heartbreaking relationships we will have in our lives. \nWe invite you to join us to spend a few minutes talking about and celebrating any of the animal friends you have had in your life. We’d love to hear a little bit about them and the love\, joy\, and comfort they’ve given you. \nAll are welcome – hope to see you there! \nSunday February 22\, 1pm – 2:30pm (EST) \nMeeting ID: 869 5390 7432 \nPasscode: 841150 \nSponsored by IG#634
URL:https://test.acawso.org/calendar/honor-your-pet-day/
CATEGORIES:events
END:VEVENT
BEGIN:VEVENT
DTSTART;TZID=America/New_York:20250511T120000
DTEND;TZID=America/New_York:20250511T200000
DTSTAMP:20260422T002414
CREATED:20250503T105605Z
LAST-MODIFIED:20250503T105641Z
UID:10016607-1746964800-1746993600@test.acawso.org
SUMMARY:Loving Parent Zoom Marathon
DESCRIPTION:ACA meetings every hour starting at 12pm ET\, the last meeting starts at 7pm. \nSponsored by IG#634 and Region 2
URL:https://test.acawso.org/calendar/loving-parent-zoom-marathon/
CATEGORIES:events
END:VEVENT
BEGIN:VEVENT
DTSTART;TZID=America/New_York:20250329T120000
DTEND;TZID=America/New_York:20250329T140000
DTSTAMP:20260422T002414
CREATED:20250317T120619Z
LAST-MODIFIED:20250319T113210Z
UID:10015997-1743249600-1743256800@test.acawso.org
SUMMARY:Intergroup speaker meeting
DESCRIPTION:The UK Intergroup and the Massachusetts Intergroup are teaming up for an ACA speaker event.\nAn ACA member from England and an ACA member from Massachusetts will each share their stories of experience\, strength and hope for 20-30 minutes each. We hope you can join us! \nZoom ID:   847 5781 6824\nPasscode:  668305\n\nQuestions:  chair@acamassintergroup.org\nSponsored by IG#634
URL:https://test.acawso.org/calendar/intergroup-speaker-meeting/
CATEGORIES:events
END:VEVENT
BEGIN:VEVENT
DTSTART;TZID=America/New_York:20241124T100000
DTEND;TZID=America/New_York:20241124T110000
DTSTAMP:20260422T002414
CREATED:20241104T121525Z
LAST-MODIFIED:20241104T121525Z
UID:10014336-1732442400-1732446000@test.acawso.org
SUMMARY:Energizing Your Recovery with a Gratitude Practice
DESCRIPTION:=========\nACA MassIG\nMonthly Workshop Series \nEnergizing Your Recovery with a Gratitude Practice\n(Zoom Workshop) \n***New Start Time: Both Days start at 10am \nSame Workshop\nDifferent Times\nHeld on Two Days \nSat\, 11/23/24 (10am-11am)\nSun\, 11/24/24 (10am-11am) \n* * * * *\nHOW TO ATTEND: \nGo to:\nLink: zoom.us/join\nMtg ID: 882 5822 6595\nPasscode: <none> \nOr use:\nhttps://us02web.zoom.us/j/88258226595 \n– – – – – – – –\nHere’s a Link to convert to your local time:\nhttps://24timezones.com/difference/boston/ \n======== \nSponsored by IG#634
URL:https://test.acawso.org/calendar/energizing-your-recovery-with-a-gratitude-practice/2024-11-24/
CATEGORIES:events
END:VEVENT
BEGIN:VEVENT
DTSTART;TZID=America/New_York:20241123T100000
DTEND;TZID=America/New_York:20241123T110000
DTSTAMP:20260422T002414
CREATED:20241104T121525Z
LAST-MODIFIED:20241104T121525Z
UID:10014335-1732356000-1732359600@test.acawso.org
SUMMARY:Energizing Your Recovery with a Gratitude Practice
DESCRIPTION:=========\nACA MassIG\nMonthly Workshop Series \nEnergizing Your Recovery with a Gratitude Practice\n(Zoom Workshop) \n***New Start Time: Both Days start at 10am \nSame Workshop\nDifferent Times\nHeld on Two Days \nSat\, 11/23/24 (10am-11am)\nSun\, 11/24/24 (10am-11am) \n* * * * *\nHOW TO ATTEND: \nGo to:\nLink: zoom.us/join\nMtg ID: 882 5822 6595\nPasscode: <none> \nOr use:\nhttps://us02web.zoom.us/j/88258226595 \n– – – – – – – –\nHere’s a Link to convert to your local time:\nhttps://24timezones.com/difference/boston/ \n======== \nSponsored by IG#634
URL:https://test.acawso.org/calendar/energizing-your-recovery-with-a-gratitude-practice/2024-11-23/
CATEGORIES:events
END:VEVENT
BEGIN:VEVENT
DTSTART;TZID=America/New_York:20240728T100000
DTEND;TZID=America/New_York:20240728T113000
DTSTAMP:20260422T002414
CREATED:20240723T112724Z
LAST-MODIFIED:20240723T112724Z
UID:10013697-1722160800-1722166200@test.acawso.org
SUMMARY:Traditions Seven\, Eight\, and Nine Workshop
DESCRIPTION:=========\nACA MassIG\nMonthly Workshop Series \nTraditions Seven\, Eight\, and Nine Workshop\n(90 minutes\, not an hour). \n***New Start Time: Both Days start at 10am \nSame Workshop\nHeld on Two Days \nSat\, 7/27/2024 (10am-1130am)\nSun\, 7/28/2024 (10am-1130am) \n* * * * *\nHOW TO ATTEND: \nGo to:\nLink: zoom.us/join\nMtg ID: 899 6326 6242\nPasscode: <none> \nOr use:\nhttps://us02web.zoom.us/j/89963266242 \n– – – – – – – –\nHere’s a Link to convert to your local time:\nhttps://24timezones.com/difference/boston/ \nSponsored by IG#634
URL:https://test.acawso.org/calendar/traditions-seven-eight-and-nine-workshop/2024-07-28/
CATEGORIES:events
END:VEVENT
BEGIN:VEVENT
DTSTART;TZID=America/New_York:20240727T100000
DTEND;TZID=America/New_York:20240727T113000
DTSTAMP:20260422T002414
CREATED:20240723T112724Z
LAST-MODIFIED:20240723T112724Z
UID:10013696-1722074400-1722079800@test.acawso.org
SUMMARY:Traditions Seven\, Eight\, and Nine Workshop
DESCRIPTION:=========\nACA MassIG\nMonthly Workshop Series \nTraditions Seven\, Eight\, and Nine Workshop\n(90 minutes\, not an hour). \n***New Start Time: Both Days start at 10am \nSame Workshop\nHeld on Two Days \nSat\, 7/27/2024 (10am-1130am)\nSun\, 7/28/2024 (10am-1130am) \n* * * * *\nHOW TO ATTEND: \nGo to:\nLink: zoom.us/join\nMtg ID: 899 6326 6242\nPasscode: <none> \nOr use:\nhttps://us02web.zoom.us/j/89963266242 \n– – – – – – – –\nHere’s a Link to convert to your local time:\nhttps://24timezones.com/difference/boston/ \nSponsored by IG#634
URL:https://test.acawso.org/calendar/traditions-seven-eight-and-nine-workshop/2024-07-27/
CATEGORIES:events
END:VEVENT
BEGIN:VEVENT
DTSTART;TZID=America/New_York:20240428T100000
DTEND;TZID=America/New_York:20240428T113000
DTSTAMP:20260422T002414
CREATED:20240408T180426Z
LAST-MODIFIED:20240408T180426Z
UID:10012658-1714298400-1714303800@test.acawso.org
SUMMARY:Traditions 4-5-6 (Zoom Workshop)
DESCRIPTION:Traditions Four\, Five\, and Six Workshop \n(Zoom Link: https://us02web.zoom.us/j/89963266242 )\n(Workshops start at 10am EST both days)\n(90 minutes\, not an hour) \nTraditions in ACA are there to guide groups to healthy group functioning. Whether it’s your\nlocal meeting\, the Intergroup\, or an ACA Service Board\, being well acquainted with the\nTraditions can help you to be more effective in your participation. \nAt the workshop all participants will hear information on each Tradition\, have a chance to write\ndown their reflections and thoughts about the Tradition and how they can apply it in the future.\nTime will be given for several participants to share what they’ve written\, if they so choose. \nSponsored by IG #634 \nDownloadable flyer.
URL:https://test.acawso.org/calendar/traditions-4-5-6-zoom-workshop/2024-04-28/
CATEGORIES:events
END:VEVENT
BEGIN:VEVENT
DTSTART;TZID=America/New_York:20240427T100000
DTEND;TZID=America/New_York:20240427T113000
DTSTAMP:20260422T002414
CREATED:20240408T180426Z
LAST-MODIFIED:20240408T180426Z
UID:10012657-1714212000-1714217400@test.acawso.org
SUMMARY:Traditions 4-5-6 (Zoom Workshop)
DESCRIPTION:Traditions Four\, Five\, and Six Workshop \n(Zoom Link: https://us02web.zoom.us/j/89963266242 )\n(Workshops start at 10am EST both days)\n(90 minutes\, not an hour) \nTraditions in ACA are there to guide groups to healthy group functioning. Whether it’s your\nlocal meeting\, the Intergroup\, or an ACA Service Board\, being well acquainted with the\nTraditions can help you to be more effective in your participation. \nAt the workshop all participants will hear information on each Tradition\, have a chance to write\ndown their reflections and thoughts about the Tradition and how they can apply it in the future.\nTime will be given for several participants to share what they’ve written\, if they so choose. \nSponsored by IG #634 \nDownloadable flyer.
URL:https://test.acawso.org/calendar/traditions-4-5-6-zoom-workshop/2024-04-27/
CATEGORIES:events
END:VEVENT
BEGIN:VEVENT
DTSTART;TZID=America/New_York:20240331T100000
DTEND;TZID=America/New_York:20240331T110000
DTSTAMP:20260422T002414
CREATED:20240311T120447Z
LAST-MODIFIED:20240311T120520Z
UID:10012579-1711879200-1711882800@test.acawso.org
SUMMARY:Easing Into Service at Your ACA Home Group (Zoom Workshop)
DESCRIPTION:ACA MassIG\nMonthly Workshop Series \nEasing Into Service at Your ACA Home Group (Zoom Workshop) \n***New Start Time: Both Days start at 10am \nSame Workshop\nDifferent Times\nHeld on Two Days \nSat\, 3/30 (10am-11am)\nSun\, 3/31 (10am-11am) \n* * * * *\nHOW TO ATTEND: \nGo to:\nLink: zoom.us/join\nMtg ID: 899 6326 6242\nPasscode: <none> \nOr use:\nhttps://us02web.zoom.us/j/89963266242 \n– – – – – – – –\nHere’s a Link to convert to your local time:\nhttps://24timezones.com/difference/boston/ \nSponsored by IG#634 \nDownloadable flyer.
URL:https://test.acawso.org/calendar/easing-into-service-at-your-aca-home-group-zoom-workshop/2024-03-31/
CATEGORIES:events
END:VEVENT
BEGIN:VEVENT
DTSTART;TZID=America/New_York:20240330T100000
DTEND;TZID=America/New_York:20240330T110000
DTSTAMP:20260422T002414
CREATED:20240311T120447Z
LAST-MODIFIED:20240311T120520Z
UID:10012578-1711792800-1711796400@test.acawso.org
SUMMARY:Easing Into Service at Your ACA Home Group (Zoom Workshop)
DESCRIPTION:ACA MassIG\nMonthly Workshop Series \nEasing Into Service at Your ACA Home Group (Zoom Workshop) \n***New Start Time: Both Days start at 10am \nSame Workshop\nDifferent Times\nHeld on Two Days \nSat\, 3/30 (10am-11am)\nSun\, 3/31 (10am-11am) \n* * * * *\nHOW TO ATTEND: \nGo to:\nLink: zoom.us/join\nMtg ID: 899 6326 6242\nPasscode: <none> \nOr use:\nhttps://us02web.zoom.us/j/89963266242 \n– – – – – – – –\nHere’s a Link to convert to your local time:\nhttps://24timezones.com/difference/boston/ \nSponsored by IG#634 \nDownloadable flyer.
URL:https://test.acawso.org/calendar/easing-into-service-at-your-aca-home-group-zoom-workshop/2024-03-30/
CATEGORIES:events
END:VEVENT
END:VCALENDAR