BEGIN:VCALENDAR
VERSION:2.0
PRODID:-//ACA WSO - ECPv6.15.20//NONSGML v1.0//EN
CALSCALE:GREGORIAN
METHOD:PUBLISH
X-WR-CALNAME:ACA WSO
X-ORIGINAL-URL:https://test.acawso.org
X-WR-CALDESC:Events for ACA WSO
REFRESH-INTERVAL;VALUE=DURATION:PT1H
X-Robots-Tag:noindex
X-PUBLISHED-TTL:PT1H
BEGIN:VTIMEZONE
TZID:America/New_York
BEGIN:DAYLIGHT
TZOFFSETFROM:-0500
TZOFFSETTO:-0400
TZNAME:EDT
DTSTART:20240310T070000
END:DAYLIGHT
BEGIN:STANDARD
TZOFFSETFROM:-0400
TZOFFSETTO:-0500
TZNAME:EST
DTSTART:20241103T060000
END:STANDARD
BEGIN:DAYLIGHT
TZOFFSETFROM:-0500
TZOFFSETTO:-0400
TZNAME:EDT
DTSTART:20250309T070000
END:DAYLIGHT
BEGIN:STANDARD
TZOFFSETFROM:-0400
TZOFFSETTO:-0500
TZNAME:EST
DTSTART:20251102T060000
END:STANDARD
BEGIN:DAYLIGHT
TZOFFSETFROM:-0500
TZOFFSETTO:-0400
TZNAME:EDT
DTSTART:20260308T070000
END:DAYLIGHT
BEGIN:STANDARD
TZOFFSETFROM:-0400
TZOFFSETTO:-0500
TZNAME:EST
DTSTART:20261101T060000
END:STANDARD
END:VTIMEZONE
BEGIN:VEVENT
DTSTART;TZID=America/New_York:20251225T140000
DTEND;TZID=America/New_York:20251225T200000
DTSTAMP:20260424T154748
CREATED:20251224T111801Z
LAST-MODIFIED:20251224T111801Z
UID:10018102-1766671200-1766692800@test.acawso.org
SUMMARY:ACA Holiday Meeting and Dinner
DESCRIPTION:You’re warmly invited to our ACA Holiday Meeting & Potluck Dinner \nJoin us for an evening of community\, connection\, and fellowship filled with good food\, meaningful conversation\, and shared support. The holidays can be a tender time\, and you don’t have to spend it alone. \nPlease RSVP for the Greater Toronto Area Regional Intergroup’s 34th Annual Holiday Event on Thursday\, December 25th. \nWe will gather for an ACA meeting followed by a potluck dinner at \nThe Church of the Redeemer\n162 Bloor Street West\, Toronto\n(Avenue Road & Bloor Street West – lower level\, use side entrance) \n2:00 – 4:00 pm ACA Meeting\, topic ‘The Attitude of Gratitude’\n5:00 – 8:00 pm Holiday Potluck Dinner \nThere will be recovery\, fun\, games\, great food and fellowship. \nYour early RSVP will help us coordinate food\, but it is not required. Please RSVP here: https://acatoronto.org/2025-holiday-meeting-and-dinner/ \nWe’d love to have you join us! \nQuestions? Email us at acatorontoevents@gmail.com \nSponsored by IG#558
URL:https://test.acawso.org/calendar/aca-holiday-meeting-and-dinner/
CATEGORIES:events
END:VEVENT
BEGIN:VEVENT
DTSTART;TZID=America/New_York:20250314T160000
DTEND;TZID=America/New_York:20250315T210000
DTSTAMP:20260424T154748
CREATED:20250217T114120Z
LAST-MODIFIED:20250217T114120Z
UID:10015780-1741968000-1742072400@test.acawso.org
SUMMARY:ACA Hospitality Suite at the Toronto AA Convention
DESCRIPTION:Join us at the ACA Hospitality Suite at the 2025 AA Ontario Regional Conference (ORC)\nDate: Friday March 14th – Saturday March 15th\, 2025\nLocation: Sheraton Center Toronto Hotel \nHave a coffee or a snack\, attend an ACA meeting\, welcome new members\, check out the ACA literature\, chat with your ACA fellow travellers \nJoin our in-person ACA Meetings:\nFriday March 14 8:30 – 10:00pm\nSaturday March 15 11:00 – 12:30pm (Reparenting Check-in)\nSaturday March 15 5:00 – 6:30pm \nPlease consider giving service at the ACA Hospitality Suite.\nRegister to volunteer here: https://form.jotform.com/250138205317246 \n• Questions? Contact us at: acatorontoevents@gmail.com \nFor more information about the event please visit https://acatoronto.org/aca-hospitality-suite-at-the-2025-aa-ontario-regional-conference-orc/ \nSponsored by IG#558
URL:https://test.acawso.org/calendar/aca-hospitality-suite-at-the-toronto-aa-convention/
CATEGORIES:events
END:VEVENT
END:VCALENDAR