BEGIN:VCALENDAR
VERSION:2.0
PRODID:-//ACA WSO - ECPv6.15.20//NONSGML v1.0//EN
CALSCALE:GREGORIAN
METHOD:PUBLISH
X-WR-CALNAME:ACA WSO
X-ORIGINAL-URL:https://test.acawso.org
X-WR-CALDESC:Events for ACA WSO
REFRESH-INTERVAL;VALUE=DURATION:PT1H
X-Robots-Tag:noindex
X-PUBLISHED-TTL:PT1H
BEGIN:VTIMEZONE
TZID:America/New_York
BEGIN:DAYLIGHT
TZOFFSETFROM:-0500
TZOFFSETTO:-0400
TZNAME:EDT
DTSTART:20250309T070000
END:DAYLIGHT
BEGIN:STANDARD
TZOFFSETFROM:-0400
TZOFFSETTO:-0500
TZNAME:EST
DTSTART:20251102T060000
END:STANDARD
BEGIN:DAYLIGHT
TZOFFSETFROM:-0500
TZOFFSETTO:-0400
TZNAME:EDT
DTSTART:20260308T070000
END:DAYLIGHT
BEGIN:STANDARD
TZOFFSETFROM:-0400
TZOFFSETTO:-0500
TZNAME:EST
DTSTART:20261101T060000
END:STANDARD
BEGIN:DAYLIGHT
TZOFFSETFROM:-0500
TZOFFSETTO:-0400
TZNAME:EDT
DTSTART:20270314T070000
END:DAYLIGHT
BEGIN:STANDARD
TZOFFSETFROM:-0400
TZOFFSETTO:-0500
TZNAME:EST
DTSTART:20271107T060000
END:STANDARD
BEGIN:DAYLIGHT
TZOFFSETFROM:-0500
TZOFFSETTO:-0400
TZNAME:EDT
DTSTART:20280312T070000
END:DAYLIGHT
BEGIN:STANDARD
TZOFFSETFROM:-0400
TZOFFSETTO:-0500
TZNAME:EST
DTSTART:20281105T060000
END:STANDARD
BEGIN:DAYLIGHT
TZOFFSETFROM:-0500
TZOFFSETTO:-0400
TZNAME:EDT
DTSTART:20290311T070000
END:DAYLIGHT
BEGIN:STANDARD
TZOFFSETFROM:-0400
TZOFFSETTO:-0500
TZNAME:EST
DTSTART:20291104T060000
END:STANDARD
END:VTIMEZONE
BEGIN:VEVENT
DTSTART;TZID=America/New_York:20260514T160000
DTEND;TZID=America/New_York:20260514T173000
DTSTAMP:20260421T102847
CREATED:20260306T145257Z
LAST-MODIFIED:20260306T145429Z
UID:10018623-1778774400-1778779800@test.acawso.org
SUMMARY:Finance Committee
DESCRIPTION:The finance committee meets Thursdays from 4:00 pm ET – 5:30pm ET.  We are looking for members with business\, finance\, or bookkeeping experience. \n  \nPlease contact treasurer@adultchildren.org or finance@acawso.org if you are interested in visiting or joining the finance committee.
URL:https://test.acawso.org/calendar/finance-committee-3/2026-05-14/
CATEGORIES:committees
END:VEVENT
BEGIN:VEVENT
DTSTART;TZID=America/New_York:20260611T160000
DTEND;TZID=America/New_York:20260611T173000
DTSTAMP:20260421T102847
CREATED:20260306T145257Z
LAST-MODIFIED:20260306T145429Z
UID:10018624-1781193600-1781199000@test.acawso.org
SUMMARY:Finance Committee
DESCRIPTION:The finance committee meets Thursdays from 4:00 pm ET – 5:30pm ET.  We are looking for members with business\, finance\, or bookkeeping experience. \n  \nPlease contact treasurer@adultchildren.org or finance@acawso.org if you are interested in visiting or joining the finance committee.
URL:https://test.acawso.org/calendar/finance-committee-3/2026-06-11/
CATEGORIES:committees
END:VEVENT
BEGIN:VEVENT
DTSTART;TZID=America/New_York:20260709T160000
DTEND;TZID=America/New_York:20260709T173000
DTSTAMP:20260421T102847
CREATED:20260306T145257Z
LAST-MODIFIED:20260306T145429Z
UID:10018625-1783612800-1783618200@test.acawso.org
SUMMARY:Finance Committee
DESCRIPTION:The finance committee meets Thursdays from 4:00 pm ET – 5:30pm ET.  We are looking for members with business\, finance\, or bookkeeping experience. \n  \nPlease contact treasurer@adultchildren.org or finance@acawso.org if you are interested in visiting or joining the finance committee.
URL:https://test.acawso.org/calendar/finance-committee-3/2026-07-09/
CATEGORIES:committees
END:VEVENT
BEGIN:VEVENT
DTSTART;TZID=America/New_York:20260813T160000
DTEND;TZID=America/New_York:20260813T173000
DTSTAMP:20260421T102847
CREATED:20260306T145257Z
LAST-MODIFIED:20260306T145429Z
UID:10018626-1786636800-1786642200@test.acawso.org
SUMMARY:Finance Committee
DESCRIPTION:The finance committee meets Thursdays from 4:00 pm ET – 5:30pm ET.  We are looking for members with business\, finance\, or bookkeeping experience. \n  \nPlease contact treasurer@adultchildren.org or finance@acawso.org if you are interested in visiting or joining the finance committee.
URL:https://test.acawso.org/calendar/finance-committee-3/2026-08-13/
CATEGORIES:committees
END:VEVENT
BEGIN:VEVENT
DTSTART;TZID=America/New_York:20260910T160000
DTEND;TZID=America/New_York:20260910T173000
DTSTAMP:20260421T102847
CREATED:20260306T145257Z
LAST-MODIFIED:20260306T145429Z
UID:10018627-1789056000-1789061400@test.acawso.org
SUMMARY:Finance Committee
DESCRIPTION:The finance committee meets Thursdays from 4:00 pm ET – 5:30pm ET.  We are looking for members with business\, finance\, or bookkeeping experience. \n  \nPlease contact treasurer@adultchildren.org or finance@acawso.org if you are interested in visiting or joining the finance committee.
URL:https://test.acawso.org/calendar/finance-committee-3/2026-09-10/
CATEGORIES:committees
END:VEVENT
BEGIN:VEVENT
DTSTART;TZID=America/New_York:20261008T160000
DTEND;TZID=America/New_York:20261008T173000
DTSTAMP:20260421T102847
CREATED:20260306T145257Z
LAST-MODIFIED:20260306T145429Z
UID:10018628-1791475200-1791480600@test.acawso.org
SUMMARY:Finance Committee
DESCRIPTION:The finance committee meets Thursdays from 4:00 pm ET – 5:30pm ET.  We are looking for members with business\, finance\, or bookkeeping experience. \n  \nPlease contact treasurer@adultchildren.org or finance@acawso.org if you are interested in visiting or joining the finance committee.
URL:https://test.acawso.org/calendar/finance-committee-3/2026-10-08/
CATEGORIES:committees
END:VEVENT
BEGIN:VEVENT
DTSTART;TZID=America/New_York:20261112T160000
DTEND;TZID=America/New_York:20261112T173000
DTSTAMP:20260421T102847
CREATED:20260306T145257Z
LAST-MODIFIED:20260306T145429Z
UID:10018629-1794499200-1794504600@test.acawso.org
SUMMARY:Finance Committee
DESCRIPTION:The finance committee meets Thursdays from 4:00 pm ET – 5:30pm ET.  We are looking for members with business\, finance\, or bookkeeping experience. \n  \nPlease contact treasurer@adultchildren.org or finance@acawso.org if you are interested in visiting or joining the finance committee.
URL:https://test.acawso.org/calendar/finance-committee-3/2026-11-12/
CATEGORIES:committees
END:VEVENT
BEGIN:VEVENT
DTSTART;TZID=America/New_York:20261210T160000
DTEND;TZID=America/New_York:20261210T173000
DTSTAMP:20260421T102847
CREATED:20260306T145257Z
LAST-MODIFIED:20260306T145429Z
UID:10018630-1796918400-1796923800@test.acawso.org
SUMMARY:Finance Committee
DESCRIPTION:The finance committee meets Thursdays from 4:00 pm ET – 5:30pm ET.  We are looking for members with business\, finance\, or bookkeeping experience. \n  \nPlease contact treasurer@adultchildren.org or finance@acawso.org if you are interested in visiting or joining the finance committee.
URL:https://test.acawso.org/calendar/finance-committee-3/2026-12-10/
CATEGORIES:committees
END:VEVENT
BEGIN:VEVENT
DTSTART;TZID=America/New_York:20270114T160000
DTEND;TZID=America/New_York:20270114T173000
DTSTAMP:20260421T102847
CREATED:20260306T145257Z
LAST-MODIFIED:20260306T145429Z
UID:10018631-1799942400-1799947800@test.acawso.org
SUMMARY:Finance Committee
DESCRIPTION:The finance committee meets Thursdays from 4:00 pm ET – 5:30pm ET.  We are looking for members with business\, finance\, or bookkeeping experience. \n  \nPlease contact treasurer@adultchildren.org or finance@acawso.org if you are interested in visiting or joining the finance committee.
URL:https://test.acawso.org/calendar/finance-committee-3/2027-01-14/
CATEGORIES:committees
END:VEVENT
BEGIN:VEVENT
DTSTART;TZID=America/New_York:20270211T160000
DTEND;TZID=America/New_York:20270211T173000
DTSTAMP:20260421T102847
CREATED:20260306T145257Z
LAST-MODIFIED:20260306T145429Z
UID:10018632-1802361600-1802367000@test.acawso.org
SUMMARY:Finance Committee
DESCRIPTION:The finance committee meets Thursdays from 4:00 pm ET – 5:30pm ET.  We are looking for members with business\, finance\, or bookkeeping experience. \n  \nPlease contact treasurer@adultchildren.org or finance@acawso.org if you are interested in visiting or joining the finance committee.
URL:https://test.acawso.org/calendar/finance-committee-3/2027-02-11/
CATEGORIES:committees
END:VEVENT
BEGIN:VEVENT
DTSTART;TZID=America/New_York:20270311T160000
DTEND;TZID=America/New_York:20270311T173000
DTSTAMP:20260421T102847
CREATED:20260306T145257Z
LAST-MODIFIED:20260306T145429Z
UID:10018633-1804780800-1804786200@test.acawso.org
SUMMARY:Finance Committee
DESCRIPTION:The finance committee meets Thursdays from 4:00 pm ET – 5:30pm ET.  We are looking for members with business\, finance\, or bookkeeping experience. \n  \nPlease contact treasurer@adultchildren.org or finance@acawso.org if you are interested in visiting or joining the finance committee.
URL:https://test.acawso.org/calendar/finance-committee-3/2027-03-11/
CATEGORIES:committees
END:VEVENT
BEGIN:VEVENT
DTSTART;TZID=America/New_York:20270408T160000
DTEND;TZID=America/New_York:20270408T173000
DTSTAMP:20260421T102847
CREATED:20260306T145257Z
LAST-MODIFIED:20260306T145429Z
UID:10018634-1807200000-1807205400@test.acawso.org
SUMMARY:Finance Committee
DESCRIPTION:The finance committee meets Thursdays from 4:00 pm ET – 5:30pm ET.  We are looking for members with business\, finance\, or bookkeeping experience. \n  \nPlease contact treasurer@adultchildren.org or finance@acawso.org if you are interested in visiting or joining the finance committee.
URL:https://test.acawso.org/calendar/finance-committee-3/2027-04-08/
CATEGORIES:committees
END:VEVENT
BEGIN:VEVENT
DTSTART;TZID=America/New_York:20270513T160000
DTEND;TZID=America/New_York:20270513T173000
DTSTAMP:20260421T102847
CREATED:20260306T145257Z
LAST-MODIFIED:20260306T145429Z
UID:10018635-1810224000-1810229400@test.acawso.org
SUMMARY:Finance Committee
DESCRIPTION:The finance committee meets Thursdays from 4:00 pm ET – 5:30pm ET.  We are looking for members with business\, finance\, or bookkeeping experience. \n  \nPlease contact treasurer@adultchildren.org or finance@acawso.org if you are interested in visiting or joining the finance committee.
URL:https://test.acawso.org/calendar/finance-committee-3/2027-05-13/
CATEGORIES:committees
END:VEVENT
BEGIN:VEVENT
DTSTART;TZID=America/New_York:20270610T160000
DTEND;TZID=America/New_York:20270610T173000
DTSTAMP:20260421T102847
CREATED:20260306T145257Z
LAST-MODIFIED:20260306T145429Z
UID:10018636-1812643200-1812648600@test.acawso.org
SUMMARY:Finance Committee
DESCRIPTION:The finance committee meets Thursdays from 4:00 pm ET – 5:30pm ET.  We are looking for members with business\, finance\, or bookkeeping experience. \n  \nPlease contact treasurer@adultchildren.org or finance@acawso.org if you are interested in visiting or joining the finance committee.
URL:https://test.acawso.org/calendar/finance-committee-3/2027-06-10/
CATEGORIES:committees
END:VEVENT
BEGIN:VEVENT
DTSTART;TZID=America/New_York:20270708T160000
DTEND;TZID=America/New_York:20270708T173000
DTSTAMP:20260421T102847
CREATED:20260306T145257Z
LAST-MODIFIED:20260306T145429Z
UID:10018637-1815062400-1815067800@test.acawso.org
SUMMARY:Finance Committee
DESCRIPTION:The finance committee meets Thursdays from 4:00 pm ET – 5:30pm ET.  We are looking for members with business\, finance\, or bookkeeping experience. \n  \nPlease contact treasurer@adultchildren.org or finance@acawso.org if you are interested in visiting or joining the finance committee.
URL:https://test.acawso.org/calendar/finance-committee-3/2027-07-08/
CATEGORIES:committees
END:VEVENT
BEGIN:VEVENT
DTSTART;TZID=America/New_York:20270812T160000
DTEND;TZID=America/New_York:20270812T173000
DTSTAMP:20260421T102847
CREATED:20260306T145257Z
LAST-MODIFIED:20260306T145429Z
UID:10018638-1818086400-1818091800@test.acawso.org
SUMMARY:Finance Committee
DESCRIPTION:The finance committee meets Thursdays from 4:00 pm ET – 5:30pm ET.  We are looking for members with business\, finance\, or bookkeeping experience. \n  \nPlease contact treasurer@adultchildren.org or finance@acawso.org if you are interested in visiting or joining the finance committee.
URL:https://test.acawso.org/calendar/finance-committee-3/2027-08-12/
CATEGORIES:committees
END:VEVENT
BEGIN:VEVENT
DTSTART;TZID=America/New_York:20270909T160000
DTEND;TZID=America/New_York:20270909T173000
DTSTAMP:20260421T102847
CREATED:20260306T145257Z
LAST-MODIFIED:20260306T145429Z
UID:10018639-1820505600-1820511000@test.acawso.org
SUMMARY:Finance Committee
DESCRIPTION:The finance committee meets Thursdays from 4:00 pm ET – 5:30pm ET.  We are looking for members with business\, finance\, or bookkeeping experience. \n  \nPlease contact treasurer@adultchildren.org or finance@acawso.org if you are interested in visiting or joining the finance committee.
URL:https://test.acawso.org/calendar/finance-committee-3/2027-09-09/
CATEGORIES:committees
END:VEVENT
BEGIN:VEVENT
DTSTART;TZID=America/New_York:20271014T160000
DTEND;TZID=America/New_York:20271014T173000
DTSTAMP:20260421T102847
CREATED:20260306T145257Z
LAST-MODIFIED:20260306T145429Z
UID:10018640-1823529600-1823535000@test.acawso.org
SUMMARY:Finance Committee
DESCRIPTION:The finance committee meets Thursdays from 4:00 pm ET – 5:30pm ET.  We are looking for members with business\, finance\, or bookkeeping experience. \n  \nPlease contact treasurer@adultchildren.org or finance@acawso.org if you are interested in visiting or joining the finance committee.
URL:https://test.acawso.org/calendar/finance-committee-3/2027-10-14/
CATEGORIES:committees
END:VEVENT
BEGIN:VEVENT
DTSTART;TZID=America/New_York:20271111T160000
DTEND;TZID=America/New_York:20271111T173000
DTSTAMP:20260421T102847
CREATED:20260306T145257Z
LAST-MODIFIED:20260306T145429Z
UID:10018641-1825948800-1825954200@test.acawso.org
SUMMARY:Finance Committee
DESCRIPTION:The finance committee meets Thursdays from 4:00 pm ET – 5:30pm ET.  We are looking for members with business\, finance\, or bookkeeping experience. \n  \nPlease contact treasurer@adultchildren.org or finance@acawso.org if you are interested in visiting or joining the finance committee.
URL:https://test.acawso.org/calendar/finance-committee-3/2027-11-11/
CATEGORIES:committees
END:VEVENT
BEGIN:VEVENT
DTSTART;TZID=America/New_York:20271209T160000
DTEND;TZID=America/New_York:20271209T173000
DTSTAMP:20260421T102847
CREATED:20260306T145257Z
LAST-MODIFIED:20260306T145429Z
UID:10018642-1828368000-1828373400@test.acawso.org
SUMMARY:Finance Committee
DESCRIPTION:The finance committee meets Thursdays from 4:00 pm ET – 5:30pm ET.  We are looking for members with business\, finance\, or bookkeeping experience. \n  \nPlease contact treasurer@adultchildren.org or finance@acawso.org if you are interested in visiting or joining the finance committee.
URL:https://test.acawso.org/calendar/finance-committee-3/2027-12-09/
CATEGORIES:committees
END:VEVENT
BEGIN:VEVENT
DTSTART;TZID=America/New_York:20280113T160000
DTEND;TZID=America/New_York:20280113T173000
DTSTAMP:20260421T102847
CREATED:20260306T145257Z
LAST-MODIFIED:20260306T145429Z
UID:10018643-1831392000-1831397400@test.acawso.org
SUMMARY:Finance Committee
DESCRIPTION:The finance committee meets Thursdays from 4:00 pm ET – 5:30pm ET.  We are looking for members with business\, finance\, or bookkeeping experience. \n  \nPlease contact treasurer@adultchildren.org or finance@acawso.org if you are interested in visiting or joining the finance committee.
URL:https://test.acawso.org/calendar/finance-committee-3/2028-01-13/
CATEGORIES:committees
END:VEVENT
BEGIN:VEVENT
DTSTART;TZID=America/New_York:20280210T160000
DTEND;TZID=America/New_York:20280210T173000
DTSTAMP:20260421T102847
CREATED:20260306T145257Z
LAST-MODIFIED:20260306T145429Z
UID:10018644-1833811200-1833816600@test.acawso.org
SUMMARY:Finance Committee
DESCRIPTION:The finance committee meets Thursdays from 4:00 pm ET – 5:30pm ET.  We are looking for members with business\, finance\, or bookkeeping experience. \n  \nPlease contact treasurer@adultchildren.org or finance@acawso.org if you are interested in visiting or joining the finance committee.
URL:https://test.acawso.org/calendar/finance-committee-3/2028-02-10/
CATEGORIES:committees
END:VEVENT
BEGIN:VEVENT
DTSTART;TZID=America/New_York:20280309T160000
DTEND;TZID=America/New_York:20280309T173000
DTSTAMP:20260421T102847
CREATED:20260306T145257Z
LAST-MODIFIED:20260306T145429Z
UID:10018645-1836230400-1836235800@test.acawso.org
SUMMARY:Finance Committee
DESCRIPTION:The finance committee meets Thursdays from 4:00 pm ET – 5:30pm ET.  We are looking for members with business\, finance\, or bookkeeping experience. \n  \nPlease contact treasurer@adultchildren.org or finance@acawso.org if you are interested in visiting or joining the finance committee.
URL:https://test.acawso.org/calendar/finance-committee-3/2028-03-09/
CATEGORIES:committees
END:VEVENT
BEGIN:VEVENT
DTSTART;TZID=America/New_York:20280413T160000
DTEND;TZID=America/New_York:20280413T173000
DTSTAMP:20260421T102847
CREATED:20260306T145257Z
LAST-MODIFIED:20260306T145429Z
UID:10018646-1839254400-1839259800@test.acawso.org
SUMMARY:Finance Committee
DESCRIPTION:The finance committee meets Thursdays from 4:00 pm ET – 5:30pm ET.  We are looking for members with business\, finance\, or bookkeeping experience. \n  \nPlease contact treasurer@adultchildren.org or finance@acawso.org if you are interested in visiting or joining the finance committee.
URL:https://test.acawso.org/calendar/finance-committee-3/2028-04-13/
CATEGORIES:committees
END:VEVENT
BEGIN:VEVENT
DTSTART;TZID=America/New_York:20280511T160000
DTEND;TZID=America/New_York:20280511T173000
DTSTAMP:20260421T102847
CREATED:20260306T145257Z
LAST-MODIFIED:20260306T145429Z
UID:10018647-1841673600-1841679000@test.acawso.org
SUMMARY:Finance Committee
DESCRIPTION:The finance committee meets Thursdays from 4:00 pm ET – 5:30pm ET.  We are looking for members with business\, finance\, or bookkeeping experience. \n  \nPlease contact treasurer@adultchildren.org or finance@acawso.org if you are interested in visiting or joining the finance committee.
URL:https://test.acawso.org/calendar/finance-committee-3/2028-05-11/
CATEGORIES:committees
END:VEVENT
BEGIN:VEVENT
DTSTART;TZID=America/New_York:20280608T160000
DTEND;TZID=America/New_York:20280608T173000
DTSTAMP:20260421T102847
CREATED:20260306T145257Z
LAST-MODIFIED:20260306T145429Z
UID:10018648-1844092800-1844098200@test.acawso.org
SUMMARY:Finance Committee
DESCRIPTION:The finance committee meets Thursdays from 4:00 pm ET – 5:30pm ET.  We are looking for members with business\, finance\, or bookkeeping experience. \n  \nPlease contact treasurer@adultchildren.org or finance@acawso.org if you are interested in visiting or joining the finance committee.
URL:https://test.acawso.org/calendar/finance-committee-3/2028-06-08/
CATEGORIES:committees
END:VEVENT
BEGIN:VEVENT
DTSTART;TZID=America/New_York:20280713T160000
DTEND;TZID=America/New_York:20280713T173000
DTSTAMP:20260421T102847
CREATED:20260306T145257Z
LAST-MODIFIED:20260306T145429Z
UID:10018649-1847116800-1847122200@test.acawso.org
SUMMARY:Finance Committee
DESCRIPTION:The finance committee meets Thursdays from 4:00 pm ET – 5:30pm ET.  We are looking for members with business\, finance\, or bookkeeping experience. \n  \nPlease contact treasurer@adultchildren.org or finance@acawso.org if you are interested in visiting or joining the finance committee.
URL:https://test.acawso.org/calendar/finance-committee-3/2028-07-13/
CATEGORIES:committees
END:VEVENT
BEGIN:VEVENT
DTSTART;TZID=America/New_York:20280810T160000
DTEND;TZID=America/New_York:20280810T173000
DTSTAMP:20260421T102847
CREATED:20260306T145257Z
LAST-MODIFIED:20260306T145429Z
UID:10018650-1849536000-1849541400@test.acawso.org
SUMMARY:Finance Committee
DESCRIPTION:The finance committee meets Thursdays from 4:00 pm ET – 5:30pm ET.  We are looking for members with business\, finance\, or bookkeeping experience. \n  \nPlease contact treasurer@adultchildren.org or finance@acawso.org if you are interested in visiting or joining the finance committee.
URL:https://test.acawso.org/calendar/finance-committee-3/2028-08-10/
CATEGORIES:committees
END:VEVENT
BEGIN:VEVENT
DTSTART;TZID=America/New_York:20280914T160000
DTEND;TZID=America/New_York:20280914T173000
DTSTAMP:20260421T102847
CREATED:20260306T145257Z
LAST-MODIFIED:20260306T145429Z
UID:10018651-1852560000-1852565400@test.acawso.org
SUMMARY:Finance Committee
DESCRIPTION:The finance committee meets Thursdays from 4:00 pm ET – 5:30pm ET.  We are looking for members with business\, finance\, or bookkeeping experience. \n  \nPlease contact treasurer@adultchildren.org or finance@acawso.org if you are interested in visiting or joining the finance committee.
URL:https://test.acawso.org/calendar/finance-committee-3/2028-09-14/
CATEGORIES:committees
END:VEVENT
BEGIN:VEVENT
DTSTART;TZID=America/New_York:20281012T160000
DTEND;TZID=America/New_York:20281012T173000
DTSTAMP:20260421T102847
CREATED:20260306T145257Z
LAST-MODIFIED:20260306T145429Z
UID:10018652-1854979200-1854984600@test.acawso.org
SUMMARY:Finance Committee
DESCRIPTION:The finance committee meets Thursdays from 4:00 pm ET – 5:30pm ET.  We are looking for members with business\, finance\, or bookkeeping experience. \n  \nPlease contact treasurer@adultchildren.org or finance@acawso.org if you are interested in visiting or joining the finance committee.
URL:https://test.acawso.org/calendar/finance-committee-3/2028-10-12/
CATEGORIES:committees
END:VEVENT
END:VCALENDAR