BEGIN:VCALENDAR
VERSION:2.0
PRODID:-//ACA WSO - ECPv6.15.20//NONSGML v1.0//EN
CALSCALE:GREGORIAN
METHOD:PUBLISH
X-WR-CALNAME:ACA WSO
X-ORIGINAL-URL:https://test.acawso.org
X-WR-CALDESC:Events for ACA WSO
REFRESH-INTERVAL;VALUE=DURATION:PT1H
X-Robots-Tag:noindex
X-PUBLISHED-TTL:PT1H
BEGIN:VTIMEZONE
TZID:America/New_York
BEGIN:DAYLIGHT
TZOFFSETFROM:-0500
TZOFFSETTO:-0400
TZNAME:EDT
DTSTART:20250309T070000
END:DAYLIGHT
BEGIN:STANDARD
TZOFFSETFROM:-0400
TZOFFSETTO:-0500
TZNAME:EST
DTSTART:20251102T060000
END:STANDARD
BEGIN:DAYLIGHT
TZOFFSETFROM:-0500
TZOFFSETTO:-0400
TZNAME:EDT
DTSTART:20260308T070000
END:DAYLIGHT
BEGIN:STANDARD
TZOFFSETFROM:-0400
TZOFFSETTO:-0500
TZNAME:EST
DTSTART:20261101T060000
END:STANDARD
BEGIN:DAYLIGHT
TZOFFSETFROM:-0500
TZOFFSETTO:-0400
TZNAME:EDT
DTSTART:20270314T070000
END:DAYLIGHT
BEGIN:STANDARD
TZOFFSETFROM:-0400
TZOFFSETTO:-0500
TZNAME:EST
DTSTART:20271107T060000
END:STANDARD
BEGIN:DAYLIGHT
TZOFFSETFROM:-0500
TZOFFSETTO:-0400
TZNAME:EDT
DTSTART:20280312T070000
END:DAYLIGHT
BEGIN:STANDARD
TZOFFSETFROM:-0400
TZOFFSETTO:-0500
TZNAME:EST
DTSTART:20281105T060000
END:STANDARD
BEGIN:DAYLIGHT
TZOFFSETFROM:-0500
TZOFFSETTO:-0400
TZNAME:EDT
DTSTART:20290311T070000
END:DAYLIGHT
BEGIN:STANDARD
TZOFFSETFROM:-0400
TZOFFSETTO:-0500
TZNAME:EST
DTSTART:20291104T060000
END:STANDARD
END:VTIMEZONE
BEGIN:VEVENT
DTSTART;TZID=America/New_York:20260501T180000
DTEND;TZID=America/New_York:20260501T190000
DTSTAMP:20260421T195127
CREATED:20260409T160520Z
LAST-MODIFIED:20260409T160532Z
UID:10009451-1777658400-1777662000@test.acawso.org
SUMMARY:Data Analysis Committee
DESCRIPTION:  \nData Analysis Committee meets every third Friday the month at  3 PM PDT\, 4 PM MDT\, 5 PM CDT\, 6 PM EDT\, Saturday at 5 AM Thailand/Vietnam\, 6 AM Singapore/Taiwan/China\, 7 AM Japan \nFor information how to attend please contact the committee.
URL:https://test.acawso.org/calendar/data-analysis-committee-2-2-2-2-3-3/
CATEGORIES:committees
END:VEVENT
BEGIN:VEVENT
DTSTART;TZID=America/New_York:20260619T180000
DTEND;TZID=America/New_York:20260619T190000
DTSTAMP:20260421T195127
CREATED:20250816T110018Z
LAST-MODIFIED:20260302T110304Z
UID:10009453-1781892000-1781895600@test.acawso.org
SUMMARY:Data Analysis Committee
DESCRIPTION:  \nData Analysis Committee meets every third Friday the month at  3 PM PDT\, 4 PM MDT\, 5 PM CDT\, 6 PM EDT\, Saturday at 5 AM Thailand/Vietnam\, 6 AM Singapore/Taiwan/China\, 7 AM Japan \nFor information how to attend please contact the committee.
URL:https://test.acawso.org/calendar/data-analysis-committee-2-2-2-2-3/2026-06-19/
CATEGORIES:committees
END:VEVENT
BEGIN:VEVENT
DTSTART;TZID=America/New_York:20260717T180000
DTEND;TZID=America/New_York:20260717T190000
DTSTAMP:20260421T195127
CREATED:20250816T110018Z
LAST-MODIFIED:20260302T110304Z
UID:10009454-1784311200-1784314800@test.acawso.org
SUMMARY:Data Analysis Committee
DESCRIPTION:  \nData Analysis Committee meets every third Friday the month at  3 PM PDT\, 4 PM MDT\, 5 PM CDT\, 6 PM EDT\, Saturday at 5 AM Thailand/Vietnam\, 6 AM Singapore/Taiwan/China\, 7 AM Japan \nFor information how to attend please contact the committee.
URL:https://test.acawso.org/calendar/data-analysis-committee-2-2-2-2-3/2026-07-17/
CATEGORIES:committees
END:VEVENT
BEGIN:VEVENT
DTSTART;TZID=America/New_York:20260821T180000
DTEND;TZID=America/New_York:20260821T190000
DTSTAMP:20260421T195127
CREATED:20250816T110018Z
LAST-MODIFIED:20260302T110304Z
UID:10009455-1787335200-1787338800@test.acawso.org
SUMMARY:Data Analysis Committee
DESCRIPTION:  \nData Analysis Committee meets every third Friday the month at  3 PM PDT\, 4 PM MDT\, 5 PM CDT\, 6 PM EDT\, Saturday at 5 AM Thailand/Vietnam\, 6 AM Singapore/Taiwan/China\, 7 AM Japan \nFor information how to attend please contact the committee.
URL:https://test.acawso.org/calendar/data-analysis-committee-2-2-2-2-3/2026-08-21/
CATEGORIES:committees
END:VEVENT
BEGIN:VEVENT
DTSTART;TZID=America/New_York:20260918T180000
DTEND;TZID=America/New_York:20260918T190000
DTSTAMP:20260421T195127
CREATED:20250816T110018Z
LAST-MODIFIED:20260302T110304Z
UID:10009399-1789754400-1789758000@test.acawso.org
SUMMARY:Data Analysis Committee
DESCRIPTION:  \nData Analysis Committee meets every third Friday the month at  3 PM PDT\, 4 PM MDT\, 5 PM CDT\, 6 PM EDT\, Saturday at 5 AM Thailand/Vietnam\, 6 AM Singapore/Taiwan/China\, 7 AM Japan \nFor information how to attend please contact the committee.
URL:https://test.acawso.org/calendar/data-analysis-committee-2-2-2-2-3/2026-09-18/
CATEGORIES:committees
END:VEVENT
BEGIN:VEVENT
DTSTART;TZID=America/New_York:20261016T180000
DTEND;TZID=America/New_York:20261016T190000
DTSTAMP:20260421T195127
CREATED:20250816T110018Z
LAST-MODIFIED:20260302T110304Z
UID:10009456-1792173600-1792177200@test.acawso.org
SUMMARY:Data Analysis Committee
DESCRIPTION:  \nData Analysis Committee meets every third Friday the month at  3 PM PDT\, 4 PM MDT\, 5 PM CDT\, 6 PM EDT\, Saturday at 5 AM Thailand/Vietnam\, 6 AM Singapore/Taiwan/China\, 7 AM Japan \nFor information how to attend please contact the committee.
URL:https://test.acawso.org/calendar/data-analysis-committee-2-2-2-2-3/2026-10-16/
CATEGORIES:committees
END:VEVENT
BEGIN:VEVENT
DTSTART;TZID=America/New_York:20261120T180000
DTEND;TZID=America/New_York:20261120T190000
DTSTAMP:20260421T195127
CREATED:20250816T110018Z
LAST-MODIFIED:20260302T110304Z
UID:10009457-1795197600-1795201200@test.acawso.org
SUMMARY:Data Analysis Committee
DESCRIPTION:  \nData Analysis Committee meets every third Friday the month at  3 PM PDT\, 4 PM MDT\, 5 PM CDT\, 6 PM EDT\, Saturday at 5 AM Thailand/Vietnam\, 6 AM Singapore/Taiwan/China\, 7 AM Japan \nFor information how to attend please contact the committee.
URL:https://test.acawso.org/calendar/data-analysis-committee-2-2-2-2-3/2026-11-20/
CATEGORIES:committees
END:VEVENT
BEGIN:VEVENT
DTSTART;TZID=America/New_York:20261218T180000
DTEND;TZID=America/New_York:20261218T190000
DTSTAMP:20260421T195127
CREATED:20250816T110018Z
LAST-MODIFIED:20260302T110304Z
UID:10009402-1797616800-1797620400@test.acawso.org
SUMMARY:Data Analysis Committee
DESCRIPTION:  \nData Analysis Committee meets every third Friday the month at  3 PM PDT\, 4 PM MDT\, 5 PM CDT\, 6 PM EDT\, Saturday at 5 AM Thailand/Vietnam\, 6 AM Singapore/Taiwan/China\, 7 AM Japan \nFor information how to attend please contact the committee.
URL:https://test.acawso.org/calendar/data-analysis-committee-2-2-2-2-3/2026-12-18/
CATEGORIES:committees
END:VEVENT
BEGIN:VEVENT
DTSTART;TZID=America/New_York:20270115T180000
DTEND;TZID=America/New_York:20270115T190000
DTSTAMP:20260421T195127
CREATED:20250816T110018Z
LAST-MODIFIED:20260302T110304Z
UID:10009458-1800036000-1800039600@test.acawso.org
SUMMARY:Data Analysis Committee
DESCRIPTION:  \nData Analysis Committee meets every third Friday the month at  3 PM PDT\, 4 PM MDT\, 5 PM CDT\, 6 PM EDT\, Saturday at 5 AM Thailand/Vietnam\, 6 AM Singapore/Taiwan/China\, 7 AM Japan \nFor information how to attend please contact the committee.
URL:https://test.acawso.org/calendar/data-analysis-committee-2-2-2-2-3/2027-01-15/
CATEGORIES:committees
END:VEVENT
BEGIN:VEVENT
DTSTART;TZID=America/New_York:20270219T180000
DTEND;TZID=America/New_York:20270219T190000
DTSTAMP:20260421T195127
CREATED:20250816T110018Z
LAST-MODIFIED:20260302T110304Z
UID:10009459-1803060000-1803063600@test.acawso.org
SUMMARY:Data Analysis Committee
DESCRIPTION:  \nData Analysis Committee meets every third Friday the month at  3 PM PDT\, 4 PM MDT\, 5 PM CDT\, 6 PM EDT\, Saturday at 5 AM Thailand/Vietnam\, 6 AM Singapore/Taiwan/China\, 7 AM Japan \nFor information how to attend please contact the committee.
URL:https://test.acawso.org/calendar/data-analysis-committee-2-2-2-2-3/2027-02-19/
CATEGORIES:committees
END:VEVENT
BEGIN:VEVENT
DTSTART;TZID=America/New_York:20270319T180000
DTEND;TZID=America/New_York:20270319T190000
DTSTAMP:20260421T195127
CREATED:20250816T110018Z
LAST-MODIFIED:20260302T110304Z
UID:10009460-1805479200-1805482800@test.acawso.org
SUMMARY:Data Analysis Committee
DESCRIPTION:  \nData Analysis Committee meets every third Friday the month at  3 PM PDT\, 4 PM MDT\, 5 PM CDT\, 6 PM EDT\, Saturday at 5 AM Thailand/Vietnam\, 6 AM Singapore/Taiwan/China\, 7 AM Japan \nFor information how to attend please contact the committee.
URL:https://test.acawso.org/calendar/data-analysis-committee-2-2-2-2-3/2027-03-19/
CATEGORIES:committees
END:VEVENT
BEGIN:VEVENT
DTSTART;TZID=America/New_York:20270416T180000
DTEND;TZID=America/New_York:20270416T190000
DTSTAMP:20260421T195127
CREATED:20250816T110018Z
LAST-MODIFIED:20260302T110304Z
UID:10009461-1807898400-1807902000@test.acawso.org
SUMMARY:Data Analysis Committee
DESCRIPTION:  \nData Analysis Committee meets every third Friday the month at  3 PM PDT\, 4 PM MDT\, 5 PM CDT\, 6 PM EDT\, Saturday at 5 AM Thailand/Vietnam\, 6 AM Singapore/Taiwan/China\, 7 AM Japan \nFor information how to attend please contact the committee.
URL:https://test.acawso.org/calendar/data-analysis-committee-2-2-2-2-3/2027-04-16/
CATEGORIES:committees
END:VEVENT
BEGIN:VEVENT
DTSTART;TZID=America/New_York:20270521T180000
DTEND;TZID=America/New_York:20270521T190000
DTSTAMP:20260421T195127
CREATED:20250816T110018Z
LAST-MODIFIED:20260302T110304Z
UID:10009462-1810922400-1810926000@test.acawso.org
SUMMARY:Data Analysis Committee
DESCRIPTION:  \nData Analysis Committee meets every third Friday the month at  3 PM PDT\, 4 PM MDT\, 5 PM CDT\, 6 PM EDT\, Saturday at 5 AM Thailand/Vietnam\, 6 AM Singapore/Taiwan/China\, 7 AM Japan \nFor information how to attend please contact the committee.
URL:https://test.acawso.org/calendar/data-analysis-committee-2-2-2-2-3/2027-05-21/
CATEGORIES:committees
END:VEVENT
BEGIN:VEVENT
DTSTART;TZID=America/New_York:20270618T180000
DTEND;TZID=America/New_York:20270618T190000
DTSTAMP:20260421T195127
CREATED:20250816T110018Z
LAST-MODIFIED:20260302T110304Z
UID:10009408-1813341600-1813345200@test.acawso.org
SUMMARY:Data Analysis Committee
DESCRIPTION:  \nData Analysis Committee meets every third Friday the month at  3 PM PDT\, 4 PM MDT\, 5 PM CDT\, 6 PM EDT\, Saturday at 5 AM Thailand/Vietnam\, 6 AM Singapore/Taiwan/China\, 7 AM Japan \nFor information how to attend please contact the committee.
URL:https://test.acawso.org/calendar/data-analysis-committee-2-2-2-2-3/2027-06-18/
CATEGORIES:committees
END:VEVENT
BEGIN:VEVENT
DTSTART;TZID=America/New_York:20270716T180000
DTEND;TZID=America/New_York:20270716T190000
DTSTAMP:20260421T195127
CREATED:20250816T110018Z
LAST-MODIFIED:20260302T110304Z
UID:10009463-1815760800-1815764400@test.acawso.org
SUMMARY:Data Analysis Committee
DESCRIPTION:  \nData Analysis Committee meets every third Friday the month at  3 PM PDT\, 4 PM MDT\, 5 PM CDT\, 6 PM EDT\, Saturday at 5 AM Thailand/Vietnam\, 6 AM Singapore/Taiwan/China\, 7 AM Japan \nFor information how to attend please contact the committee.
URL:https://test.acawso.org/calendar/data-analysis-committee-2-2-2-2-3/2027-07-16/
CATEGORIES:committees
END:VEVENT
BEGIN:VEVENT
DTSTART;TZID=America/New_York:20270820T180000
DTEND;TZID=America/New_York:20270820T190000
DTSTAMP:20260421T195127
CREATED:20250816T110018Z
LAST-MODIFIED:20260302T110304Z
UID:10009464-1818784800-1818788400@test.acawso.org
SUMMARY:Data Analysis Committee
DESCRIPTION:  \nData Analysis Committee meets every third Friday the month at  3 PM PDT\, 4 PM MDT\, 5 PM CDT\, 6 PM EDT\, Saturday at 5 AM Thailand/Vietnam\, 6 AM Singapore/Taiwan/China\, 7 AM Japan \nFor information how to attend please contact the committee.
URL:https://test.acawso.org/calendar/data-analysis-committee-2-2-2-2-3/2027-08-20/
CATEGORIES:committees
END:VEVENT
BEGIN:VEVENT
DTSTART;TZID=America/New_York:20270917T180000
DTEND;TZID=America/New_York:20270917T190000
DTSTAMP:20260421T195127
CREATED:20250816T110018Z
LAST-MODIFIED:20260302T110304Z
UID:10009465-1821204000-1821207600@test.acawso.org
SUMMARY:Data Analysis Committee
DESCRIPTION:  \nData Analysis Committee meets every third Friday the month at  3 PM PDT\, 4 PM MDT\, 5 PM CDT\, 6 PM EDT\, Saturday at 5 AM Thailand/Vietnam\, 6 AM Singapore/Taiwan/China\, 7 AM Japan \nFor information how to attend please contact the committee.
URL:https://test.acawso.org/calendar/data-analysis-committee-2-2-2-2-3/2027-09-17/
CATEGORIES:committees
END:VEVENT
BEGIN:VEVENT
DTSTART;TZID=America/New_York:20271015T180000
DTEND;TZID=America/New_York:20271015T190000
DTSTAMP:20260421T195127
CREATED:20250816T110018Z
LAST-MODIFIED:20260302T110304Z
UID:10009466-1823623200-1823626800@test.acawso.org
SUMMARY:Data Analysis Committee
DESCRIPTION:  \nData Analysis Committee meets every third Friday the month at  3 PM PDT\, 4 PM MDT\, 5 PM CDT\, 6 PM EDT\, Saturday at 5 AM Thailand/Vietnam\, 6 AM Singapore/Taiwan/China\, 7 AM Japan \nFor information how to attend please contact the committee.
URL:https://test.acawso.org/calendar/data-analysis-committee-2-2-2-2-3/2027-10-15/
CATEGORIES:committees
END:VEVENT
BEGIN:VEVENT
DTSTART;TZID=America/New_York:20271119T180000
DTEND;TZID=America/New_York:20271119T190000
DTSTAMP:20260421T195127
CREATED:20250816T110018Z
LAST-MODIFIED:20260302T110304Z
UID:10009467-1826647200-1826650800@test.acawso.org
SUMMARY:Data Analysis Committee
DESCRIPTION:  \nData Analysis Committee meets every third Friday the month at  3 PM PDT\, 4 PM MDT\, 5 PM CDT\, 6 PM EDT\, Saturday at 5 AM Thailand/Vietnam\, 6 AM Singapore/Taiwan/China\, 7 AM Japan \nFor information how to attend please contact the committee.
URL:https://test.acawso.org/calendar/data-analysis-committee-2-2-2-2-3/2027-11-19/
CATEGORIES:committees
END:VEVENT
BEGIN:VEVENT
DTSTART;TZID=America/New_York:20271217T180000
DTEND;TZID=America/New_York:20271217T190000
DTSTAMP:20260421T195127
CREATED:20250816T110018Z
LAST-MODIFIED:20260302T110304Z
UID:10009468-1829066400-1829070000@test.acawso.org
SUMMARY:Data Analysis Committee
DESCRIPTION:  \nData Analysis Committee meets every third Friday the month at  3 PM PDT\, 4 PM MDT\, 5 PM CDT\, 6 PM EDT\, Saturday at 5 AM Thailand/Vietnam\, 6 AM Singapore/Taiwan/China\, 7 AM Japan \nFor information how to attend please contact the committee.
URL:https://test.acawso.org/calendar/data-analysis-committee-2-2-2-2-3/2027-12-17/
CATEGORIES:committees
END:VEVENT
BEGIN:VEVENT
DTSTART;TZID=America/New_York:20280121T180000
DTEND;TZID=America/New_York:20280121T190000
DTSTAMP:20260421T195127
CREATED:20250816T110018Z
LAST-MODIFIED:20260302T110304Z
UID:10009469-1832090400-1832094000@test.acawso.org
SUMMARY:Data Analysis Committee
DESCRIPTION:  \nData Analysis Committee meets every third Friday the month at  3 PM PDT\, 4 PM MDT\, 5 PM CDT\, 6 PM EDT\, Saturday at 5 AM Thailand/Vietnam\, 6 AM Singapore/Taiwan/China\, 7 AM Japan \nFor information how to attend please contact the committee.
URL:https://test.acawso.org/calendar/data-analysis-committee-2-2-2-2-3/2028-01-21/
CATEGORIES:committees
END:VEVENT
BEGIN:VEVENT
DTSTART;TZID=America/New_York:20280218T180000
DTEND;TZID=America/New_York:20280218T190000
DTSTAMP:20260421T195127
CREATED:20250816T110018Z
LAST-MODIFIED:20260302T110304Z
UID:10009416-1834509600-1834513200@test.acawso.org
SUMMARY:Data Analysis Committee
DESCRIPTION:  \nData Analysis Committee meets every third Friday the month at  3 PM PDT\, 4 PM MDT\, 5 PM CDT\, 6 PM EDT\, Saturday at 5 AM Thailand/Vietnam\, 6 AM Singapore/Taiwan/China\, 7 AM Japan \nFor information how to attend please contact the committee.
URL:https://test.acawso.org/calendar/data-analysis-committee-2-2-2-2-3/2028-02-18/
CATEGORIES:committees
END:VEVENT
BEGIN:VEVENT
DTSTART;TZID=America/New_York:20280317T180000
DTEND;TZID=America/New_York:20280317T190000
DTSTAMP:20260421T195127
CREATED:20250816T110018Z
LAST-MODIFIED:20260302T110304Z
UID:10009470-1836928800-1836932400@test.acawso.org
SUMMARY:Data Analysis Committee
DESCRIPTION:  \nData Analysis Committee meets every third Friday the month at  3 PM PDT\, 4 PM MDT\, 5 PM CDT\, 6 PM EDT\, Saturday at 5 AM Thailand/Vietnam\, 6 AM Singapore/Taiwan/China\, 7 AM Japan \nFor information how to attend please contact the committee.
URL:https://test.acawso.org/calendar/data-analysis-committee-2-2-2-2-3/2028-03-17/
CATEGORIES:committees
END:VEVENT
BEGIN:VEVENT
DTSTART;TZID=America/New_York:20280421T180000
DTEND;TZID=America/New_York:20280421T190000
DTSTAMP:20260421T195127
CREATED:20250816T110018Z
LAST-MODIFIED:20260302T110304Z
UID:10009471-1839952800-1839956400@test.acawso.org
SUMMARY:Data Analysis Committee
DESCRIPTION:  \nData Analysis Committee meets every third Friday the month at  3 PM PDT\, 4 PM MDT\, 5 PM CDT\, 6 PM EDT\, Saturday at 5 AM Thailand/Vietnam\, 6 AM Singapore/Taiwan/China\, 7 AM Japan \nFor information how to attend please contact the committee.
URL:https://test.acawso.org/calendar/data-analysis-committee-2-2-2-2-3/2028-04-21/
CATEGORIES:committees
END:VEVENT
BEGIN:VEVENT
DTSTART;TZID=America/New_York:20280519T180000
DTEND;TZID=America/New_York:20280519T190000
DTSTAMP:20260421T195127
CREATED:20250816T110018Z
LAST-MODIFIED:20260302T110304Z
UID:10009472-1842372000-1842375600@test.acawso.org
SUMMARY:Data Analysis Committee
DESCRIPTION:  \nData Analysis Committee meets every third Friday the month at  3 PM PDT\, 4 PM MDT\, 5 PM CDT\, 6 PM EDT\, Saturday at 5 AM Thailand/Vietnam\, 6 AM Singapore/Taiwan/China\, 7 AM Japan \nFor information how to attend please contact the committee.
URL:https://test.acawso.org/calendar/data-analysis-committee-2-2-2-2-3/2028-05-19/
CATEGORIES:committees
END:VEVENT
BEGIN:VEVENT
DTSTART;TZID=America/New_York:20280616T180000
DTEND;TZID=America/New_York:20280616T190000
DTSTAMP:20260421T195127
CREATED:20250816T110018Z
LAST-MODIFIED:20260302T110304Z
UID:10009473-1844791200-1844794800@test.acawso.org
SUMMARY:Data Analysis Committee
DESCRIPTION:  \nData Analysis Committee meets every third Friday the month at  3 PM PDT\, 4 PM MDT\, 5 PM CDT\, 6 PM EDT\, Saturday at 5 AM Thailand/Vietnam\, 6 AM Singapore/Taiwan/China\, 7 AM Japan \nFor information how to attend please contact the committee.
URL:https://test.acawso.org/calendar/data-analysis-committee-2-2-2-2-3/2028-06-16/
CATEGORIES:committees
END:VEVENT
BEGIN:VEVENT
DTSTART;TZID=America/New_York:20280721T180000
DTEND;TZID=America/New_York:20280721T190000
DTSTAMP:20260421T195127
CREATED:20250816T110018Z
LAST-MODIFIED:20260302T110304Z
UID:10012721-1847815200-1847818800@test.acawso.org
SUMMARY:Data Analysis Committee
DESCRIPTION:  \nData Analysis Committee meets every third Friday the month at  3 PM PDT\, 4 PM MDT\, 5 PM CDT\, 6 PM EDT\, Saturday at 5 AM Thailand/Vietnam\, 6 AM Singapore/Taiwan/China\, 7 AM Japan \nFor information how to attend please contact the committee.
URL:https://test.acawso.org/calendar/data-analysis-committee-2-2-2-2-3/2028-07-21/
CATEGORIES:committees
END:VEVENT
BEGIN:VEVENT
DTSTART;TZID=America/New_York:20280818T180000
DTEND;TZID=America/New_York:20280818T190000
DTSTAMP:20260421T195127
CREATED:20250816T110018Z
LAST-MODIFIED:20260302T110304Z
UID:10012722-1850234400-1850238000@test.acawso.org
SUMMARY:Data Analysis Committee
DESCRIPTION:  \nData Analysis Committee meets every third Friday the month at  3 PM PDT\, 4 PM MDT\, 5 PM CDT\, 6 PM EDT\, Saturday at 5 AM Thailand/Vietnam\, 6 AM Singapore/Taiwan/China\, 7 AM Japan \nFor information how to attend please contact the committee.
URL:https://test.acawso.org/calendar/data-analysis-committee-2-2-2-2-3/2028-08-18/
CATEGORIES:committees
END:VEVENT
BEGIN:VEVENT
DTSTART;TZID=America/New_York:20280915T180000
DTEND;TZID=America/New_York:20280915T190000
DTSTAMP:20260421T195127
CREATED:20250816T110018Z
LAST-MODIFIED:20260302T110304Z
UID:10012723-1852653600-1852657200@test.acawso.org
SUMMARY:Data Analysis Committee
DESCRIPTION:  \nData Analysis Committee meets every third Friday the month at  3 PM PDT\, 4 PM MDT\, 5 PM CDT\, 6 PM EDT\, Saturday at 5 AM Thailand/Vietnam\, 6 AM Singapore/Taiwan/China\, 7 AM Japan \nFor information how to attend please contact the committee.
URL:https://test.acawso.org/calendar/data-analysis-committee-2-2-2-2-3/2028-09-15/
CATEGORIES:committees
END:VEVENT
BEGIN:VEVENT
DTSTART;TZID=America/New_York:20281020T180000
DTEND;TZID=America/New_York:20281020T190000
DTSTAMP:20260421T195127
CREATED:20250816T110018Z
LAST-MODIFIED:20260302T110304Z
UID:10012724-1855677600-1855681200@test.acawso.org
SUMMARY:Data Analysis Committee
DESCRIPTION:  \nData Analysis Committee meets every third Friday the month at  3 PM PDT\, 4 PM MDT\, 5 PM CDT\, 6 PM EDT\, Saturday at 5 AM Thailand/Vietnam\, 6 AM Singapore/Taiwan/China\, 7 AM Japan \nFor information how to attend please contact the committee.
URL:https://test.acawso.org/calendar/data-analysis-committee-2-2-2-2-3/2028-10-20/
CATEGORIES:committees
END:VEVENT
END:VCALENDAR