BEGIN:VCALENDAR
VERSION:2.0
PRODID:-//ACA WSO - ECPv6.15.20//NONSGML v1.0//EN
CALSCALE:GREGORIAN
METHOD:PUBLISH
X-WR-CALNAME:ACA WSO
X-ORIGINAL-URL:https://test.acawso.org
X-WR-CALDESC:Events for ACA WSO
REFRESH-INTERVAL;VALUE=DURATION:PT1H
X-Robots-Tag:noindex
X-PUBLISHED-TTL:PT1H
BEGIN:VTIMEZONE
TZID:America/New_York
BEGIN:DAYLIGHT
TZOFFSETFROM:-0500
TZOFFSETTO:-0400
TZNAME:EDT
DTSTART:20250309T070000
END:DAYLIGHT
BEGIN:STANDARD
TZOFFSETFROM:-0400
TZOFFSETTO:-0500
TZNAME:EST
DTSTART:20251102T060000
END:STANDARD
BEGIN:DAYLIGHT
TZOFFSETFROM:-0500
TZOFFSETTO:-0400
TZNAME:EDT
DTSTART:20260308T070000
END:DAYLIGHT
BEGIN:STANDARD
TZOFFSETFROM:-0400
TZOFFSETTO:-0500
TZNAME:EST
DTSTART:20261101T060000
END:STANDARD
BEGIN:DAYLIGHT
TZOFFSETFROM:-0500
TZOFFSETTO:-0400
TZNAME:EDT
DTSTART:20270314T070000
END:DAYLIGHT
BEGIN:STANDARD
TZOFFSETFROM:-0400
TZOFFSETTO:-0500
TZNAME:EST
DTSTART:20271107T060000
END:STANDARD
BEGIN:DAYLIGHT
TZOFFSETFROM:-0500
TZOFFSETTO:-0400
TZNAME:EDT
DTSTART:20280312T070000
END:DAYLIGHT
BEGIN:STANDARD
TZOFFSETFROM:-0400
TZOFFSETTO:-0500
TZNAME:EST
DTSTART:20281105T060000
END:STANDARD
BEGIN:DAYLIGHT
TZOFFSETFROM:-0500
TZOFFSETTO:-0400
TZNAME:EDT
DTSTART:20290311T070000
END:DAYLIGHT
BEGIN:STANDARD
TZOFFSETFROM:-0400
TZOFFSETTO:-0500
TZNAME:EST
DTSTART:20291104T060000
END:STANDARD
END:VTIMEZONE
BEGIN:VEVENT
DTSTART;TZID=America/New_York:20260516T123000
DTEND;TZID=America/New_York:20260516T140000
DTSTAMP:20260420T231027
CREATED:20250426T032033Z
LAST-MODIFIED:20250827T230724Z
UID:10017600-1778934600-1778940000@test.acawso.org
SUMMARY:ABC/QDM Committee
DESCRIPTION:The ABC/AWC committee meets first and third Saturday from 12:30 to 2 pm EDT \nJoin Zoom Meeting\nhttps://us02web.zoom.us/j/87582913615?pwd=dWpPNVJPcVNiVjJxbGgzbFVwY05EZz09 \nMeeting ID: 875 8291 3615\nPasscode: ABC2022 \nContact abc@adultchildren.org for more details. \n 
URL:https://test.acawso.org/calendar/abc-awc-committee-4-2-3/2026-05-16/
CATEGORIES:committees
END:VEVENT
BEGIN:VEVENT
DTSTART;TZID=America/New_York:20260620T123000
DTEND;TZID=America/New_York:20260620T140000
DTSTAMP:20260420T231027
CREATED:20250426T032033Z
LAST-MODIFIED:20250827T230724Z
UID:10017601-1781958600-1781964000@test.acawso.org
SUMMARY:ABC/QDM Committee
DESCRIPTION:The ABC/AWC committee meets first and third Saturday from 12:30 to 2 pm EDT \nJoin Zoom Meeting\nhttps://us02web.zoom.us/j/87582913615?pwd=dWpPNVJPcVNiVjJxbGgzbFVwY05EZz09 \nMeeting ID: 875 8291 3615\nPasscode: ABC2022 \nContact abc@adultchildren.org for more details. \n 
URL:https://test.acawso.org/calendar/abc-awc-committee-4-2-3/2026-06-20/
CATEGORIES:committees
END:VEVENT
BEGIN:VEVENT
DTSTART;TZID=America/New_York:20260718T123000
DTEND;TZID=America/New_York:20260718T140000
DTSTAMP:20260420T231027
CREATED:20250426T032033Z
LAST-MODIFIED:20250827T230724Z
UID:10017602-1784377800-1784383200@test.acawso.org
SUMMARY:ABC/QDM Committee
DESCRIPTION:The ABC/AWC committee meets first and third Saturday from 12:30 to 2 pm EDT \nJoin Zoom Meeting\nhttps://us02web.zoom.us/j/87582913615?pwd=dWpPNVJPcVNiVjJxbGgzbFVwY05EZz09 \nMeeting ID: 875 8291 3615\nPasscode: ABC2022 \nContact abc@adultchildren.org for more details. \n 
URL:https://test.acawso.org/calendar/abc-awc-committee-4-2-3/2026-07-18/
CATEGORIES:committees
END:VEVENT
BEGIN:VEVENT
DTSTART;TZID=America/New_York:20260815T123000
DTEND;TZID=America/New_York:20260815T140000
DTSTAMP:20260420T231027
CREATED:20250426T032033Z
LAST-MODIFIED:20250827T230724Z
UID:10017603-1786797000-1786802400@test.acawso.org
SUMMARY:ABC/QDM Committee
DESCRIPTION:The ABC/AWC committee meets first and third Saturday from 12:30 to 2 pm EDT \nJoin Zoom Meeting\nhttps://us02web.zoom.us/j/87582913615?pwd=dWpPNVJPcVNiVjJxbGgzbFVwY05EZz09 \nMeeting ID: 875 8291 3615\nPasscode: ABC2022 \nContact abc@adultchildren.org for more details. \n 
URL:https://test.acawso.org/calendar/abc-awc-committee-4-2-3/2026-08-15/
CATEGORIES:committees
END:VEVENT
BEGIN:VEVENT
DTSTART;TZID=America/New_York:20260919T123000
DTEND;TZID=America/New_York:20260919T140000
DTSTAMP:20260420T231027
CREATED:20250426T032033Z
LAST-MODIFIED:20250827T230724Z
UID:10015028-1789821000-1789826400@test.acawso.org
SUMMARY:ABC/QDM Committee
DESCRIPTION:The ABC/AWC committee meets first and third Saturday from 12:30 to 2 pm EDT \nJoin Zoom Meeting\nhttps://us02web.zoom.us/j/87582913615?pwd=dWpPNVJPcVNiVjJxbGgzbFVwY05EZz09 \nMeeting ID: 875 8291 3615\nPasscode: ABC2022 \nContact abc@adultchildren.org for more details. \n 
URL:https://test.acawso.org/calendar/abc-awc-committee-4-2-3/2026-09-19/
CATEGORIES:committees
END:VEVENT
BEGIN:VEVENT
DTSTART;TZID=America/New_York:20261017T123000
DTEND;TZID=America/New_York:20261017T140000
DTSTAMP:20260420T231027
CREATED:20250426T032033Z
LAST-MODIFIED:20250827T230724Z
UID:10017604-1792240200-1792245600@test.acawso.org
SUMMARY:ABC/QDM Committee
DESCRIPTION:The ABC/AWC committee meets first and third Saturday from 12:30 to 2 pm EDT \nJoin Zoom Meeting\nhttps://us02web.zoom.us/j/87582913615?pwd=dWpPNVJPcVNiVjJxbGgzbFVwY05EZz09 \nMeeting ID: 875 8291 3615\nPasscode: ABC2022 \nContact abc@adultchildren.org for more details. \n 
URL:https://test.acawso.org/calendar/abc-awc-committee-4-2-3/2026-10-17/
CATEGORIES:committees
END:VEVENT
BEGIN:VEVENT
DTSTART;TZID=America/New_York:20261121T123000
DTEND;TZID=America/New_York:20261121T140000
DTSTAMP:20260420T231027
CREATED:20250426T032033Z
LAST-MODIFIED:20250827T230724Z
UID:10017605-1795264200-1795269600@test.acawso.org
SUMMARY:ABC/QDM Committee
DESCRIPTION:The ABC/AWC committee meets first and third Saturday from 12:30 to 2 pm EDT \nJoin Zoom Meeting\nhttps://us02web.zoom.us/j/87582913615?pwd=dWpPNVJPcVNiVjJxbGgzbFVwY05EZz09 \nMeeting ID: 875 8291 3615\nPasscode: ABC2022 \nContact abc@adultchildren.org for more details. \n 
URL:https://test.acawso.org/calendar/abc-awc-committee-4-2-3/2026-11-21/
CATEGORIES:committees
END:VEVENT
BEGIN:VEVENT
DTSTART;TZID=America/New_York:20261219T123000
DTEND;TZID=America/New_York:20261219T140000
DTSTAMP:20260420T231027
CREATED:20250426T032033Z
LAST-MODIFIED:20250827T230724Z
UID:10015031-1797683400-1797688800@test.acawso.org
SUMMARY:ABC/QDM Committee
DESCRIPTION:The ABC/AWC committee meets first and third Saturday from 12:30 to 2 pm EDT \nJoin Zoom Meeting\nhttps://us02web.zoom.us/j/87582913615?pwd=dWpPNVJPcVNiVjJxbGgzbFVwY05EZz09 \nMeeting ID: 875 8291 3615\nPasscode: ABC2022 \nContact abc@adultchildren.org for more details. \n 
URL:https://test.acawso.org/calendar/abc-awc-committee-4-2-3/2026-12-19/
CATEGORIES:committees
END:VEVENT
BEGIN:VEVENT
DTSTART;TZID=America/New_York:20270116T123000
DTEND;TZID=America/New_York:20270116T140000
DTSTAMP:20260420T231027
CREATED:20250426T032033Z
LAST-MODIFIED:20250827T230724Z
UID:10017606-1800102600-1800108000@test.acawso.org
SUMMARY:ABC/QDM Committee
DESCRIPTION:The ABC/AWC committee meets first and third Saturday from 12:30 to 2 pm EDT \nJoin Zoom Meeting\nhttps://us02web.zoom.us/j/87582913615?pwd=dWpPNVJPcVNiVjJxbGgzbFVwY05EZz09 \nMeeting ID: 875 8291 3615\nPasscode: ABC2022 \nContact abc@adultchildren.org for more details. \n 
URL:https://test.acawso.org/calendar/abc-awc-committee-4-2-3/2027-01-16/
CATEGORIES:committees
END:VEVENT
BEGIN:VEVENT
DTSTART;TZID=America/New_York:20270220T123000
DTEND;TZID=America/New_York:20270220T140000
DTSTAMP:20260420T231027
CREATED:20250426T032033Z
LAST-MODIFIED:20250827T230724Z
UID:10017607-1803126600-1803132000@test.acawso.org
SUMMARY:ABC/QDM Committee
DESCRIPTION:The ABC/AWC committee meets first and third Saturday from 12:30 to 2 pm EDT \nJoin Zoom Meeting\nhttps://us02web.zoom.us/j/87582913615?pwd=dWpPNVJPcVNiVjJxbGgzbFVwY05EZz09 \nMeeting ID: 875 8291 3615\nPasscode: ABC2022 \nContact abc@adultchildren.org for more details. \n 
URL:https://test.acawso.org/calendar/abc-awc-committee-4-2-3/2027-02-20/
CATEGORIES:committees
END:VEVENT
BEGIN:VEVENT
DTSTART;TZID=America/New_York:20270320T123000
DTEND;TZID=America/New_York:20270320T140000
DTSTAMP:20260420T231027
CREATED:20250426T032033Z
LAST-MODIFIED:20250827T230724Z
UID:10017608-1805545800-1805551200@test.acawso.org
SUMMARY:ABC/QDM Committee
DESCRIPTION:The ABC/AWC committee meets first and third Saturday from 12:30 to 2 pm EDT \nJoin Zoom Meeting\nhttps://us02web.zoom.us/j/87582913615?pwd=dWpPNVJPcVNiVjJxbGgzbFVwY05EZz09 \nMeeting ID: 875 8291 3615\nPasscode: ABC2022 \nContact abc@adultchildren.org for more details. \n 
URL:https://test.acawso.org/calendar/abc-awc-committee-4-2-3/2027-03-20/
CATEGORIES:committees
END:VEVENT
BEGIN:VEVENT
DTSTART;TZID=America/New_York:20270417T123000
DTEND;TZID=America/New_York:20270417T140000
DTSTAMP:20260420T231027
CREATED:20250426T032033Z
LAST-MODIFIED:20250827T230724Z
UID:10017609-1807965000-1807970400@test.acawso.org
SUMMARY:ABC/QDM Committee
DESCRIPTION:The ABC/AWC committee meets first and third Saturday from 12:30 to 2 pm EDT \nJoin Zoom Meeting\nhttps://us02web.zoom.us/j/87582913615?pwd=dWpPNVJPcVNiVjJxbGgzbFVwY05EZz09 \nMeeting ID: 875 8291 3615\nPasscode: ABC2022 \nContact abc@adultchildren.org for more details. \n 
URL:https://test.acawso.org/calendar/abc-awc-committee-4-2-3/2027-04-17/
CATEGORIES:committees
END:VEVENT
BEGIN:VEVENT
DTSTART;TZID=America/New_York:20270515T123000
DTEND;TZID=America/New_York:20270515T140000
DTSTAMP:20260420T231027
CREATED:20250426T032033Z
LAST-MODIFIED:20250827T230724Z
UID:10017610-1810384200-1810389600@test.acawso.org
SUMMARY:ABC/QDM Committee
DESCRIPTION:The ABC/AWC committee meets first and third Saturday from 12:30 to 2 pm EDT \nJoin Zoom Meeting\nhttps://us02web.zoom.us/j/87582913615?pwd=dWpPNVJPcVNiVjJxbGgzbFVwY05EZz09 \nMeeting ID: 875 8291 3615\nPasscode: ABC2022 \nContact abc@adultchildren.org for more details. \n 
URL:https://test.acawso.org/calendar/abc-awc-committee-4-2-3/2027-05-15/
CATEGORIES:committees
END:VEVENT
BEGIN:VEVENT
DTSTART;TZID=America/New_York:20270619T123000
DTEND;TZID=America/New_York:20270619T140000
DTSTAMP:20260420T231027
CREATED:20250426T032033Z
LAST-MODIFIED:20250827T230724Z
UID:10015037-1813408200-1813413600@test.acawso.org
SUMMARY:ABC/QDM Committee
DESCRIPTION:The ABC/AWC committee meets first and third Saturday from 12:30 to 2 pm EDT \nJoin Zoom Meeting\nhttps://us02web.zoom.us/j/87582913615?pwd=dWpPNVJPcVNiVjJxbGgzbFVwY05EZz09 \nMeeting ID: 875 8291 3615\nPasscode: ABC2022 \nContact abc@adultchildren.org for more details. \n 
URL:https://test.acawso.org/calendar/abc-awc-committee-4-2-3/2027-06-19/
CATEGORIES:committees
END:VEVENT
BEGIN:VEVENT
DTSTART;TZID=America/New_York:20270717T123000
DTEND;TZID=America/New_York:20270717T140000
DTSTAMP:20260420T231027
CREATED:20250426T032033Z
LAST-MODIFIED:20250827T230724Z
UID:10017611-1815827400-1815832800@test.acawso.org
SUMMARY:ABC/QDM Committee
DESCRIPTION:The ABC/AWC committee meets first and third Saturday from 12:30 to 2 pm EDT \nJoin Zoom Meeting\nhttps://us02web.zoom.us/j/87582913615?pwd=dWpPNVJPcVNiVjJxbGgzbFVwY05EZz09 \nMeeting ID: 875 8291 3615\nPasscode: ABC2022 \nContact abc@adultchildren.org for more details. \n 
URL:https://test.acawso.org/calendar/abc-awc-committee-4-2-3/2027-07-17/
CATEGORIES:committees
END:VEVENT
BEGIN:VEVENT
DTSTART;TZID=America/New_York:20270821T123000
DTEND;TZID=America/New_York:20270821T140000
DTSTAMP:20260420T231027
CREATED:20250426T032033Z
LAST-MODIFIED:20250827T230724Z
UID:10017612-1818851400-1818856800@test.acawso.org
SUMMARY:ABC/QDM Committee
DESCRIPTION:The ABC/AWC committee meets first and third Saturday from 12:30 to 2 pm EDT \nJoin Zoom Meeting\nhttps://us02web.zoom.us/j/87582913615?pwd=dWpPNVJPcVNiVjJxbGgzbFVwY05EZz09 \nMeeting ID: 875 8291 3615\nPasscode: ABC2022 \nContact abc@adultchildren.org for more details. \n 
URL:https://test.acawso.org/calendar/abc-awc-committee-4-2-3/2027-08-21/
CATEGORIES:committees
END:VEVENT
BEGIN:VEVENT
DTSTART;TZID=America/New_York:20270918T123000
DTEND;TZID=America/New_York:20270918T140000
DTSTAMP:20260420T231027
CREATED:20250426T032033Z
LAST-MODIFIED:20250827T230724Z
UID:10017613-1821270600-1821276000@test.acawso.org
SUMMARY:ABC/QDM Committee
DESCRIPTION:The ABC/AWC committee meets first and third Saturday from 12:30 to 2 pm EDT \nJoin Zoom Meeting\nhttps://us02web.zoom.us/j/87582913615?pwd=dWpPNVJPcVNiVjJxbGgzbFVwY05EZz09 \nMeeting ID: 875 8291 3615\nPasscode: ABC2022 \nContact abc@adultchildren.org for more details. \n 
URL:https://test.acawso.org/calendar/abc-awc-committee-4-2-3/2027-09-18/
CATEGORIES:committees
END:VEVENT
BEGIN:VEVENT
DTSTART;TZID=America/New_York:20271016T123000
DTEND;TZID=America/New_York:20271016T140000
DTSTAMP:20260420T231027
CREATED:20250426T032033Z
LAST-MODIFIED:20250827T230724Z
UID:10017614-1823689800-1823695200@test.acawso.org
SUMMARY:ABC/QDM Committee
DESCRIPTION:The ABC/AWC committee meets first and third Saturday from 12:30 to 2 pm EDT \nJoin Zoom Meeting\nhttps://us02web.zoom.us/j/87582913615?pwd=dWpPNVJPcVNiVjJxbGgzbFVwY05EZz09 \nMeeting ID: 875 8291 3615\nPasscode: ABC2022 \nContact abc@adultchildren.org for more details. \n 
URL:https://test.acawso.org/calendar/abc-awc-committee-4-2-3/2027-10-16/
CATEGORIES:committees
END:VEVENT
BEGIN:VEVENT
DTSTART;TZID=America/New_York:20271120T123000
DTEND;TZID=America/New_York:20271120T140000
DTSTAMP:20260420T231027
CREATED:20250426T032033Z
LAST-MODIFIED:20250827T230724Z
UID:10017615-1826713800-1826719200@test.acawso.org
SUMMARY:ABC/QDM Committee
DESCRIPTION:The ABC/AWC committee meets first and third Saturday from 12:30 to 2 pm EDT \nJoin Zoom Meeting\nhttps://us02web.zoom.us/j/87582913615?pwd=dWpPNVJPcVNiVjJxbGgzbFVwY05EZz09 \nMeeting ID: 875 8291 3615\nPasscode: ABC2022 \nContact abc@adultchildren.org for more details. \n 
URL:https://test.acawso.org/calendar/abc-awc-committee-4-2-3/2027-11-20/
CATEGORIES:committees
END:VEVENT
BEGIN:VEVENT
DTSTART;TZID=America/New_York:20271218T123000
DTEND;TZID=America/New_York:20271218T140000
DTSTAMP:20260420T231027
CREATED:20250426T032033Z
LAST-MODIFIED:20250827T230724Z
UID:10017616-1829133000-1829138400@test.acawso.org
SUMMARY:ABC/QDM Committee
DESCRIPTION:The ABC/AWC committee meets first and third Saturday from 12:30 to 2 pm EDT \nJoin Zoom Meeting\nhttps://us02web.zoom.us/j/87582913615?pwd=dWpPNVJPcVNiVjJxbGgzbFVwY05EZz09 \nMeeting ID: 875 8291 3615\nPasscode: ABC2022 \nContact abc@adultchildren.org for more details. \n 
URL:https://test.acawso.org/calendar/abc-awc-committee-4-2-3/2027-12-18/
CATEGORIES:committees
END:VEVENT
BEGIN:VEVENT
DTSTART;TZID=America/New_York:20280115T123000
DTEND;TZID=America/New_York:20280115T140000
DTSTAMP:20260420T231027
CREATED:20250426T032033Z
LAST-MODIFIED:20250827T230724Z
UID:10017617-1831552200-1831557600@test.acawso.org
SUMMARY:ABC/QDM Committee
DESCRIPTION:The ABC/AWC committee meets first and third Saturday from 12:30 to 2 pm EDT \nJoin Zoom Meeting\nhttps://us02web.zoom.us/j/87582913615?pwd=dWpPNVJPcVNiVjJxbGgzbFVwY05EZz09 \nMeeting ID: 875 8291 3615\nPasscode: ABC2022 \nContact abc@adultchildren.org for more details. \n 
URL:https://test.acawso.org/calendar/abc-awc-committee-4-2-3/2028-01-15/
CATEGORIES:committees
END:VEVENT
BEGIN:VEVENT
DTSTART;TZID=America/New_York:20280219T123000
DTEND;TZID=America/New_York:20280219T140000
DTSTAMP:20260420T231027
CREATED:20250426T032033Z
LAST-MODIFIED:20250827T230724Z
UID:10015045-1834576200-1834581600@test.acawso.org
SUMMARY:ABC/QDM Committee
DESCRIPTION:The ABC/AWC committee meets first and third Saturday from 12:30 to 2 pm EDT \nJoin Zoom Meeting\nhttps://us02web.zoom.us/j/87582913615?pwd=dWpPNVJPcVNiVjJxbGgzbFVwY05EZz09 \nMeeting ID: 875 8291 3615\nPasscode: ABC2022 \nContact abc@adultchildren.org for more details. \n 
URL:https://test.acawso.org/calendar/abc-awc-committee-4-2-3/2028-02-19/
CATEGORIES:committees
END:VEVENT
BEGIN:VEVENT
DTSTART;TZID=America/New_York:20280318T123000
DTEND;TZID=America/New_York:20280318T140000
DTSTAMP:20260420T231027
CREATED:20250426T032033Z
LAST-MODIFIED:20250827T230724Z
UID:10017618-1836995400-1837000800@test.acawso.org
SUMMARY:ABC/QDM Committee
DESCRIPTION:The ABC/AWC committee meets first and third Saturday from 12:30 to 2 pm EDT \nJoin Zoom Meeting\nhttps://us02web.zoom.us/j/87582913615?pwd=dWpPNVJPcVNiVjJxbGgzbFVwY05EZz09 \nMeeting ID: 875 8291 3615\nPasscode: ABC2022 \nContact abc@adultchildren.org for more details. \n 
URL:https://test.acawso.org/calendar/abc-awc-committee-4-2-3/2028-03-18/
CATEGORIES:committees
END:VEVENT
BEGIN:VEVENT
DTSTART;TZID=America/New_York:20280415T123000
DTEND;TZID=America/New_York:20280415T140000
DTSTAMP:20260420T231027
CREATED:20250426T032033Z
LAST-MODIFIED:20250827T230724Z
UID:10017619-1839414600-1839420000@test.acawso.org
SUMMARY:ABC/QDM Committee
DESCRIPTION:The ABC/AWC committee meets first and third Saturday from 12:30 to 2 pm EDT \nJoin Zoom Meeting\nhttps://us02web.zoom.us/j/87582913615?pwd=dWpPNVJPcVNiVjJxbGgzbFVwY05EZz09 \nMeeting ID: 875 8291 3615\nPasscode: ABC2022 \nContact abc@adultchildren.org for more details. \n 
URL:https://test.acawso.org/calendar/abc-awc-committee-4-2-3/2028-04-15/
CATEGORIES:committees
END:VEVENT
BEGIN:VEVENT
DTSTART;TZID=America/New_York:20280520T123000
DTEND;TZID=America/New_York:20280520T140000
DTSTAMP:20260420T231027
CREATED:20250426T032033Z
LAST-MODIFIED:20250827T230724Z
UID:10017620-1842438600-1842444000@test.acawso.org
SUMMARY:ABC/QDM Committee
DESCRIPTION:The ABC/AWC committee meets first and third Saturday from 12:30 to 2 pm EDT \nJoin Zoom Meeting\nhttps://us02web.zoom.us/j/87582913615?pwd=dWpPNVJPcVNiVjJxbGgzbFVwY05EZz09 \nMeeting ID: 875 8291 3615\nPasscode: ABC2022 \nContact abc@adultchildren.org for more details. \n 
URL:https://test.acawso.org/calendar/abc-awc-committee-4-2-3/2028-05-20/
CATEGORIES:committees
END:VEVENT
BEGIN:VEVENT
DTSTART;TZID=America/New_York:20280617T123000
DTEND;TZID=America/New_York:20280617T140000
DTSTAMP:20260420T231027
CREATED:20250426T032033Z
LAST-MODIFIED:20250827T230724Z
UID:10017621-1844857800-1844863200@test.acawso.org
SUMMARY:ABC/QDM Committee
DESCRIPTION:The ABC/AWC committee meets first and third Saturday from 12:30 to 2 pm EDT \nJoin Zoom Meeting\nhttps://us02web.zoom.us/j/87582913615?pwd=dWpPNVJPcVNiVjJxbGgzbFVwY05EZz09 \nMeeting ID: 875 8291 3615\nPasscode: ABC2022 \nContact abc@adultchildren.org for more details. \n 
URL:https://test.acawso.org/calendar/abc-awc-committee-4-2-3/2028-06-17/
CATEGORIES:committees
END:VEVENT
BEGIN:VEVENT
DTSTART;TZID=America/New_York:20280715T123000
DTEND;TZID=America/New_York:20280715T140000
DTSTAMP:20260420T231027
CREATED:20250426T032033Z
LAST-MODIFIED:20250827T230724Z
UID:10017622-1847277000-1847282400@test.acawso.org
SUMMARY:ABC/QDM Committee
DESCRIPTION:The ABC/AWC committee meets first and third Saturday from 12:30 to 2 pm EDT \nJoin Zoom Meeting\nhttps://us02web.zoom.us/j/87582913615?pwd=dWpPNVJPcVNiVjJxbGgzbFVwY05EZz09 \nMeeting ID: 875 8291 3615\nPasscode: ABC2022 \nContact abc@adultchildren.org for more details. \n 
URL:https://test.acawso.org/calendar/abc-awc-committee-4-2-3/2028-07-15/
CATEGORIES:committees
END:VEVENT
BEGIN:VEVENT
DTSTART;TZID=America/New_York:20280819T123000
DTEND;TZID=America/New_York:20280819T140000
DTSTAMP:20260420T231027
CREATED:20250426T032033Z
LAST-MODIFIED:20250827T230724Z
UID:10015051-1850301000-1850306400@test.acawso.org
SUMMARY:ABC/QDM Committee
DESCRIPTION:The ABC/AWC committee meets first and third Saturday from 12:30 to 2 pm EDT \nJoin Zoom Meeting\nhttps://us02web.zoom.us/j/87582913615?pwd=dWpPNVJPcVNiVjJxbGgzbFVwY05EZz09 \nMeeting ID: 875 8291 3615\nPasscode: ABC2022 \nContact abc@adultchildren.org for more details. \n 
URL:https://test.acawso.org/calendar/abc-awc-committee-4-2-3/2028-08-19/
CATEGORIES:committees
END:VEVENT
BEGIN:VEVENT
DTSTART;TZID=America/New_York:20280916T123000
DTEND;TZID=America/New_York:20280916T140000
DTSTAMP:20260420T231027
CREATED:20250426T032033Z
LAST-MODIFIED:20250827T230724Z
UID:10017623-1852720200-1852725600@test.acawso.org
SUMMARY:ABC/QDM Committee
DESCRIPTION:The ABC/AWC committee meets first and third Saturday from 12:30 to 2 pm EDT \nJoin Zoom Meeting\nhttps://us02web.zoom.us/j/87582913615?pwd=dWpPNVJPcVNiVjJxbGgzbFVwY05EZz09 \nMeeting ID: 875 8291 3615\nPasscode: ABC2022 \nContact abc@adultchildren.org for more details. \n 
URL:https://test.acawso.org/calendar/abc-awc-committee-4-2-3/2028-09-16/
CATEGORIES:committees
END:VEVENT
BEGIN:VEVENT
DTSTART;TZID=America/New_York:20281021T123000
DTEND;TZID=America/New_York:20281021T140000
DTSTAMP:20260420T231027
CREATED:20250426T032033Z
LAST-MODIFIED:20250827T230724Z
UID:10017624-1855744200-1855749600@test.acawso.org
SUMMARY:ABC/QDM Committee
DESCRIPTION:The ABC/AWC committee meets first and third Saturday from 12:30 to 2 pm EDT \nJoin Zoom Meeting\nhttps://us02web.zoom.us/j/87582913615?pwd=dWpPNVJPcVNiVjJxbGgzbFVwY05EZz09 \nMeeting ID: 875 8291 3615\nPasscode: ABC2022 \nContact abc@adultchildren.org for more details. \n 
URL:https://test.acawso.org/calendar/abc-awc-committee-4-2-3/2028-10-21/
CATEGORIES:committees
END:VEVENT
END:VCALENDAR