BEGIN:VCALENDAR
VERSION:2.0
PRODID:-//ACA WSO - ECPv6.15.20//NONSGML v1.0//EN
CALSCALE:GREGORIAN
METHOD:PUBLISH
X-WR-CALNAME:ACA WSO
X-ORIGINAL-URL:https://test.acawso.org
X-WR-CALDESC:Events for ACA WSO
REFRESH-INTERVAL;VALUE=DURATION:PT1H
X-Robots-Tag:noindex
X-PUBLISHED-TTL:PT1H
BEGIN:VTIMEZONE
TZID:America/New_York
BEGIN:DAYLIGHT
TZOFFSETFROM:-0500
TZOFFSETTO:-0400
TZNAME:EDT
DTSTART:20250309T070000
END:DAYLIGHT
BEGIN:STANDARD
TZOFFSETFROM:-0400
TZOFFSETTO:-0500
TZNAME:EST
DTSTART:20251102T060000
END:STANDARD
BEGIN:DAYLIGHT
TZOFFSETFROM:-0500
TZOFFSETTO:-0400
TZNAME:EDT
DTSTART:20260308T070000
END:DAYLIGHT
BEGIN:STANDARD
TZOFFSETFROM:-0400
TZOFFSETTO:-0500
TZNAME:EST
DTSTART:20261101T060000
END:STANDARD
BEGIN:DAYLIGHT
TZOFFSETFROM:-0500
TZOFFSETTO:-0400
TZNAME:EDT
DTSTART:20270314T070000
END:DAYLIGHT
BEGIN:STANDARD
TZOFFSETFROM:-0400
TZOFFSETTO:-0500
TZNAME:EST
DTSTART:20271107T060000
END:STANDARD
END:VTIMEZONE
BEGIN:VEVENT
DTSTART;TZID=America/New_York:20260427T160000
DTEND;TZID=America/New_York:20260427T173000
DTSTAMP:20260421T060523
CREATED:20251119T192005Z
LAST-MODIFIED:20251119T192007Z
UID:10010215-1777305600-1777311000@test.acawso.org
SUMMARY:IT Committee
DESCRIPTION:IT Committee meets as and when needed on Mondays at 4:00pm ET (US). Please contact the IT Chair before attending the meeting to find out if it meets in a given week. \ncontact: itchair@acawso.org \nJoin Zoom Meeting \nhttps://us02web.zoom.us/j/89520227175 \nMeeting ID: 895 2022 7175\nPasscode: 90755
URL:https://test.acawso.org/calendar/it-committee-2023-07-19-2-2-2-2/2026-04-27/
CATEGORIES:committees
END:VEVENT
BEGIN:VEVENT
DTSTART;TZID=America/New_York:20260504T160000
DTEND;TZID=America/New_York:20260504T173000
DTSTAMP:20260421T060523
CREATED:20251119T192005Z
LAST-MODIFIED:20251119T192007Z
UID:10010216-1777910400-1777915800@test.acawso.org
SUMMARY:IT Committee
DESCRIPTION:IT Committee meets as and when needed on Mondays at 4:00pm ET (US). Please contact the IT Chair before attending the meeting to find out if it meets in a given week. \ncontact: itchair@acawso.org \nJoin Zoom Meeting \nhttps://us02web.zoom.us/j/89520227175 \nMeeting ID: 895 2022 7175\nPasscode: 90755
URL:https://test.acawso.org/calendar/it-committee-2023-07-19-2-2-2-2/2026-05-04/
CATEGORIES:committees
END:VEVENT
BEGIN:VEVENT
DTSTART;TZID=America/New_York:20260511T160000
DTEND;TZID=America/New_York:20260511T173000
DTSTAMP:20260421T060523
CREATED:20251119T192005Z
LAST-MODIFIED:20251119T192007Z
UID:10010217-1778515200-1778520600@test.acawso.org
SUMMARY:IT Committee
DESCRIPTION:IT Committee meets as and when needed on Mondays at 4:00pm ET (US). Please contact the IT Chair before attending the meeting to find out if it meets in a given week. \ncontact: itchair@acawso.org \nJoin Zoom Meeting \nhttps://us02web.zoom.us/j/89520227175 \nMeeting ID: 895 2022 7175\nPasscode: 90755
URL:https://test.acawso.org/calendar/it-committee-2023-07-19-2-2-2-2/2026-05-11/
CATEGORIES:committees
END:VEVENT
BEGIN:VEVENT
DTSTART;TZID=America/New_York:20260518T160000
DTEND;TZID=America/New_York:20260518T173000
DTSTAMP:20260421T060523
CREATED:20251119T192005Z
LAST-MODIFIED:20251119T192007Z
UID:10010218-1779120000-1779125400@test.acawso.org
SUMMARY:IT Committee
DESCRIPTION:IT Committee meets as and when needed on Mondays at 4:00pm ET (US). Please contact the IT Chair before attending the meeting to find out if it meets in a given week. \ncontact: itchair@acawso.org \nJoin Zoom Meeting \nhttps://us02web.zoom.us/j/89520227175 \nMeeting ID: 895 2022 7175\nPasscode: 90755
URL:https://test.acawso.org/calendar/it-committee-2023-07-19-2-2-2-2/2026-05-18/
CATEGORIES:committees
END:VEVENT
BEGIN:VEVENT
DTSTART;TZID=America/New_York:20260525T160000
DTEND;TZID=America/New_York:20260525T173000
DTSTAMP:20260421T060523
CREATED:20251119T192005Z
LAST-MODIFIED:20251119T192007Z
UID:10010219-1779724800-1779730200@test.acawso.org
SUMMARY:IT Committee
DESCRIPTION:IT Committee meets as and when needed on Mondays at 4:00pm ET (US). Please contact the IT Chair before attending the meeting to find out if it meets in a given week. \ncontact: itchair@acawso.org \nJoin Zoom Meeting \nhttps://us02web.zoom.us/j/89520227175 \nMeeting ID: 895 2022 7175\nPasscode: 90755
URL:https://test.acawso.org/calendar/it-committee-2023-07-19-2-2-2-2/2026-05-25/
CATEGORIES:committees
END:VEVENT
BEGIN:VEVENT
DTSTART;TZID=America/New_York:20260601T160000
DTEND;TZID=America/New_York:20260601T173000
DTSTAMP:20260421T060523
CREATED:20251119T192005Z
LAST-MODIFIED:20251119T192007Z
UID:10010220-1780329600-1780335000@test.acawso.org
SUMMARY:IT Committee
DESCRIPTION:IT Committee meets as and when needed on Mondays at 4:00pm ET (US). Please contact the IT Chair before attending the meeting to find out if it meets in a given week. \ncontact: itchair@acawso.org \nJoin Zoom Meeting \nhttps://us02web.zoom.us/j/89520227175 \nMeeting ID: 895 2022 7175\nPasscode: 90755
URL:https://test.acawso.org/calendar/it-committee-2023-07-19-2-2-2-2/2026-06-01/
CATEGORIES:committees
END:VEVENT
BEGIN:VEVENT
DTSTART;TZID=America/New_York:20260608T160000
DTEND;TZID=America/New_York:20260608T173000
DTSTAMP:20260421T060523
CREATED:20251119T192005Z
LAST-MODIFIED:20251119T192007Z
UID:10010221-1780934400-1780939800@test.acawso.org
SUMMARY:IT Committee
DESCRIPTION:IT Committee meets as and when needed on Mondays at 4:00pm ET (US). Please contact the IT Chair before attending the meeting to find out if it meets in a given week. \ncontact: itchair@acawso.org \nJoin Zoom Meeting \nhttps://us02web.zoom.us/j/89520227175 \nMeeting ID: 895 2022 7175\nPasscode: 90755
URL:https://test.acawso.org/calendar/it-committee-2023-07-19-2-2-2-2/2026-06-08/
CATEGORIES:committees
END:VEVENT
BEGIN:VEVENT
DTSTART;TZID=America/New_York:20260615T160000
DTEND;TZID=America/New_York:20260615T173000
DTSTAMP:20260421T060523
CREATED:20251119T192005Z
LAST-MODIFIED:20251119T192007Z
UID:10010222-1781539200-1781544600@test.acawso.org
SUMMARY:IT Committee
DESCRIPTION:IT Committee meets as and when needed on Mondays at 4:00pm ET (US). Please contact the IT Chair before attending the meeting to find out if it meets in a given week. \ncontact: itchair@acawso.org \nJoin Zoom Meeting \nhttps://us02web.zoom.us/j/89520227175 \nMeeting ID: 895 2022 7175\nPasscode: 90755
URL:https://test.acawso.org/calendar/it-committee-2023-07-19-2-2-2-2/2026-06-15/
CATEGORIES:committees
END:VEVENT
BEGIN:VEVENT
DTSTART;TZID=America/New_York:20260622T160000
DTEND;TZID=America/New_York:20260622T173000
DTSTAMP:20260421T060523
CREATED:20251119T192005Z
LAST-MODIFIED:20251119T192007Z
UID:10010223-1782144000-1782149400@test.acawso.org
SUMMARY:IT Committee
DESCRIPTION:IT Committee meets as and when needed on Mondays at 4:00pm ET (US). Please contact the IT Chair before attending the meeting to find out if it meets in a given week. \ncontact: itchair@acawso.org \nJoin Zoom Meeting \nhttps://us02web.zoom.us/j/89520227175 \nMeeting ID: 895 2022 7175\nPasscode: 90755
URL:https://test.acawso.org/calendar/it-committee-2023-07-19-2-2-2-2/2026-06-22/
CATEGORIES:committees
END:VEVENT
BEGIN:VEVENT
DTSTART;TZID=America/New_York:20260629T160000
DTEND;TZID=America/New_York:20260629T173000
DTSTAMP:20260421T060523
CREATED:20251119T192005Z
LAST-MODIFIED:20251119T192007Z
UID:10010224-1782748800-1782754200@test.acawso.org
SUMMARY:IT Committee
DESCRIPTION:IT Committee meets as and when needed on Mondays at 4:00pm ET (US). Please contact the IT Chair before attending the meeting to find out if it meets in a given week. \ncontact: itchair@acawso.org \nJoin Zoom Meeting \nhttps://us02web.zoom.us/j/89520227175 \nMeeting ID: 895 2022 7175\nPasscode: 90755
URL:https://test.acawso.org/calendar/it-committee-2023-07-19-2-2-2-2/2026-06-29/
CATEGORIES:committees
END:VEVENT
BEGIN:VEVENT
DTSTART;TZID=America/New_York:20260706T160000
DTEND;TZID=America/New_York:20260706T173000
DTSTAMP:20260421T060523
CREATED:20251119T192005Z
LAST-MODIFIED:20251119T192007Z
UID:10010225-1783353600-1783359000@test.acawso.org
SUMMARY:IT Committee
DESCRIPTION:IT Committee meets as and when needed on Mondays at 4:00pm ET (US). Please contact the IT Chair before attending the meeting to find out if it meets in a given week. \ncontact: itchair@acawso.org \nJoin Zoom Meeting \nhttps://us02web.zoom.us/j/89520227175 \nMeeting ID: 895 2022 7175\nPasscode: 90755
URL:https://test.acawso.org/calendar/it-committee-2023-07-19-2-2-2-2/2026-07-06/
CATEGORIES:committees
END:VEVENT
BEGIN:VEVENT
DTSTART;TZID=America/New_York:20260713T160000
DTEND;TZID=America/New_York:20260713T173000
DTSTAMP:20260421T060523
CREATED:20251119T192005Z
LAST-MODIFIED:20251119T192007Z
UID:10010226-1783958400-1783963800@test.acawso.org
SUMMARY:IT Committee
DESCRIPTION:IT Committee meets as and when needed on Mondays at 4:00pm ET (US). Please contact the IT Chair before attending the meeting to find out if it meets in a given week. \ncontact: itchair@acawso.org \nJoin Zoom Meeting \nhttps://us02web.zoom.us/j/89520227175 \nMeeting ID: 895 2022 7175\nPasscode: 90755
URL:https://test.acawso.org/calendar/it-committee-2023-07-19-2-2-2-2/2026-07-13/
CATEGORIES:committees
END:VEVENT
BEGIN:VEVENT
DTSTART;TZID=America/New_York:20260720T160000
DTEND;TZID=America/New_York:20260720T173000
DTSTAMP:20260421T060523
CREATED:20251119T192005Z
LAST-MODIFIED:20251119T192007Z
UID:10010227-1784563200-1784568600@test.acawso.org
SUMMARY:IT Committee
DESCRIPTION:IT Committee meets as and when needed on Mondays at 4:00pm ET (US). Please contact the IT Chair before attending the meeting to find out if it meets in a given week. \ncontact: itchair@acawso.org \nJoin Zoom Meeting \nhttps://us02web.zoom.us/j/89520227175 \nMeeting ID: 895 2022 7175\nPasscode: 90755
URL:https://test.acawso.org/calendar/it-committee-2023-07-19-2-2-2-2/2026-07-20/
CATEGORIES:committees
END:VEVENT
BEGIN:VEVENT
DTSTART;TZID=America/New_York:20260727T160000
DTEND;TZID=America/New_York:20260727T173000
DTSTAMP:20260421T060523
CREATED:20251119T192005Z
LAST-MODIFIED:20251119T192007Z
UID:10010228-1785168000-1785173400@test.acawso.org
SUMMARY:IT Committee
DESCRIPTION:IT Committee meets as and when needed on Mondays at 4:00pm ET (US). Please contact the IT Chair before attending the meeting to find out if it meets in a given week. \ncontact: itchair@acawso.org \nJoin Zoom Meeting \nhttps://us02web.zoom.us/j/89520227175 \nMeeting ID: 895 2022 7175\nPasscode: 90755
URL:https://test.acawso.org/calendar/it-committee-2023-07-19-2-2-2-2/2026-07-27/
CATEGORIES:committees
END:VEVENT
BEGIN:VEVENT
DTSTART;TZID=America/New_York:20260803T160000
DTEND;TZID=America/New_York:20260803T173000
DTSTAMP:20260421T060523
CREATED:20251119T192005Z
LAST-MODIFIED:20251119T192007Z
UID:10010229-1785772800-1785778200@test.acawso.org
SUMMARY:IT Committee
DESCRIPTION:IT Committee meets as and when needed on Mondays at 4:00pm ET (US). Please contact the IT Chair before attending the meeting to find out if it meets in a given week. \ncontact: itchair@acawso.org \nJoin Zoom Meeting \nhttps://us02web.zoom.us/j/89520227175 \nMeeting ID: 895 2022 7175\nPasscode: 90755
URL:https://test.acawso.org/calendar/it-committee-2023-07-19-2-2-2-2/2026-08-03/
CATEGORIES:committees
END:VEVENT
BEGIN:VEVENT
DTSTART;TZID=America/New_York:20260810T160000
DTEND;TZID=America/New_York:20260810T173000
DTSTAMP:20260421T060523
CREATED:20251119T192005Z
LAST-MODIFIED:20251119T192007Z
UID:10010230-1786377600-1786383000@test.acawso.org
SUMMARY:IT Committee
DESCRIPTION:IT Committee meets as and when needed on Mondays at 4:00pm ET (US). Please contact the IT Chair before attending the meeting to find out if it meets in a given week. \ncontact: itchair@acawso.org \nJoin Zoom Meeting \nhttps://us02web.zoom.us/j/89520227175 \nMeeting ID: 895 2022 7175\nPasscode: 90755
URL:https://test.acawso.org/calendar/it-committee-2023-07-19-2-2-2-2/2026-08-10/
CATEGORIES:committees
END:VEVENT
BEGIN:VEVENT
DTSTART;TZID=America/New_York:20260817T160000
DTEND;TZID=America/New_York:20260817T173000
DTSTAMP:20260421T060523
CREATED:20251119T192005Z
LAST-MODIFIED:20251119T192007Z
UID:10010231-1786982400-1786987800@test.acawso.org
SUMMARY:IT Committee
DESCRIPTION:IT Committee meets as and when needed on Mondays at 4:00pm ET (US). Please contact the IT Chair before attending the meeting to find out if it meets in a given week. \ncontact: itchair@acawso.org \nJoin Zoom Meeting \nhttps://us02web.zoom.us/j/89520227175 \nMeeting ID: 895 2022 7175\nPasscode: 90755
URL:https://test.acawso.org/calendar/it-committee-2023-07-19-2-2-2-2/2026-08-17/
CATEGORIES:committees
END:VEVENT
BEGIN:VEVENT
DTSTART;TZID=America/New_York:20260824T160000
DTEND;TZID=America/New_York:20260824T173000
DTSTAMP:20260421T060523
CREATED:20251119T192005Z
LAST-MODIFIED:20251119T192007Z
UID:10010232-1787587200-1787592600@test.acawso.org
SUMMARY:IT Committee
DESCRIPTION:IT Committee meets as and when needed on Mondays at 4:00pm ET (US). Please contact the IT Chair before attending the meeting to find out if it meets in a given week. \ncontact: itchair@acawso.org \nJoin Zoom Meeting \nhttps://us02web.zoom.us/j/89520227175 \nMeeting ID: 895 2022 7175\nPasscode: 90755
URL:https://test.acawso.org/calendar/it-committee-2023-07-19-2-2-2-2/2026-08-24/
CATEGORIES:committees
END:VEVENT
BEGIN:VEVENT
DTSTART;TZID=America/New_York:20260831T160000
DTEND;TZID=America/New_York:20260831T173000
DTSTAMP:20260421T060523
CREATED:20251119T192005Z
LAST-MODIFIED:20251119T192007Z
UID:10010233-1788192000-1788197400@test.acawso.org
SUMMARY:IT Committee
DESCRIPTION:IT Committee meets as and when needed on Mondays at 4:00pm ET (US). Please contact the IT Chair before attending the meeting to find out if it meets in a given week. \ncontact: itchair@acawso.org \nJoin Zoom Meeting \nhttps://us02web.zoom.us/j/89520227175 \nMeeting ID: 895 2022 7175\nPasscode: 90755
URL:https://test.acawso.org/calendar/it-committee-2023-07-19-2-2-2-2/2026-08-31/
CATEGORIES:committees
END:VEVENT
BEGIN:VEVENT
DTSTART;TZID=America/New_York:20260907T160000
DTEND;TZID=America/New_York:20260907T173000
DTSTAMP:20260421T060523
CREATED:20251119T192005Z
LAST-MODIFIED:20251119T192007Z
UID:10010234-1788796800-1788802200@test.acawso.org
SUMMARY:IT Committee
DESCRIPTION:IT Committee meets as and when needed on Mondays at 4:00pm ET (US). Please contact the IT Chair before attending the meeting to find out if it meets in a given week. \ncontact: itchair@acawso.org \nJoin Zoom Meeting \nhttps://us02web.zoom.us/j/89520227175 \nMeeting ID: 895 2022 7175\nPasscode: 90755
URL:https://test.acawso.org/calendar/it-committee-2023-07-19-2-2-2-2/2026-09-07/
CATEGORIES:committees
END:VEVENT
BEGIN:VEVENT
DTSTART;TZID=America/New_York:20260914T160000
DTEND;TZID=America/New_York:20260914T173000
DTSTAMP:20260421T060523
CREATED:20251119T192005Z
LAST-MODIFIED:20251119T192007Z
UID:10010235-1789401600-1789407000@test.acawso.org
SUMMARY:IT Committee
DESCRIPTION:IT Committee meets as and when needed on Mondays at 4:00pm ET (US). Please contact the IT Chair before attending the meeting to find out if it meets in a given week. \ncontact: itchair@acawso.org \nJoin Zoom Meeting \nhttps://us02web.zoom.us/j/89520227175 \nMeeting ID: 895 2022 7175\nPasscode: 90755
URL:https://test.acawso.org/calendar/it-committee-2023-07-19-2-2-2-2/2026-09-14/
CATEGORIES:committees
END:VEVENT
BEGIN:VEVENT
DTSTART;TZID=America/New_York:20260921T160000
DTEND;TZID=America/New_York:20260921T173000
DTSTAMP:20260421T060523
CREATED:20251119T192005Z
LAST-MODIFIED:20251119T192007Z
UID:10010236-1790006400-1790011800@test.acawso.org
SUMMARY:IT Committee
DESCRIPTION:IT Committee meets as and when needed on Mondays at 4:00pm ET (US). Please contact the IT Chair before attending the meeting to find out if it meets in a given week. \ncontact: itchair@acawso.org \nJoin Zoom Meeting \nhttps://us02web.zoom.us/j/89520227175 \nMeeting ID: 895 2022 7175\nPasscode: 90755
URL:https://test.acawso.org/calendar/it-committee-2023-07-19-2-2-2-2/2026-09-21/
CATEGORIES:committees
END:VEVENT
BEGIN:VEVENT
DTSTART;TZID=America/New_York:20260928T160000
DTEND;TZID=America/New_York:20260928T173000
DTSTAMP:20260421T060523
CREATED:20251119T192005Z
LAST-MODIFIED:20251119T192007Z
UID:10010237-1790611200-1790616600@test.acawso.org
SUMMARY:IT Committee
DESCRIPTION:IT Committee meets as and when needed on Mondays at 4:00pm ET (US). Please contact the IT Chair before attending the meeting to find out if it meets in a given week. \ncontact: itchair@acawso.org \nJoin Zoom Meeting \nhttps://us02web.zoom.us/j/89520227175 \nMeeting ID: 895 2022 7175\nPasscode: 90755
URL:https://test.acawso.org/calendar/it-committee-2023-07-19-2-2-2-2/2026-09-28/
CATEGORIES:committees
END:VEVENT
BEGIN:VEVENT
DTSTART;TZID=America/New_York:20261005T160000
DTEND;TZID=America/New_York:20261005T173000
DTSTAMP:20260421T060523
CREATED:20251119T192005Z
LAST-MODIFIED:20251119T192007Z
UID:10010238-1791216000-1791221400@test.acawso.org
SUMMARY:IT Committee
DESCRIPTION:IT Committee meets as and when needed on Mondays at 4:00pm ET (US). Please contact the IT Chair before attending the meeting to find out if it meets in a given week. \ncontact: itchair@acawso.org \nJoin Zoom Meeting \nhttps://us02web.zoom.us/j/89520227175 \nMeeting ID: 895 2022 7175\nPasscode: 90755
URL:https://test.acawso.org/calendar/it-committee-2023-07-19-2-2-2-2/2026-10-05/
CATEGORIES:committees
END:VEVENT
BEGIN:VEVENT
DTSTART;TZID=America/New_York:20261012T160000
DTEND;TZID=America/New_York:20261012T173000
DTSTAMP:20260421T060523
CREATED:20251119T192005Z
LAST-MODIFIED:20251119T192007Z
UID:10010239-1791820800-1791826200@test.acawso.org
SUMMARY:IT Committee
DESCRIPTION:IT Committee meets as and when needed on Mondays at 4:00pm ET (US). Please contact the IT Chair before attending the meeting to find out if it meets in a given week. \ncontact: itchair@acawso.org \nJoin Zoom Meeting \nhttps://us02web.zoom.us/j/89520227175 \nMeeting ID: 895 2022 7175\nPasscode: 90755
URL:https://test.acawso.org/calendar/it-committee-2023-07-19-2-2-2-2/2026-10-12/
CATEGORIES:committees
END:VEVENT
BEGIN:VEVENT
DTSTART;TZID=America/New_York:20261019T160000
DTEND;TZID=America/New_York:20261019T173000
DTSTAMP:20260421T060523
CREATED:20251119T192005Z
LAST-MODIFIED:20251119T192007Z
UID:10010240-1792425600-1792431000@test.acawso.org
SUMMARY:IT Committee
DESCRIPTION:IT Committee meets as and when needed on Mondays at 4:00pm ET (US). Please contact the IT Chair before attending the meeting to find out if it meets in a given week. \ncontact: itchair@acawso.org \nJoin Zoom Meeting \nhttps://us02web.zoom.us/j/89520227175 \nMeeting ID: 895 2022 7175\nPasscode: 90755
URL:https://test.acawso.org/calendar/it-committee-2023-07-19-2-2-2-2/2026-10-19/
CATEGORIES:committees
END:VEVENT
BEGIN:VEVENT
DTSTART;TZID=America/New_York:20261026T160000
DTEND;TZID=America/New_York:20261026T173000
DTSTAMP:20260421T060523
CREATED:20251119T192005Z
LAST-MODIFIED:20251119T192007Z
UID:10010241-1793030400-1793035800@test.acawso.org
SUMMARY:IT Committee
DESCRIPTION:IT Committee meets as and when needed on Mondays at 4:00pm ET (US). Please contact the IT Chair before attending the meeting to find out if it meets in a given week. \ncontact: itchair@acawso.org \nJoin Zoom Meeting \nhttps://us02web.zoom.us/j/89520227175 \nMeeting ID: 895 2022 7175\nPasscode: 90755
URL:https://test.acawso.org/calendar/it-committee-2023-07-19-2-2-2-2/2026-10-26/
CATEGORIES:committees
END:VEVENT
BEGIN:VEVENT
DTSTART;TZID=America/New_York:20261102T160000
DTEND;TZID=America/New_York:20261102T173000
DTSTAMP:20260421T060523
CREATED:20251119T192005Z
LAST-MODIFIED:20251119T192007Z
UID:10010242-1793635200-1793640600@test.acawso.org
SUMMARY:IT Committee
DESCRIPTION:IT Committee meets as and when needed on Mondays at 4:00pm ET (US). Please contact the IT Chair before attending the meeting to find out if it meets in a given week. \ncontact: itchair@acawso.org \nJoin Zoom Meeting \nhttps://us02web.zoom.us/j/89520227175 \nMeeting ID: 895 2022 7175\nPasscode: 90755
URL:https://test.acawso.org/calendar/it-committee-2023-07-19-2-2-2-2/2026-11-02/
CATEGORIES:committees
END:VEVENT
BEGIN:VEVENT
DTSTART;TZID=America/New_York:20261109T160000
DTEND;TZID=America/New_York:20261109T173000
DTSTAMP:20260421T060523
CREATED:20251119T192005Z
LAST-MODIFIED:20251119T192007Z
UID:10010243-1794240000-1794245400@test.acawso.org
SUMMARY:IT Committee
DESCRIPTION:IT Committee meets as and when needed on Mondays at 4:00pm ET (US). Please contact the IT Chair before attending the meeting to find out if it meets in a given week. \ncontact: itchair@acawso.org \nJoin Zoom Meeting \nhttps://us02web.zoom.us/j/89520227175 \nMeeting ID: 895 2022 7175\nPasscode: 90755
URL:https://test.acawso.org/calendar/it-committee-2023-07-19-2-2-2-2/2026-11-09/
CATEGORIES:committees
END:VEVENT
BEGIN:VEVENT
DTSTART;TZID=America/New_York:20261116T160000
DTEND;TZID=America/New_York:20261116T173000
DTSTAMP:20260421T060523
CREATED:20251119T192005Z
LAST-MODIFIED:20251119T192007Z
UID:10010244-1794844800-1794850200@test.acawso.org
SUMMARY:IT Committee
DESCRIPTION:IT Committee meets as and when needed on Mondays at 4:00pm ET (US). Please contact the IT Chair before attending the meeting to find out if it meets in a given week. \ncontact: itchair@acawso.org \nJoin Zoom Meeting \nhttps://us02web.zoom.us/j/89520227175 \nMeeting ID: 895 2022 7175\nPasscode: 90755
URL:https://test.acawso.org/calendar/it-committee-2023-07-19-2-2-2-2/2026-11-16/
CATEGORIES:committees
END:VEVENT
END:VCALENDAR