BEGIN:VCALENDAR
VERSION:2.0
PRODID:-//ACA WSO - ECPv6.15.20//NONSGML v1.0//EN
CALSCALE:GREGORIAN
METHOD:PUBLISH
X-WR-CALNAME:ACA WSO
X-ORIGINAL-URL:https://test.acawso.org
X-WR-CALDESC:Events for ACA WSO
REFRESH-INTERVAL;VALUE=DURATION:PT1H
X-Robots-Tag:noindex
X-PUBLISHED-TTL:PT1H
BEGIN:VTIMEZONE
TZID:America/New_York
BEGIN:DAYLIGHT
TZOFFSETFROM:-0500
TZOFFSETTO:-0400
TZNAME:EDT
DTSTART:20250309T070000
END:DAYLIGHT
BEGIN:STANDARD
TZOFFSETFROM:-0400
TZOFFSETTO:-0500
TZNAME:EST
DTSTART:20251102T060000
END:STANDARD
BEGIN:DAYLIGHT
TZOFFSETFROM:-0500
TZOFFSETTO:-0400
TZNAME:EDT
DTSTART:20260308T070000
END:DAYLIGHT
BEGIN:STANDARD
TZOFFSETFROM:-0400
TZOFFSETTO:-0500
TZNAME:EST
DTSTART:20261101T060000
END:STANDARD
BEGIN:DAYLIGHT
TZOFFSETFROM:-0500
TZOFFSETTO:-0400
TZNAME:EDT
DTSTART:20270314T070000
END:DAYLIGHT
BEGIN:STANDARD
TZOFFSETFROM:-0400
TZOFFSETTO:-0500
TZNAME:EST
DTSTART:20271107T060000
END:STANDARD
BEGIN:DAYLIGHT
TZOFFSETFROM:-0500
TZOFFSETTO:-0400
TZNAME:EDT
DTSTART:20280312T070000
END:DAYLIGHT
BEGIN:STANDARD
TZOFFSETFROM:-0400
TZOFFSETTO:-0500
TZNAME:EST
DTSTART:20281105T060000
END:STANDARD
BEGIN:DAYLIGHT
TZOFFSETFROM:-0500
TZOFFSETTO:-0400
TZNAME:EDT
DTSTART:20290311T070000
END:DAYLIGHT
BEGIN:STANDARD
TZOFFSETFROM:-0400
TZOFFSETTO:-0500
TZNAME:EST
DTSTART:20291104T060000
END:STANDARD
END:VTIMEZONE
BEGIN:VEVENT
DTSTART;TZID=America/New_York:20260502T130000
DTEND;TZID=America/New_York:20260502T141500
DTSTAMP:20260421T005732
CREATED:20260122T112954Z
LAST-MODIFIED:20260128T201831Z
UID:10018317-1777726800-1777731300@test.acawso.org
SUMMARY:Lit Evaluation Subcommittee
DESCRIPTION:Literature Evaluation meets the 1st Saturday of each month\, 1:00pm-2:15pm ET. \ncontact: liteval@acawso.org \nhttps://us02web.zoom.us/j/86113897454?pwd=UitVN2tHb1E1STJ5YXlWYU1mZXZ5Zz09 \nMeeting ID: 861 1389 7454\nPasscode: 127253
URL:https://test.acawso.org/calendar/lit-evaluation-subcommittee-3-2/2026-05-02/
CATEGORIES:committees
END:VEVENT
BEGIN:VEVENT
DTSTART;TZID=America/New_York:20260606T130000
DTEND;TZID=America/New_York:20260606T141500
DTSTAMP:20260421T005732
CREATED:20260122T112954Z
LAST-MODIFIED:20260128T201831Z
UID:10018318-1780750800-1780755300@test.acawso.org
SUMMARY:Lit Evaluation Subcommittee
DESCRIPTION:Literature Evaluation meets the 1st Saturday of each month\, 1:00pm-2:15pm ET. \ncontact: liteval@acawso.org \nhttps://us02web.zoom.us/j/86113897454?pwd=UitVN2tHb1E1STJ5YXlWYU1mZXZ5Zz09 \nMeeting ID: 861 1389 7454\nPasscode: 127253
URL:https://test.acawso.org/calendar/lit-evaluation-subcommittee-3-2/2026-06-06/
CATEGORIES:committees
END:VEVENT
BEGIN:VEVENT
DTSTART;TZID=America/New_York:20260704T130000
DTEND;TZID=America/New_York:20260704T141500
DTSTAMP:20260421T005732
CREATED:20260122T112954Z
LAST-MODIFIED:20260128T201831Z
UID:10018319-1783170000-1783174500@test.acawso.org
SUMMARY:Lit Evaluation Subcommittee
DESCRIPTION:Literature Evaluation meets the 1st Saturday of each month\, 1:00pm-2:15pm ET. \ncontact: liteval@acawso.org \nhttps://us02web.zoom.us/j/86113897454?pwd=UitVN2tHb1E1STJ5YXlWYU1mZXZ5Zz09 \nMeeting ID: 861 1389 7454\nPasscode: 127253
URL:https://test.acawso.org/calendar/lit-evaluation-subcommittee-3-2/2026-07-04/
CATEGORIES:committees
END:VEVENT
BEGIN:VEVENT
DTSTART;TZID=America/New_York:20260801T130000
DTEND;TZID=America/New_York:20260801T141500
DTSTAMP:20260421T005732
CREATED:20260122T112954Z
LAST-MODIFIED:20260128T201831Z
UID:10018320-1785589200-1785593700@test.acawso.org
SUMMARY:Lit Evaluation Subcommittee
DESCRIPTION:Literature Evaluation meets the 1st Saturday of each month\, 1:00pm-2:15pm ET. \ncontact: liteval@acawso.org \nhttps://us02web.zoom.us/j/86113897454?pwd=UitVN2tHb1E1STJ5YXlWYU1mZXZ5Zz09 \nMeeting ID: 861 1389 7454\nPasscode: 127253
URL:https://test.acawso.org/calendar/lit-evaluation-subcommittee-3-2/2026-08-01/
CATEGORIES:committees
END:VEVENT
BEGIN:VEVENT
DTSTART;TZID=America/New_York:20260905T130000
DTEND;TZID=America/New_York:20260905T141500
DTSTAMP:20260421T005732
CREATED:20260122T112954Z
LAST-MODIFIED:20260128T201831Z
UID:10018321-1788613200-1788617700@test.acawso.org
SUMMARY:Lit Evaluation Subcommittee
DESCRIPTION:Literature Evaluation meets the 1st Saturday of each month\, 1:00pm-2:15pm ET. \ncontact: liteval@acawso.org \nhttps://us02web.zoom.us/j/86113897454?pwd=UitVN2tHb1E1STJ5YXlWYU1mZXZ5Zz09 \nMeeting ID: 861 1389 7454\nPasscode: 127253
URL:https://test.acawso.org/calendar/lit-evaluation-subcommittee-3-2/2026-09-05/
CATEGORIES:committees
END:VEVENT
BEGIN:VEVENT
DTSTART;TZID=America/New_York:20261003T130000
DTEND;TZID=America/New_York:20261003T141500
DTSTAMP:20260421T005732
CREATED:20260122T112954Z
LAST-MODIFIED:20260128T201831Z
UID:10018322-1791032400-1791036900@test.acawso.org
SUMMARY:Lit Evaluation Subcommittee
DESCRIPTION:Literature Evaluation meets the 1st Saturday of each month\, 1:00pm-2:15pm ET. \ncontact: liteval@acawso.org \nhttps://us02web.zoom.us/j/86113897454?pwd=UitVN2tHb1E1STJ5YXlWYU1mZXZ5Zz09 \nMeeting ID: 861 1389 7454\nPasscode: 127253
URL:https://test.acawso.org/calendar/lit-evaluation-subcommittee-3-2/2026-10-03/
CATEGORIES:committees
END:VEVENT
BEGIN:VEVENT
DTSTART;TZID=America/New_York:20261107T130000
DTEND;TZID=America/New_York:20261107T141500
DTSTAMP:20260421T005732
CREATED:20260122T112954Z
LAST-MODIFIED:20260128T201831Z
UID:10018323-1794056400-1794060900@test.acawso.org
SUMMARY:Lit Evaluation Subcommittee
DESCRIPTION:Literature Evaluation meets the 1st Saturday of each month\, 1:00pm-2:15pm ET. \ncontact: liteval@acawso.org \nhttps://us02web.zoom.us/j/86113897454?pwd=UitVN2tHb1E1STJ5YXlWYU1mZXZ5Zz09 \nMeeting ID: 861 1389 7454\nPasscode: 127253
URL:https://test.acawso.org/calendar/lit-evaluation-subcommittee-3-2/2026-11-07/
CATEGORIES:committees
END:VEVENT
BEGIN:VEVENT
DTSTART;TZID=America/New_York:20261205T130000
DTEND;TZID=America/New_York:20261205T141500
DTSTAMP:20260421T005732
CREATED:20260122T112954Z
LAST-MODIFIED:20260128T201831Z
UID:10018324-1796475600-1796480100@test.acawso.org
SUMMARY:Lit Evaluation Subcommittee
DESCRIPTION:Literature Evaluation meets the 1st Saturday of each month\, 1:00pm-2:15pm ET. \ncontact: liteval@acawso.org \nhttps://us02web.zoom.us/j/86113897454?pwd=UitVN2tHb1E1STJ5YXlWYU1mZXZ5Zz09 \nMeeting ID: 861 1389 7454\nPasscode: 127253
URL:https://test.acawso.org/calendar/lit-evaluation-subcommittee-3-2/2026-12-05/
CATEGORIES:committees
END:VEVENT
BEGIN:VEVENT
DTSTART;TZID=America/New_York:20270102T130000
DTEND;TZID=America/New_York:20270102T141500
DTSTAMP:20260421T005732
CREATED:20260122T112954Z
LAST-MODIFIED:20260128T201831Z
UID:10018325-1798894800-1798899300@test.acawso.org
SUMMARY:Lit Evaluation Subcommittee
DESCRIPTION:Literature Evaluation meets the 1st Saturday of each month\, 1:00pm-2:15pm ET. \ncontact: liteval@acawso.org \nhttps://us02web.zoom.us/j/86113897454?pwd=UitVN2tHb1E1STJ5YXlWYU1mZXZ5Zz09 \nMeeting ID: 861 1389 7454\nPasscode: 127253
URL:https://test.acawso.org/calendar/lit-evaluation-subcommittee-3-2/2027-01-02/
CATEGORIES:committees
END:VEVENT
BEGIN:VEVENT
DTSTART;TZID=America/New_York:20270206T130000
DTEND;TZID=America/New_York:20270206T141500
DTSTAMP:20260421T005732
CREATED:20260122T112954Z
LAST-MODIFIED:20260128T201831Z
UID:10018326-1801918800-1801923300@test.acawso.org
SUMMARY:Lit Evaluation Subcommittee
DESCRIPTION:Literature Evaluation meets the 1st Saturday of each month\, 1:00pm-2:15pm ET. \ncontact: liteval@acawso.org \nhttps://us02web.zoom.us/j/86113897454?pwd=UitVN2tHb1E1STJ5YXlWYU1mZXZ5Zz09 \nMeeting ID: 861 1389 7454\nPasscode: 127253
URL:https://test.acawso.org/calendar/lit-evaluation-subcommittee-3-2/2027-02-06/
CATEGORIES:committees
END:VEVENT
BEGIN:VEVENT
DTSTART;TZID=America/New_York:20270306T130000
DTEND;TZID=America/New_York:20270306T141500
DTSTAMP:20260421T005732
CREATED:20260122T112954Z
LAST-MODIFIED:20260128T201831Z
UID:10018327-1804338000-1804342500@test.acawso.org
SUMMARY:Lit Evaluation Subcommittee
DESCRIPTION:Literature Evaluation meets the 1st Saturday of each month\, 1:00pm-2:15pm ET. \ncontact: liteval@acawso.org \nhttps://us02web.zoom.us/j/86113897454?pwd=UitVN2tHb1E1STJ5YXlWYU1mZXZ5Zz09 \nMeeting ID: 861 1389 7454\nPasscode: 127253
URL:https://test.acawso.org/calendar/lit-evaluation-subcommittee-3-2/2027-03-06/
CATEGORIES:committees
END:VEVENT
BEGIN:VEVENT
DTSTART;TZID=America/New_York:20270403T130000
DTEND;TZID=America/New_York:20270403T141500
DTSTAMP:20260421T005732
CREATED:20260122T112954Z
LAST-MODIFIED:20260128T201831Z
UID:10018328-1806757200-1806761700@test.acawso.org
SUMMARY:Lit Evaluation Subcommittee
DESCRIPTION:Literature Evaluation meets the 1st Saturday of each month\, 1:00pm-2:15pm ET. \ncontact: liteval@acawso.org \nhttps://us02web.zoom.us/j/86113897454?pwd=UitVN2tHb1E1STJ5YXlWYU1mZXZ5Zz09 \nMeeting ID: 861 1389 7454\nPasscode: 127253
URL:https://test.acawso.org/calendar/lit-evaluation-subcommittee-3-2/2027-04-03/
CATEGORIES:committees
END:VEVENT
BEGIN:VEVENT
DTSTART;TZID=America/New_York:20270501T130000
DTEND;TZID=America/New_York:20270501T141500
DTSTAMP:20260421T005732
CREATED:20260122T112954Z
LAST-MODIFIED:20260128T201831Z
UID:10018329-1809176400-1809180900@test.acawso.org
SUMMARY:Lit Evaluation Subcommittee
DESCRIPTION:Literature Evaluation meets the 1st Saturday of each month\, 1:00pm-2:15pm ET. \ncontact: liteval@acawso.org \nhttps://us02web.zoom.us/j/86113897454?pwd=UitVN2tHb1E1STJ5YXlWYU1mZXZ5Zz09 \nMeeting ID: 861 1389 7454\nPasscode: 127253
URL:https://test.acawso.org/calendar/lit-evaluation-subcommittee-3-2/2027-05-01/
CATEGORIES:committees
END:VEVENT
BEGIN:VEVENT
DTSTART;TZID=America/New_York:20270605T130000
DTEND;TZID=America/New_York:20270605T141500
DTSTAMP:20260421T005732
CREATED:20260122T112954Z
LAST-MODIFIED:20260128T201831Z
UID:10018330-1812200400-1812204900@test.acawso.org
SUMMARY:Lit Evaluation Subcommittee
DESCRIPTION:Literature Evaluation meets the 1st Saturday of each month\, 1:00pm-2:15pm ET. \ncontact: liteval@acawso.org \nhttps://us02web.zoom.us/j/86113897454?pwd=UitVN2tHb1E1STJ5YXlWYU1mZXZ5Zz09 \nMeeting ID: 861 1389 7454\nPasscode: 127253
URL:https://test.acawso.org/calendar/lit-evaluation-subcommittee-3-2/2027-06-05/
CATEGORIES:committees
END:VEVENT
BEGIN:VEVENT
DTSTART;TZID=America/New_York:20270703T130000
DTEND;TZID=America/New_York:20270703T141500
DTSTAMP:20260421T005732
CREATED:20260122T112954Z
LAST-MODIFIED:20260128T201831Z
UID:10018331-1814619600-1814624100@test.acawso.org
SUMMARY:Lit Evaluation Subcommittee
DESCRIPTION:Literature Evaluation meets the 1st Saturday of each month\, 1:00pm-2:15pm ET. \ncontact: liteval@acawso.org \nhttps://us02web.zoom.us/j/86113897454?pwd=UitVN2tHb1E1STJ5YXlWYU1mZXZ5Zz09 \nMeeting ID: 861 1389 7454\nPasscode: 127253
URL:https://test.acawso.org/calendar/lit-evaluation-subcommittee-3-2/2027-07-03/
CATEGORIES:committees
END:VEVENT
BEGIN:VEVENT
DTSTART;TZID=America/New_York:20270807T130000
DTEND;TZID=America/New_York:20270807T141500
DTSTAMP:20260421T005732
CREATED:20260122T112954Z
LAST-MODIFIED:20260128T201831Z
UID:10018332-1817643600-1817648100@test.acawso.org
SUMMARY:Lit Evaluation Subcommittee
DESCRIPTION:Literature Evaluation meets the 1st Saturday of each month\, 1:00pm-2:15pm ET. \ncontact: liteval@acawso.org \nhttps://us02web.zoom.us/j/86113897454?pwd=UitVN2tHb1E1STJ5YXlWYU1mZXZ5Zz09 \nMeeting ID: 861 1389 7454\nPasscode: 127253
URL:https://test.acawso.org/calendar/lit-evaluation-subcommittee-3-2/2027-08-07/
CATEGORIES:committees
END:VEVENT
BEGIN:VEVENT
DTSTART;TZID=America/New_York:20270904T130000
DTEND;TZID=America/New_York:20270904T141500
DTSTAMP:20260421T005732
CREATED:20260122T112954Z
LAST-MODIFIED:20260128T201831Z
UID:10018333-1820062800-1820067300@test.acawso.org
SUMMARY:Lit Evaluation Subcommittee
DESCRIPTION:Literature Evaluation meets the 1st Saturday of each month\, 1:00pm-2:15pm ET. \ncontact: liteval@acawso.org \nhttps://us02web.zoom.us/j/86113897454?pwd=UitVN2tHb1E1STJ5YXlWYU1mZXZ5Zz09 \nMeeting ID: 861 1389 7454\nPasscode: 127253
URL:https://test.acawso.org/calendar/lit-evaluation-subcommittee-3-2/2027-09-04/
CATEGORIES:committees
END:VEVENT
BEGIN:VEVENT
DTSTART;TZID=America/New_York:20271002T130000
DTEND;TZID=America/New_York:20271002T141500
DTSTAMP:20260421T005732
CREATED:20260122T112954Z
LAST-MODIFIED:20260128T201831Z
UID:10018334-1822482000-1822486500@test.acawso.org
SUMMARY:Lit Evaluation Subcommittee
DESCRIPTION:Literature Evaluation meets the 1st Saturday of each month\, 1:00pm-2:15pm ET. \ncontact: liteval@acawso.org \nhttps://us02web.zoom.us/j/86113897454?pwd=UitVN2tHb1E1STJ5YXlWYU1mZXZ5Zz09 \nMeeting ID: 861 1389 7454\nPasscode: 127253
URL:https://test.acawso.org/calendar/lit-evaluation-subcommittee-3-2/2027-10-02/
CATEGORIES:committees
END:VEVENT
BEGIN:VEVENT
DTSTART;TZID=America/New_York:20271106T130000
DTEND;TZID=America/New_York:20271106T141500
DTSTAMP:20260421T005732
CREATED:20260122T112954Z
LAST-MODIFIED:20260128T201831Z
UID:10018335-1825506000-1825510500@test.acawso.org
SUMMARY:Lit Evaluation Subcommittee
DESCRIPTION:Literature Evaluation meets the 1st Saturday of each month\, 1:00pm-2:15pm ET. \ncontact: liteval@acawso.org \nhttps://us02web.zoom.us/j/86113897454?pwd=UitVN2tHb1E1STJ5YXlWYU1mZXZ5Zz09 \nMeeting ID: 861 1389 7454\nPasscode: 127253
URL:https://test.acawso.org/calendar/lit-evaluation-subcommittee-3-2/2027-11-06/
CATEGORIES:committees
END:VEVENT
BEGIN:VEVENT
DTSTART;TZID=America/New_York:20271204T130000
DTEND;TZID=America/New_York:20271204T141500
DTSTAMP:20260421T005732
CREATED:20260122T112954Z
LAST-MODIFIED:20260128T201831Z
UID:10018336-1827925200-1827929700@test.acawso.org
SUMMARY:Lit Evaluation Subcommittee
DESCRIPTION:Literature Evaluation meets the 1st Saturday of each month\, 1:00pm-2:15pm ET. \ncontact: liteval@acawso.org \nhttps://us02web.zoom.us/j/86113897454?pwd=UitVN2tHb1E1STJ5YXlWYU1mZXZ5Zz09 \nMeeting ID: 861 1389 7454\nPasscode: 127253
URL:https://test.acawso.org/calendar/lit-evaluation-subcommittee-3-2/2027-12-04/
CATEGORIES:committees
END:VEVENT
BEGIN:VEVENT
DTSTART;TZID=America/New_York:20280101T130000
DTEND;TZID=America/New_York:20280101T141500
DTSTAMP:20260421T005732
CREATED:20260122T112954Z
LAST-MODIFIED:20260128T201831Z
UID:10018337-1830344400-1830348900@test.acawso.org
SUMMARY:Lit Evaluation Subcommittee
DESCRIPTION:Literature Evaluation meets the 1st Saturday of each month\, 1:00pm-2:15pm ET. \ncontact: liteval@acawso.org \nhttps://us02web.zoom.us/j/86113897454?pwd=UitVN2tHb1E1STJ5YXlWYU1mZXZ5Zz09 \nMeeting ID: 861 1389 7454\nPasscode: 127253
URL:https://test.acawso.org/calendar/lit-evaluation-subcommittee-3-2/2028-01-01/
CATEGORIES:committees
END:VEVENT
BEGIN:VEVENT
DTSTART;TZID=America/New_York:20280205T130000
DTEND;TZID=America/New_York:20280205T141500
DTSTAMP:20260421T005732
CREATED:20260122T112954Z
LAST-MODIFIED:20260128T201831Z
UID:10018338-1833368400-1833372900@test.acawso.org
SUMMARY:Lit Evaluation Subcommittee
DESCRIPTION:Literature Evaluation meets the 1st Saturday of each month\, 1:00pm-2:15pm ET. \ncontact: liteval@acawso.org \nhttps://us02web.zoom.us/j/86113897454?pwd=UitVN2tHb1E1STJ5YXlWYU1mZXZ5Zz09 \nMeeting ID: 861 1389 7454\nPasscode: 127253
URL:https://test.acawso.org/calendar/lit-evaluation-subcommittee-3-2/2028-02-05/
CATEGORIES:committees
END:VEVENT
BEGIN:VEVENT
DTSTART;TZID=America/New_York:20280304T130000
DTEND;TZID=America/New_York:20280304T141500
DTSTAMP:20260421T005732
CREATED:20260122T112954Z
LAST-MODIFIED:20260128T201831Z
UID:10018339-1835787600-1835792100@test.acawso.org
SUMMARY:Lit Evaluation Subcommittee
DESCRIPTION:Literature Evaluation meets the 1st Saturday of each month\, 1:00pm-2:15pm ET. \ncontact: liteval@acawso.org \nhttps://us02web.zoom.us/j/86113897454?pwd=UitVN2tHb1E1STJ5YXlWYU1mZXZ5Zz09 \nMeeting ID: 861 1389 7454\nPasscode: 127253
URL:https://test.acawso.org/calendar/lit-evaluation-subcommittee-3-2/2028-03-04/
CATEGORIES:committees
END:VEVENT
BEGIN:VEVENT
DTSTART;TZID=America/New_York:20280401T130000
DTEND;TZID=America/New_York:20280401T141500
DTSTAMP:20260421T005732
CREATED:20260122T112954Z
LAST-MODIFIED:20260128T201831Z
UID:10018340-1838206800-1838211300@test.acawso.org
SUMMARY:Lit Evaluation Subcommittee
DESCRIPTION:Literature Evaluation meets the 1st Saturday of each month\, 1:00pm-2:15pm ET. \ncontact: liteval@acawso.org \nhttps://us02web.zoom.us/j/86113897454?pwd=UitVN2tHb1E1STJ5YXlWYU1mZXZ5Zz09 \nMeeting ID: 861 1389 7454\nPasscode: 127253
URL:https://test.acawso.org/calendar/lit-evaluation-subcommittee-3-2/2028-04-01/
CATEGORIES:committees
END:VEVENT
BEGIN:VEVENT
DTSTART;TZID=America/New_York:20280506T130000
DTEND;TZID=America/New_York:20280506T141500
DTSTAMP:20260421T005732
CREATED:20260122T112954Z
LAST-MODIFIED:20260128T201831Z
UID:10018341-1841230800-1841235300@test.acawso.org
SUMMARY:Lit Evaluation Subcommittee
DESCRIPTION:Literature Evaluation meets the 1st Saturday of each month\, 1:00pm-2:15pm ET. \ncontact: liteval@acawso.org \nhttps://us02web.zoom.us/j/86113897454?pwd=UitVN2tHb1E1STJ5YXlWYU1mZXZ5Zz09 \nMeeting ID: 861 1389 7454\nPasscode: 127253
URL:https://test.acawso.org/calendar/lit-evaluation-subcommittee-3-2/2028-05-06/
CATEGORIES:committees
END:VEVENT
BEGIN:VEVENT
DTSTART;TZID=America/New_York:20280603T130000
DTEND;TZID=America/New_York:20280603T141500
DTSTAMP:20260421T005732
CREATED:20260122T112954Z
LAST-MODIFIED:20260128T201831Z
UID:10018342-1843650000-1843654500@test.acawso.org
SUMMARY:Lit Evaluation Subcommittee
DESCRIPTION:Literature Evaluation meets the 1st Saturday of each month\, 1:00pm-2:15pm ET. \ncontact: liteval@acawso.org \nhttps://us02web.zoom.us/j/86113897454?pwd=UitVN2tHb1E1STJ5YXlWYU1mZXZ5Zz09 \nMeeting ID: 861 1389 7454\nPasscode: 127253
URL:https://test.acawso.org/calendar/lit-evaluation-subcommittee-3-2/2028-06-03/
CATEGORIES:committees
END:VEVENT
BEGIN:VEVENT
DTSTART;TZID=America/New_York:20280701T130000
DTEND;TZID=America/New_York:20280701T141500
DTSTAMP:20260421T005732
CREATED:20260122T112954Z
LAST-MODIFIED:20260128T201831Z
UID:10018343-1846069200-1846073700@test.acawso.org
SUMMARY:Lit Evaluation Subcommittee
DESCRIPTION:Literature Evaluation meets the 1st Saturday of each month\, 1:00pm-2:15pm ET. \ncontact: liteval@acawso.org \nhttps://us02web.zoom.us/j/86113897454?pwd=UitVN2tHb1E1STJ5YXlWYU1mZXZ5Zz09 \nMeeting ID: 861 1389 7454\nPasscode: 127253
URL:https://test.acawso.org/calendar/lit-evaluation-subcommittee-3-2/2028-07-01/
CATEGORIES:committees
END:VEVENT
BEGIN:VEVENT
DTSTART;TZID=America/New_York:20280805T130000
DTEND;TZID=America/New_York:20280805T141500
DTSTAMP:20260421T005732
CREATED:20260122T112954Z
LAST-MODIFIED:20260128T201831Z
UID:10018344-1849093200-1849097700@test.acawso.org
SUMMARY:Lit Evaluation Subcommittee
DESCRIPTION:Literature Evaluation meets the 1st Saturday of each month\, 1:00pm-2:15pm ET. \ncontact: liteval@acawso.org \nhttps://us02web.zoom.us/j/86113897454?pwd=UitVN2tHb1E1STJ5YXlWYU1mZXZ5Zz09 \nMeeting ID: 861 1389 7454\nPasscode: 127253
URL:https://test.acawso.org/calendar/lit-evaluation-subcommittee-3-2/2028-08-05/
CATEGORIES:committees
END:VEVENT
BEGIN:VEVENT
DTSTART;TZID=America/New_York:20280902T130000
DTEND;TZID=America/New_York:20280902T141500
DTSTAMP:20260421T005732
CREATED:20260122T112954Z
LAST-MODIFIED:20260128T201831Z
UID:10018345-1851512400-1851516900@test.acawso.org
SUMMARY:Lit Evaluation Subcommittee
DESCRIPTION:Literature Evaluation meets the 1st Saturday of each month\, 1:00pm-2:15pm ET. \ncontact: liteval@acawso.org \nhttps://us02web.zoom.us/j/86113897454?pwd=UitVN2tHb1E1STJ5YXlWYU1mZXZ5Zz09 \nMeeting ID: 861 1389 7454\nPasscode: 127253
URL:https://test.acawso.org/calendar/lit-evaluation-subcommittee-3-2/2028-09-02/
CATEGORIES:committees
END:VEVENT
BEGIN:VEVENT
DTSTART;TZID=America/New_York:20281007T130000
DTEND;TZID=America/New_York:20281007T141500
DTSTAMP:20260421T005732
CREATED:20260122T112954Z
LAST-MODIFIED:20260128T201831Z
UID:10018346-1854536400-1854540900@test.acawso.org
SUMMARY:Lit Evaluation Subcommittee
DESCRIPTION:Literature Evaluation meets the 1st Saturday of each month\, 1:00pm-2:15pm ET. \ncontact: liteval@acawso.org \nhttps://us02web.zoom.us/j/86113897454?pwd=UitVN2tHb1E1STJ5YXlWYU1mZXZ5Zz09 \nMeeting ID: 861 1389 7454\nPasscode: 127253
URL:https://test.acawso.org/calendar/lit-evaluation-subcommittee-3-2/2028-10-07/
CATEGORIES:committees
END:VEVENT
END:VCALENDAR