BEGIN:VCALENDAR
VERSION:2.0
PRODID:-//ACA WSO - ECPv6.15.20//NONSGML v1.0//EN
CALSCALE:GREGORIAN
METHOD:PUBLISH
X-WR-CALNAME:ACA WSO
X-ORIGINAL-URL:https://test.acawso.org
X-WR-CALDESC:Events for ACA WSO
REFRESH-INTERVAL;VALUE=DURATION:PT1H
X-Robots-Tag:noindex
X-PUBLISHED-TTL:PT1H
BEGIN:VTIMEZONE
TZID:America/New_York
BEGIN:DAYLIGHT
TZOFFSETFROM:-0500
TZOFFSETTO:-0400
TZNAME:EDT
DTSTART:20250309T070000
END:DAYLIGHT
BEGIN:STANDARD
TZOFFSETFROM:-0400
TZOFFSETTO:-0500
TZNAME:EST
DTSTART:20251102T060000
END:STANDARD
BEGIN:DAYLIGHT
TZOFFSETFROM:-0500
TZOFFSETTO:-0400
TZNAME:EDT
DTSTART:20260308T070000
END:DAYLIGHT
BEGIN:STANDARD
TZOFFSETFROM:-0400
TZOFFSETTO:-0500
TZNAME:EST
DTSTART:20261101T060000
END:STANDARD
BEGIN:DAYLIGHT
TZOFFSETFROM:-0500
TZOFFSETTO:-0400
TZNAME:EDT
DTSTART:20270314T070000
END:DAYLIGHT
BEGIN:STANDARD
TZOFFSETFROM:-0400
TZOFFSETTO:-0500
TZNAME:EST
DTSTART:20271107T060000
END:STANDARD
BEGIN:DAYLIGHT
TZOFFSETFROM:-0500
TZOFFSETTO:-0400
TZNAME:EDT
DTSTART:20280312T070000
END:DAYLIGHT
BEGIN:STANDARD
TZOFFSETFROM:-0400
TZOFFSETTO:-0500
TZNAME:EST
DTSTART:20281105T060000
END:STANDARD
BEGIN:DAYLIGHT
TZOFFSETFROM:-0500
TZOFFSETTO:-0400
TZNAME:EDT
DTSTART:20290311T070000
END:DAYLIGHT
BEGIN:STANDARD
TZOFFSETFROM:-0400
TZOFFSETTO:-0500
TZNAME:EST
DTSTART:20291104T060000
END:STANDARD
END:VTIMEZONE
BEGIN:VEVENT
DTSTART;TZID=America/New_York:20260423T160000
DTEND;TZID=America/New_York:20260423T173000
DTSTAMP:20260421T185528
CREATED:20260306T144231Z
LAST-MODIFIED:20260306T144231Z
UID:10018561-1776960000-1776965400@test.acawso.org
SUMMARY:Finance Committee
DESCRIPTION:The finance committee meets Thursdays from 4:00 pm ET – 5:30pm ET.  We are looking for members with business\, finance\, or bookkeeping experience. \n  \nPlease contact treasurer@adultchildren.org or finance@acawso.org if you are interested in visiting or joining the finance committee.
URL:https://test.acawso.org/calendar/finance-committee-3-2/2026-04-23/
CATEGORIES:committees
END:VEVENT
BEGIN:VEVENT
DTSTART;TZID=America/New_York:20260528T160000
DTEND;TZID=America/New_York:20260528T173000
DTSTAMP:20260421T185528
CREATED:20260306T144231Z
LAST-MODIFIED:20260306T144231Z
UID:10018562-1779984000-1779989400@test.acawso.org
SUMMARY:Finance Committee
DESCRIPTION:The finance committee meets Thursdays from 4:00 pm ET – 5:30pm ET.  We are looking for members with business\, finance\, or bookkeeping experience. \n  \nPlease contact treasurer@adultchildren.org or finance@acawso.org if you are interested in visiting or joining the finance committee.
URL:https://test.acawso.org/calendar/finance-committee-3-2/2026-05-28/
CATEGORIES:committees
END:VEVENT
BEGIN:VEVENT
DTSTART;TZID=America/New_York:20260625T160000
DTEND;TZID=America/New_York:20260625T173000
DTSTAMP:20260421T185528
CREATED:20260306T144231Z
LAST-MODIFIED:20260306T144231Z
UID:10018563-1782403200-1782408600@test.acawso.org
SUMMARY:Finance Committee
DESCRIPTION:The finance committee meets Thursdays from 4:00 pm ET – 5:30pm ET.  We are looking for members with business\, finance\, or bookkeeping experience. \n  \nPlease contact treasurer@adultchildren.org or finance@acawso.org if you are interested in visiting or joining the finance committee.
URL:https://test.acawso.org/calendar/finance-committee-3-2/2026-06-25/
CATEGORIES:committees
END:VEVENT
BEGIN:VEVENT
DTSTART;TZID=America/New_York:20260723T160000
DTEND;TZID=America/New_York:20260723T173000
DTSTAMP:20260421T185528
CREATED:20260306T144231Z
LAST-MODIFIED:20260306T144231Z
UID:10018564-1784822400-1784827800@test.acawso.org
SUMMARY:Finance Committee
DESCRIPTION:The finance committee meets Thursdays from 4:00 pm ET – 5:30pm ET.  We are looking for members with business\, finance\, or bookkeeping experience. \n  \nPlease contact treasurer@adultchildren.org or finance@acawso.org if you are interested in visiting or joining the finance committee.
URL:https://test.acawso.org/calendar/finance-committee-3-2/2026-07-23/
CATEGORIES:committees
END:VEVENT
BEGIN:VEVENT
DTSTART;TZID=America/New_York:20260827T160000
DTEND;TZID=America/New_York:20260827T173000
DTSTAMP:20260421T185528
CREATED:20260306T144231Z
LAST-MODIFIED:20260306T144231Z
UID:10018565-1787846400-1787851800@test.acawso.org
SUMMARY:Finance Committee
DESCRIPTION:The finance committee meets Thursdays from 4:00 pm ET – 5:30pm ET.  We are looking for members with business\, finance\, or bookkeeping experience. \n  \nPlease contact treasurer@adultchildren.org or finance@acawso.org if you are interested in visiting or joining the finance committee.
URL:https://test.acawso.org/calendar/finance-committee-3-2/2026-08-27/
CATEGORIES:committees
END:VEVENT
BEGIN:VEVENT
DTSTART;TZID=America/New_York:20260924T160000
DTEND;TZID=America/New_York:20260924T173000
DTSTAMP:20260421T185528
CREATED:20260306T144231Z
LAST-MODIFIED:20260306T144231Z
UID:10018566-1790265600-1790271000@test.acawso.org
SUMMARY:Finance Committee
DESCRIPTION:The finance committee meets Thursdays from 4:00 pm ET – 5:30pm ET.  We are looking for members with business\, finance\, or bookkeeping experience. \n  \nPlease contact treasurer@adultchildren.org or finance@acawso.org if you are interested in visiting or joining the finance committee.
URL:https://test.acawso.org/calendar/finance-committee-3-2/2026-09-24/
CATEGORIES:committees
END:VEVENT
BEGIN:VEVENT
DTSTART;TZID=America/New_York:20261022T160000
DTEND;TZID=America/New_York:20261022T173000
DTSTAMP:20260421T185528
CREATED:20260306T144231Z
LAST-MODIFIED:20260306T144231Z
UID:10018567-1792684800-1792690200@test.acawso.org
SUMMARY:Finance Committee
DESCRIPTION:The finance committee meets Thursdays from 4:00 pm ET – 5:30pm ET.  We are looking for members with business\, finance\, or bookkeeping experience. \n  \nPlease contact treasurer@adultchildren.org or finance@acawso.org if you are interested in visiting or joining the finance committee.
URL:https://test.acawso.org/calendar/finance-committee-3-2/2026-10-22/
CATEGORIES:committees
END:VEVENT
BEGIN:VEVENT
DTSTART;TZID=America/New_York:20261126T160000
DTEND;TZID=America/New_York:20261126T173000
DTSTAMP:20260421T185528
CREATED:20260306T144231Z
LAST-MODIFIED:20260306T144231Z
UID:10018568-1795708800-1795714200@test.acawso.org
SUMMARY:Finance Committee
DESCRIPTION:The finance committee meets Thursdays from 4:00 pm ET – 5:30pm ET.  We are looking for members with business\, finance\, or bookkeeping experience. \n  \nPlease contact treasurer@adultchildren.org or finance@acawso.org if you are interested in visiting or joining the finance committee.
URL:https://test.acawso.org/calendar/finance-committee-3-2/2026-11-26/
CATEGORIES:committees
END:VEVENT
BEGIN:VEVENT
DTSTART;TZID=America/New_York:20261224T160000
DTEND;TZID=America/New_York:20261224T173000
DTSTAMP:20260421T185528
CREATED:20260306T144231Z
LAST-MODIFIED:20260306T144231Z
UID:10018569-1798128000-1798133400@test.acawso.org
SUMMARY:Finance Committee
DESCRIPTION:The finance committee meets Thursdays from 4:00 pm ET – 5:30pm ET.  We are looking for members with business\, finance\, or bookkeeping experience. \n  \nPlease contact treasurer@adultchildren.org or finance@acawso.org if you are interested in visiting or joining the finance committee.
URL:https://test.acawso.org/calendar/finance-committee-3-2/2026-12-24/
CATEGORIES:committees
END:VEVENT
BEGIN:VEVENT
DTSTART;TZID=America/New_York:20270128T160000
DTEND;TZID=America/New_York:20270128T173000
DTSTAMP:20260421T185528
CREATED:20260306T144231Z
LAST-MODIFIED:20260306T144231Z
UID:10018570-1801152000-1801157400@test.acawso.org
SUMMARY:Finance Committee
DESCRIPTION:The finance committee meets Thursdays from 4:00 pm ET – 5:30pm ET.  We are looking for members with business\, finance\, or bookkeeping experience. \n  \nPlease contact treasurer@adultchildren.org or finance@acawso.org if you are interested in visiting or joining the finance committee.
URL:https://test.acawso.org/calendar/finance-committee-3-2/2027-01-28/
CATEGORIES:committees
END:VEVENT
BEGIN:VEVENT
DTSTART;TZID=America/New_York:20270225T160000
DTEND;TZID=America/New_York:20270225T173000
DTSTAMP:20260421T185528
CREATED:20260306T144231Z
LAST-MODIFIED:20260306T144231Z
UID:10018571-1803571200-1803576600@test.acawso.org
SUMMARY:Finance Committee
DESCRIPTION:The finance committee meets Thursdays from 4:00 pm ET – 5:30pm ET.  We are looking for members with business\, finance\, or bookkeeping experience. \n  \nPlease contact treasurer@adultchildren.org or finance@acawso.org if you are interested in visiting or joining the finance committee.
URL:https://test.acawso.org/calendar/finance-committee-3-2/2027-02-25/
CATEGORIES:committees
END:VEVENT
BEGIN:VEVENT
DTSTART;TZID=America/New_York:20270325T160000
DTEND;TZID=America/New_York:20270325T173000
DTSTAMP:20260421T185528
CREATED:20260306T144231Z
LAST-MODIFIED:20260306T144231Z
UID:10018572-1805990400-1805995800@test.acawso.org
SUMMARY:Finance Committee
DESCRIPTION:The finance committee meets Thursdays from 4:00 pm ET – 5:30pm ET.  We are looking for members with business\, finance\, or bookkeeping experience. \n  \nPlease contact treasurer@adultchildren.org or finance@acawso.org if you are interested in visiting or joining the finance committee.
URL:https://test.acawso.org/calendar/finance-committee-3-2/2027-03-25/
CATEGORIES:committees
END:VEVENT
BEGIN:VEVENT
DTSTART;TZID=America/New_York:20270422T160000
DTEND;TZID=America/New_York:20270422T173000
DTSTAMP:20260421T185528
CREATED:20260306T144231Z
LAST-MODIFIED:20260306T144231Z
UID:10018573-1808409600-1808415000@test.acawso.org
SUMMARY:Finance Committee
DESCRIPTION:The finance committee meets Thursdays from 4:00 pm ET – 5:30pm ET.  We are looking for members with business\, finance\, or bookkeeping experience. \n  \nPlease contact treasurer@adultchildren.org or finance@acawso.org if you are interested in visiting or joining the finance committee.
URL:https://test.acawso.org/calendar/finance-committee-3-2/2027-04-22/
CATEGORIES:committees
END:VEVENT
BEGIN:VEVENT
DTSTART;TZID=America/New_York:20270527T160000
DTEND;TZID=America/New_York:20270527T173000
DTSTAMP:20260421T185528
CREATED:20260306T144231Z
LAST-MODIFIED:20260306T144231Z
UID:10018574-1811433600-1811439000@test.acawso.org
SUMMARY:Finance Committee
DESCRIPTION:The finance committee meets Thursdays from 4:00 pm ET – 5:30pm ET.  We are looking for members with business\, finance\, or bookkeeping experience. \n  \nPlease contact treasurer@adultchildren.org or finance@acawso.org if you are interested in visiting or joining the finance committee.
URL:https://test.acawso.org/calendar/finance-committee-3-2/2027-05-27/
CATEGORIES:committees
END:VEVENT
BEGIN:VEVENT
DTSTART;TZID=America/New_York:20270624T160000
DTEND;TZID=America/New_York:20270624T173000
DTSTAMP:20260421T185528
CREATED:20260306T144231Z
LAST-MODIFIED:20260306T144231Z
UID:10018575-1813852800-1813858200@test.acawso.org
SUMMARY:Finance Committee
DESCRIPTION:The finance committee meets Thursdays from 4:00 pm ET – 5:30pm ET.  We are looking for members with business\, finance\, or bookkeeping experience. \n  \nPlease contact treasurer@adultchildren.org or finance@acawso.org if you are interested in visiting or joining the finance committee.
URL:https://test.acawso.org/calendar/finance-committee-3-2/2027-06-24/
CATEGORIES:committees
END:VEVENT
BEGIN:VEVENT
DTSTART;TZID=America/New_York:20270722T160000
DTEND;TZID=America/New_York:20270722T173000
DTSTAMP:20260421T185528
CREATED:20260306T144231Z
LAST-MODIFIED:20260306T144231Z
UID:10018576-1816272000-1816277400@test.acawso.org
SUMMARY:Finance Committee
DESCRIPTION:The finance committee meets Thursdays from 4:00 pm ET – 5:30pm ET.  We are looking for members with business\, finance\, or bookkeeping experience. \n  \nPlease contact treasurer@adultchildren.org or finance@acawso.org if you are interested in visiting or joining the finance committee.
URL:https://test.acawso.org/calendar/finance-committee-3-2/2027-07-22/
CATEGORIES:committees
END:VEVENT
BEGIN:VEVENT
DTSTART;TZID=America/New_York:20270826T160000
DTEND;TZID=America/New_York:20270826T173000
DTSTAMP:20260421T185528
CREATED:20260306T144231Z
LAST-MODIFIED:20260306T144231Z
UID:10018577-1819296000-1819301400@test.acawso.org
SUMMARY:Finance Committee
DESCRIPTION:The finance committee meets Thursdays from 4:00 pm ET – 5:30pm ET.  We are looking for members with business\, finance\, or bookkeeping experience. \n  \nPlease contact treasurer@adultchildren.org or finance@acawso.org if you are interested in visiting or joining the finance committee.
URL:https://test.acawso.org/calendar/finance-committee-3-2/2027-08-26/
CATEGORIES:committees
END:VEVENT
BEGIN:VEVENT
DTSTART;TZID=America/New_York:20270923T160000
DTEND;TZID=America/New_York:20270923T173000
DTSTAMP:20260421T185528
CREATED:20260306T144231Z
LAST-MODIFIED:20260306T144231Z
UID:10018578-1821715200-1821720600@test.acawso.org
SUMMARY:Finance Committee
DESCRIPTION:The finance committee meets Thursdays from 4:00 pm ET – 5:30pm ET.  We are looking for members with business\, finance\, or bookkeeping experience. \n  \nPlease contact treasurer@adultchildren.org or finance@acawso.org if you are interested in visiting or joining the finance committee.
URL:https://test.acawso.org/calendar/finance-committee-3-2/2027-09-23/
CATEGORIES:committees
END:VEVENT
BEGIN:VEVENT
DTSTART;TZID=America/New_York:20271028T160000
DTEND;TZID=America/New_York:20271028T173000
DTSTAMP:20260421T185528
CREATED:20260306T144231Z
LAST-MODIFIED:20260306T144231Z
UID:10018579-1824739200-1824744600@test.acawso.org
SUMMARY:Finance Committee
DESCRIPTION:The finance committee meets Thursdays from 4:00 pm ET – 5:30pm ET.  We are looking for members with business\, finance\, or bookkeeping experience. \n  \nPlease contact treasurer@adultchildren.org or finance@acawso.org if you are interested in visiting or joining the finance committee.
URL:https://test.acawso.org/calendar/finance-committee-3-2/2027-10-28/
CATEGORIES:committees
END:VEVENT
BEGIN:VEVENT
DTSTART;TZID=America/New_York:20271125T160000
DTEND;TZID=America/New_York:20271125T173000
DTSTAMP:20260421T185528
CREATED:20260306T144231Z
LAST-MODIFIED:20260306T144231Z
UID:10018580-1827158400-1827163800@test.acawso.org
SUMMARY:Finance Committee
DESCRIPTION:The finance committee meets Thursdays from 4:00 pm ET – 5:30pm ET.  We are looking for members with business\, finance\, or bookkeeping experience. \n  \nPlease contact treasurer@adultchildren.org or finance@acawso.org if you are interested in visiting or joining the finance committee.
URL:https://test.acawso.org/calendar/finance-committee-3-2/2027-11-25/
CATEGORIES:committees
END:VEVENT
BEGIN:VEVENT
DTSTART;TZID=America/New_York:20271223T160000
DTEND;TZID=America/New_York:20271223T173000
DTSTAMP:20260421T185528
CREATED:20260306T144231Z
LAST-MODIFIED:20260306T144231Z
UID:10018581-1829577600-1829583000@test.acawso.org
SUMMARY:Finance Committee
DESCRIPTION:The finance committee meets Thursdays from 4:00 pm ET – 5:30pm ET.  We are looking for members with business\, finance\, or bookkeeping experience. \n  \nPlease contact treasurer@adultchildren.org or finance@acawso.org if you are interested in visiting or joining the finance committee.
URL:https://test.acawso.org/calendar/finance-committee-3-2/2027-12-23/
CATEGORIES:committees
END:VEVENT
BEGIN:VEVENT
DTSTART;TZID=America/New_York:20280127T160000
DTEND;TZID=America/New_York:20280127T173000
DTSTAMP:20260421T185528
CREATED:20260306T144231Z
LAST-MODIFIED:20260306T144231Z
UID:10018582-1832601600-1832607000@test.acawso.org
SUMMARY:Finance Committee
DESCRIPTION:The finance committee meets Thursdays from 4:00 pm ET – 5:30pm ET.  We are looking for members with business\, finance\, or bookkeeping experience. \n  \nPlease contact treasurer@adultchildren.org or finance@acawso.org if you are interested in visiting or joining the finance committee.
URL:https://test.acawso.org/calendar/finance-committee-3-2/2028-01-27/
CATEGORIES:committees
END:VEVENT
BEGIN:VEVENT
DTSTART;TZID=America/New_York:20280224T160000
DTEND;TZID=America/New_York:20280224T173000
DTSTAMP:20260421T185528
CREATED:20260306T144231Z
LAST-MODIFIED:20260306T144231Z
UID:10018583-1835020800-1835026200@test.acawso.org
SUMMARY:Finance Committee
DESCRIPTION:The finance committee meets Thursdays from 4:00 pm ET – 5:30pm ET.  We are looking for members with business\, finance\, or bookkeeping experience. \n  \nPlease contact treasurer@adultchildren.org or finance@acawso.org if you are interested in visiting or joining the finance committee.
URL:https://test.acawso.org/calendar/finance-committee-3-2/2028-02-24/
CATEGORIES:committees
END:VEVENT
BEGIN:VEVENT
DTSTART;TZID=America/New_York:20280323T160000
DTEND;TZID=America/New_York:20280323T173000
DTSTAMP:20260421T185528
CREATED:20260306T144231Z
LAST-MODIFIED:20260306T144231Z
UID:10018584-1837440000-1837445400@test.acawso.org
SUMMARY:Finance Committee
DESCRIPTION:The finance committee meets Thursdays from 4:00 pm ET – 5:30pm ET.  We are looking for members with business\, finance\, or bookkeeping experience. \n  \nPlease contact treasurer@adultchildren.org or finance@acawso.org if you are interested in visiting or joining the finance committee.
URL:https://test.acawso.org/calendar/finance-committee-3-2/2028-03-23/
CATEGORIES:committees
END:VEVENT
BEGIN:VEVENT
DTSTART;TZID=America/New_York:20280427T160000
DTEND;TZID=America/New_York:20280427T173000
DTSTAMP:20260421T185528
CREATED:20260306T144231Z
LAST-MODIFIED:20260306T144231Z
UID:10018585-1840464000-1840469400@test.acawso.org
SUMMARY:Finance Committee
DESCRIPTION:The finance committee meets Thursdays from 4:00 pm ET – 5:30pm ET.  We are looking for members with business\, finance\, or bookkeeping experience. \n  \nPlease contact treasurer@adultchildren.org or finance@acawso.org if you are interested in visiting or joining the finance committee.
URL:https://test.acawso.org/calendar/finance-committee-3-2/2028-04-27/
CATEGORIES:committees
END:VEVENT
BEGIN:VEVENT
DTSTART;TZID=America/New_York:20280525T160000
DTEND;TZID=America/New_York:20280525T173000
DTSTAMP:20260421T185528
CREATED:20260306T144231Z
LAST-MODIFIED:20260306T144231Z
UID:10018586-1842883200-1842888600@test.acawso.org
SUMMARY:Finance Committee
DESCRIPTION:The finance committee meets Thursdays from 4:00 pm ET – 5:30pm ET.  We are looking for members with business\, finance\, or bookkeeping experience. \n  \nPlease contact treasurer@adultchildren.org or finance@acawso.org if you are interested in visiting or joining the finance committee.
URL:https://test.acawso.org/calendar/finance-committee-3-2/2028-05-25/
CATEGORIES:committees
END:VEVENT
BEGIN:VEVENT
DTSTART;TZID=America/New_York:20280622T160000
DTEND;TZID=America/New_York:20280622T173000
DTSTAMP:20260421T185528
CREATED:20260306T144231Z
LAST-MODIFIED:20260306T144231Z
UID:10018587-1845302400-1845307800@test.acawso.org
SUMMARY:Finance Committee
DESCRIPTION:The finance committee meets Thursdays from 4:00 pm ET – 5:30pm ET.  We are looking for members with business\, finance\, or bookkeeping experience. \n  \nPlease contact treasurer@adultchildren.org or finance@acawso.org if you are interested in visiting or joining the finance committee.
URL:https://test.acawso.org/calendar/finance-committee-3-2/2028-06-22/
CATEGORIES:committees
END:VEVENT
BEGIN:VEVENT
DTSTART;TZID=America/New_York:20280727T160000
DTEND;TZID=America/New_York:20280727T173000
DTSTAMP:20260421T185528
CREATED:20260306T144231Z
LAST-MODIFIED:20260306T144231Z
UID:10018588-1848326400-1848331800@test.acawso.org
SUMMARY:Finance Committee
DESCRIPTION:The finance committee meets Thursdays from 4:00 pm ET – 5:30pm ET.  We are looking for members with business\, finance\, or bookkeeping experience. \n  \nPlease contact treasurer@adultchildren.org or finance@acawso.org if you are interested in visiting or joining the finance committee.
URL:https://test.acawso.org/calendar/finance-committee-3-2/2028-07-27/
CATEGORIES:committees
END:VEVENT
BEGIN:VEVENT
DTSTART;TZID=America/New_York:20280824T160000
DTEND;TZID=America/New_York:20280824T173000
DTSTAMP:20260421T185528
CREATED:20260306T144231Z
LAST-MODIFIED:20260306T144231Z
UID:10018589-1850745600-1850751000@test.acawso.org
SUMMARY:Finance Committee
DESCRIPTION:The finance committee meets Thursdays from 4:00 pm ET – 5:30pm ET.  We are looking for members with business\, finance\, or bookkeeping experience. \n  \nPlease contact treasurer@adultchildren.org or finance@acawso.org if you are interested in visiting or joining the finance committee.
URL:https://test.acawso.org/calendar/finance-committee-3-2/2028-08-24/
CATEGORIES:committees
END:VEVENT
BEGIN:VEVENT
DTSTART;TZID=America/New_York:20280928T160000
DTEND;TZID=America/New_York:20280928T173000
DTSTAMP:20260421T185528
CREATED:20260306T144231Z
LAST-MODIFIED:20260306T144231Z
UID:10018590-1853769600-1853775000@test.acawso.org
SUMMARY:Finance Committee
DESCRIPTION:The finance committee meets Thursdays from 4:00 pm ET – 5:30pm ET.  We are looking for members with business\, finance\, or bookkeeping experience. \n  \nPlease contact treasurer@adultchildren.org or finance@acawso.org if you are interested in visiting or joining the finance committee.
URL:https://test.acawso.org/calendar/finance-committee-3-2/2028-09-28/
CATEGORIES:committees
END:VEVENT
END:VCALENDAR