BEGIN:VCALENDAR
VERSION:2.0
PRODID:-//ACA WSO - ECPv6.15.20//NONSGML v1.0//EN
CALSCALE:GREGORIAN
METHOD:PUBLISH
X-WR-CALNAME:ACA WSO
X-ORIGINAL-URL:https://test.acawso.org
X-WR-CALDESC:Events for ACA WSO
REFRESH-INTERVAL;VALUE=DURATION:PT1H
X-Robots-Tag:noindex
X-PUBLISHED-TTL:PT1H
BEGIN:VTIMEZONE
TZID:America/New_York
BEGIN:DAYLIGHT
TZOFFSETFROM:-0500
TZOFFSETTO:-0400
TZNAME:EDT
DTSTART:20250309T070000
END:DAYLIGHT
BEGIN:STANDARD
TZOFFSETFROM:-0400
TZOFFSETTO:-0500
TZNAME:EST
DTSTART:20251102T060000
END:STANDARD
BEGIN:DAYLIGHT
TZOFFSETFROM:-0500
TZOFFSETTO:-0400
TZNAME:EDT
DTSTART:20260308T070000
END:DAYLIGHT
BEGIN:STANDARD
TZOFFSETFROM:-0400
TZOFFSETTO:-0500
TZNAME:EST
DTSTART:20261101T060000
END:STANDARD
BEGIN:DAYLIGHT
TZOFFSETFROM:-0500
TZOFFSETTO:-0400
TZNAME:EDT
DTSTART:20270314T070000
END:DAYLIGHT
BEGIN:STANDARD
TZOFFSETFROM:-0400
TZOFFSETTO:-0500
TZNAME:EST
DTSTART:20271107T060000
END:STANDARD
BEGIN:DAYLIGHT
TZOFFSETFROM:-0500
TZOFFSETTO:-0400
TZNAME:EDT
DTSTART:20280312T070000
END:DAYLIGHT
BEGIN:STANDARD
TZOFFSETFROM:-0400
TZOFFSETTO:-0500
TZNAME:EST
DTSTART:20281105T060000
END:STANDARD
BEGIN:DAYLIGHT
TZOFFSETFROM:-0500
TZOFFSETTO:-0400
TZNAME:EDT
DTSTART:20290311T070000
END:DAYLIGHT
BEGIN:STANDARD
TZOFFSETFROM:-0400
TZOFFSETTO:-0500
TZNAME:EST
DTSTART:20291104T060000
END:STANDARD
END:VTIMEZONE
BEGIN:VEVENT
DTSTART;TZID=America/New_York:20260505T133000
DTEND;TZID=America/New_York:20260505T143000
DTSTAMP:20260420T233452
CREATED:20250107T111344Z
LAST-MODIFIED:20250107T111417Z
UID:10014961-1777987800-1777991400@test.acawso.org
SUMMARY:European Committee
DESCRIPTION:The monthly meeting is hosted by Zoom the First Tuesday of the month at 19:30 Central European Time / 18:30 UK / 20:30 Baltics / Helsinki / 21:30 Moscow time / 1:30pm ET \nhttps://us02web.zoom.us/j/83834372326 \nMeeting ID: 838 3437 2326\nPasscode: 437668 \nMore information about the European Committee can be found at https://test.acawso.org/category/european-connection/
URL:https://test.acawso.org/calendar/european-committee-2-2/2026-05-05/
CATEGORIES:committees
END:VEVENT
BEGIN:VEVENT
DTSTART;TZID=America/New_York:20260602T133000
DTEND;TZID=America/New_York:20260602T143000
DTSTAMP:20260420T233452
CREATED:20250107T111344Z
LAST-MODIFIED:20250107T111417Z
UID:10014962-1780407000-1780410600@test.acawso.org
SUMMARY:European Committee
DESCRIPTION:The monthly meeting is hosted by Zoom the First Tuesday of the month at 19:30 Central European Time / 18:30 UK / 20:30 Baltics / Helsinki / 21:30 Moscow time / 1:30pm ET \nhttps://us02web.zoom.us/j/83834372326 \nMeeting ID: 838 3437 2326\nPasscode: 437668 \nMore information about the European Committee can be found at https://test.acawso.org/category/european-connection/
URL:https://test.acawso.org/calendar/european-committee-2-2/2026-06-02/
CATEGORIES:committees
END:VEVENT
BEGIN:VEVENT
DTSTART;TZID=America/New_York:20260707T133000
DTEND;TZID=America/New_York:20260707T143000
DTSTAMP:20260420T233452
CREATED:20250107T111344Z
LAST-MODIFIED:20250107T111417Z
UID:10014963-1783431000-1783434600@test.acawso.org
SUMMARY:European Committee
DESCRIPTION:The monthly meeting is hosted by Zoom the First Tuesday of the month at 19:30 Central European Time / 18:30 UK / 20:30 Baltics / Helsinki / 21:30 Moscow time / 1:30pm ET \nhttps://us02web.zoom.us/j/83834372326 \nMeeting ID: 838 3437 2326\nPasscode: 437668 \nMore information about the European Committee can be found at https://test.acawso.org/category/european-connection/
URL:https://test.acawso.org/calendar/european-committee-2-2/2026-07-07/
CATEGORIES:committees
END:VEVENT
BEGIN:VEVENT
DTSTART;TZID=America/New_York:20260804T133000
DTEND;TZID=America/New_York:20260804T143000
DTSTAMP:20260420T233452
CREATED:20250107T111344Z
LAST-MODIFIED:20250107T111417Z
UID:10014964-1785850200-1785853800@test.acawso.org
SUMMARY:European Committee
DESCRIPTION:The monthly meeting is hosted by Zoom the First Tuesday of the month at 19:30 Central European Time / 18:30 UK / 20:30 Baltics / Helsinki / 21:30 Moscow time / 1:30pm ET \nhttps://us02web.zoom.us/j/83834372326 \nMeeting ID: 838 3437 2326\nPasscode: 437668 \nMore information about the European Committee can be found at https://test.acawso.org/category/european-connection/
URL:https://test.acawso.org/calendar/european-committee-2-2/2026-08-04/
CATEGORIES:committees
END:VEVENT
BEGIN:VEVENT
DTSTART;TZID=America/New_York:20260901T133000
DTEND;TZID=America/New_York:20260901T143000
DTSTAMP:20260420T233452
CREATED:20250107T111344Z
LAST-MODIFIED:20250107T111417Z
UID:10014965-1788269400-1788273000@test.acawso.org
SUMMARY:European Committee
DESCRIPTION:The monthly meeting is hosted by Zoom the First Tuesday of the month at 19:30 Central European Time / 18:30 UK / 20:30 Baltics / Helsinki / 21:30 Moscow time / 1:30pm ET \nhttps://us02web.zoom.us/j/83834372326 \nMeeting ID: 838 3437 2326\nPasscode: 437668 \nMore information about the European Committee can be found at https://test.acawso.org/category/european-connection/
URL:https://test.acawso.org/calendar/european-committee-2-2/2026-09-01/
CATEGORIES:committees
END:VEVENT
BEGIN:VEVENT
DTSTART;TZID=America/New_York:20261006T133000
DTEND;TZID=America/New_York:20261006T143000
DTSTAMP:20260420T233452
CREATED:20250107T111344Z
LAST-MODIFIED:20250107T111417Z
UID:10014966-1791293400-1791297000@test.acawso.org
SUMMARY:European Committee
DESCRIPTION:The monthly meeting is hosted by Zoom the First Tuesday of the month at 19:30 Central European Time / 18:30 UK / 20:30 Baltics / Helsinki / 21:30 Moscow time / 1:30pm ET \nhttps://us02web.zoom.us/j/83834372326 \nMeeting ID: 838 3437 2326\nPasscode: 437668 \nMore information about the European Committee can be found at https://test.acawso.org/category/european-connection/
URL:https://test.acawso.org/calendar/european-committee-2-2/2026-10-06/
CATEGORIES:committees
END:VEVENT
BEGIN:VEVENT
DTSTART;TZID=America/New_York:20261103T133000
DTEND;TZID=America/New_York:20261103T143000
DTSTAMP:20260420T233452
CREATED:20250107T111344Z
LAST-MODIFIED:20250107T111417Z
UID:10014967-1793712600-1793716200@test.acawso.org
SUMMARY:European Committee
DESCRIPTION:The monthly meeting is hosted by Zoom the First Tuesday of the month at 19:30 Central European Time / 18:30 UK / 20:30 Baltics / Helsinki / 21:30 Moscow time / 1:30pm ET \nhttps://us02web.zoom.us/j/83834372326 \nMeeting ID: 838 3437 2326\nPasscode: 437668 \nMore information about the European Committee can be found at https://test.acawso.org/category/european-connection/
URL:https://test.acawso.org/calendar/european-committee-2-2/2026-11-03/
CATEGORIES:committees
END:VEVENT
BEGIN:VEVENT
DTSTART;TZID=America/New_York:20261201T133000
DTEND;TZID=America/New_York:20261201T143000
DTSTAMP:20260420T233452
CREATED:20250107T111344Z
LAST-MODIFIED:20250107T111417Z
UID:10014968-1796131800-1796135400@test.acawso.org
SUMMARY:European Committee
DESCRIPTION:The monthly meeting is hosted by Zoom the First Tuesday of the month at 19:30 Central European Time / 18:30 UK / 20:30 Baltics / Helsinki / 21:30 Moscow time / 1:30pm ET \nhttps://us02web.zoom.us/j/83834372326 \nMeeting ID: 838 3437 2326\nPasscode: 437668 \nMore information about the European Committee can be found at https://test.acawso.org/category/european-connection/
URL:https://test.acawso.org/calendar/european-committee-2-2/2026-12-01/
CATEGORIES:committees
END:VEVENT
BEGIN:VEVENT
DTSTART;TZID=America/New_York:20270105T133000
DTEND;TZID=America/New_York:20270105T143000
DTSTAMP:20260420T233452
CREATED:20250107T111344Z
LAST-MODIFIED:20250107T111417Z
UID:10014969-1799155800-1799159400@test.acawso.org
SUMMARY:European Committee
DESCRIPTION:The monthly meeting is hosted by Zoom the First Tuesday of the month at 19:30 Central European Time / 18:30 UK / 20:30 Baltics / Helsinki / 21:30 Moscow time / 1:30pm ET \nhttps://us02web.zoom.us/j/83834372326 \nMeeting ID: 838 3437 2326\nPasscode: 437668 \nMore information about the European Committee can be found at https://test.acawso.org/category/european-connection/
URL:https://test.acawso.org/calendar/european-committee-2-2/2027-01-05/
CATEGORIES:committees
END:VEVENT
BEGIN:VEVENT
DTSTART;TZID=America/New_York:20270202T133000
DTEND;TZID=America/New_York:20270202T143000
DTSTAMP:20260420T233452
CREATED:20250107T111344Z
LAST-MODIFIED:20250107T111417Z
UID:10014970-1801575000-1801578600@test.acawso.org
SUMMARY:European Committee
DESCRIPTION:The monthly meeting is hosted by Zoom the First Tuesday of the month at 19:30 Central European Time / 18:30 UK / 20:30 Baltics / Helsinki / 21:30 Moscow time / 1:30pm ET \nhttps://us02web.zoom.us/j/83834372326 \nMeeting ID: 838 3437 2326\nPasscode: 437668 \nMore information about the European Committee can be found at https://test.acawso.org/category/european-connection/
URL:https://test.acawso.org/calendar/european-committee-2-2/2027-02-02/
CATEGORIES:committees
END:VEVENT
BEGIN:VEVENT
DTSTART;TZID=America/New_York:20270302T133000
DTEND;TZID=America/New_York:20270302T143000
DTSTAMP:20260420T233452
CREATED:20250107T111344Z
LAST-MODIFIED:20250107T111417Z
UID:10014971-1803994200-1803997800@test.acawso.org
SUMMARY:European Committee
DESCRIPTION:The monthly meeting is hosted by Zoom the First Tuesday of the month at 19:30 Central European Time / 18:30 UK / 20:30 Baltics / Helsinki / 21:30 Moscow time / 1:30pm ET \nhttps://us02web.zoom.us/j/83834372326 \nMeeting ID: 838 3437 2326\nPasscode: 437668 \nMore information about the European Committee can be found at https://test.acawso.org/category/european-connection/
URL:https://test.acawso.org/calendar/european-committee-2-2/2027-03-02/
CATEGORIES:committees
END:VEVENT
BEGIN:VEVENT
DTSTART;TZID=America/New_York:20270406T133000
DTEND;TZID=America/New_York:20270406T143000
DTSTAMP:20260420T233452
CREATED:20250107T111344Z
LAST-MODIFIED:20250107T111417Z
UID:10014972-1807018200-1807021800@test.acawso.org
SUMMARY:European Committee
DESCRIPTION:The monthly meeting is hosted by Zoom the First Tuesday of the month at 19:30 Central European Time / 18:30 UK / 20:30 Baltics / Helsinki / 21:30 Moscow time / 1:30pm ET \nhttps://us02web.zoom.us/j/83834372326 \nMeeting ID: 838 3437 2326\nPasscode: 437668 \nMore information about the European Committee can be found at https://test.acawso.org/category/european-connection/
URL:https://test.acawso.org/calendar/european-committee-2-2/2027-04-06/
CATEGORIES:committees
END:VEVENT
BEGIN:VEVENT
DTSTART;TZID=America/New_York:20270504T133000
DTEND;TZID=America/New_York:20270504T143000
DTSTAMP:20260420T233452
CREATED:20250107T111344Z
LAST-MODIFIED:20250107T111417Z
UID:10014973-1809437400-1809441000@test.acawso.org
SUMMARY:European Committee
DESCRIPTION:The monthly meeting is hosted by Zoom the First Tuesday of the month at 19:30 Central European Time / 18:30 UK / 20:30 Baltics / Helsinki / 21:30 Moscow time / 1:30pm ET \nhttps://us02web.zoom.us/j/83834372326 \nMeeting ID: 838 3437 2326\nPasscode: 437668 \nMore information about the European Committee can be found at https://test.acawso.org/category/european-connection/
URL:https://test.acawso.org/calendar/european-committee-2-2/2027-05-04/
CATEGORIES:committees
END:VEVENT
BEGIN:VEVENT
DTSTART;TZID=America/New_York:20270601T133000
DTEND;TZID=America/New_York:20270601T143000
DTSTAMP:20260420T233452
CREATED:20250107T111344Z
LAST-MODIFIED:20250107T111417Z
UID:10014974-1811856600-1811860200@test.acawso.org
SUMMARY:European Committee
DESCRIPTION:The monthly meeting is hosted by Zoom the First Tuesday of the month at 19:30 Central European Time / 18:30 UK / 20:30 Baltics / Helsinki / 21:30 Moscow time / 1:30pm ET \nhttps://us02web.zoom.us/j/83834372326 \nMeeting ID: 838 3437 2326\nPasscode: 437668 \nMore information about the European Committee can be found at https://test.acawso.org/category/european-connection/
URL:https://test.acawso.org/calendar/european-committee-2-2/2027-06-01/
CATEGORIES:committees
END:VEVENT
BEGIN:VEVENT
DTSTART;TZID=America/New_York:20270706T133000
DTEND;TZID=America/New_York:20270706T143000
DTSTAMP:20260420T233452
CREATED:20250107T111344Z
LAST-MODIFIED:20250107T111417Z
UID:10014975-1814880600-1814884200@test.acawso.org
SUMMARY:European Committee
DESCRIPTION:The monthly meeting is hosted by Zoom the First Tuesday of the month at 19:30 Central European Time / 18:30 UK / 20:30 Baltics / Helsinki / 21:30 Moscow time / 1:30pm ET \nhttps://us02web.zoom.us/j/83834372326 \nMeeting ID: 838 3437 2326\nPasscode: 437668 \nMore information about the European Committee can be found at https://test.acawso.org/category/european-connection/
URL:https://test.acawso.org/calendar/european-committee-2-2/2027-07-06/
CATEGORIES:committees
END:VEVENT
BEGIN:VEVENT
DTSTART;TZID=America/New_York:20270803T133000
DTEND;TZID=America/New_York:20270803T143000
DTSTAMP:20260420T233452
CREATED:20250107T111344Z
LAST-MODIFIED:20250107T111417Z
UID:10014976-1817299800-1817303400@test.acawso.org
SUMMARY:European Committee
DESCRIPTION:The monthly meeting is hosted by Zoom the First Tuesday of the month at 19:30 Central European Time / 18:30 UK / 20:30 Baltics / Helsinki / 21:30 Moscow time / 1:30pm ET \nhttps://us02web.zoom.us/j/83834372326 \nMeeting ID: 838 3437 2326\nPasscode: 437668 \nMore information about the European Committee can be found at https://test.acawso.org/category/european-connection/
URL:https://test.acawso.org/calendar/european-committee-2-2/2027-08-03/
CATEGORIES:committees
END:VEVENT
BEGIN:VEVENT
DTSTART;TZID=America/New_York:20270907T133000
DTEND;TZID=America/New_York:20270907T143000
DTSTAMP:20260420T233452
CREATED:20250107T111344Z
LAST-MODIFIED:20250107T111417Z
UID:10014977-1820323800-1820327400@test.acawso.org
SUMMARY:European Committee
DESCRIPTION:The monthly meeting is hosted by Zoom the First Tuesday of the month at 19:30 Central European Time / 18:30 UK / 20:30 Baltics / Helsinki / 21:30 Moscow time / 1:30pm ET \nhttps://us02web.zoom.us/j/83834372326 \nMeeting ID: 838 3437 2326\nPasscode: 437668 \nMore information about the European Committee can be found at https://test.acawso.org/category/european-connection/
URL:https://test.acawso.org/calendar/european-committee-2-2/2027-09-07/
CATEGORIES:committees
END:VEVENT
BEGIN:VEVENT
DTSTART;TZID=America/New_York:20271005T133000
DTEND;TZID=America/New_York:20271005T143000
DTSTAMP:20260420T233452
CREATED:20250107T111344Z
LAST-MODIFIED:20250107T111417Z
UID:10014978-1822743000-1822746600@test.acawso.org
SUMMARY:European Committee
DESCRIPTION:The monthly meeting is hosted by Zoom the First Tuesday of the month at 19:30 Central European Time / 18:30 UK / 20:30 Baltics / Helsinki / 21:30 Moscow time / 1:30pm ET \nhttps://us02web.zoom.us/j/83834372326 \nMeeting ID: 838 3437 2326\nPasscode: 437668 \nMore information about the European Committee can be found at https://test.acawso.org/category/european-connection/
URL:https://test.acawso.org/calendar/european-committee-2-2/2027-10-05/
CATEGORIES:committees
END:VEVENT
BEGIN:VEVENT
DTSTART;TZID=America/New_York:20271102T143000
DTEND;TZID=America/New_York:20271102T153000
DTSTAMP:20260420T233452
CREATED:20250107T111344Z
LAST-MODIFIED:20250107T111417Z
UID:10014979-1825165800-1825169400@test.acawso.org
SUMMARY:European Committee
DESCRIPTION:The monthly meeting is hosted by Zoom the First Tuesday of the month at 19:30 Central European Time / 18:30 UK / 20:30 Baltics / Helsinki / 21:30 Moscow time / 1:30pm ET \nhttps://us02web.zoom.us/j/83834372326 \nMeeting ID: 838 3437 2326\nPasscode: 437668 \nMore information about the European Committee can be found at https://test.acawso.org/category/european-connection/
URL:https://test.acawso.org/calendar/european-committee-2-2/2027-11-02/
CATEGORIES:committees
END:VEVENT
BEGIN:VEVENT
DTSTART;TZID=America/New_York:20271207T133000
DTEND;TZID=America/New_York:20271207T143000
DTSTAMP:20260420T233452
CREATED:20250107T111344Z
LAST-MODIFIED:20250107T111417Z
UID:10014980-1828186200-1828189800@test.acawso.org
SUMMARY:European Committee
DESCRIPTION:The monthly meeting is hosted by Zoom the First Tuesday of the month at 19:30 Central European Time / 18:30 UK / 20:30 Baltics / Helsinki / 21:30 Moscow time / 1:30pm ET \nhttps://us02web.zoom.us/j/83834372326 \nMeeting ID: 838 3437 2326\nPasscode: 437668 \nMore information about the European Committee can be found at https://test.acawso.org/category/european-connection/
URL:https://test.acawso.org/calendar/european-committee-2-2/2027-12-07/
CATEGORIES:committees
END:VEVENT
BEGIN:VEVENT
DTSTART;TZID=America/New_York:20280104T133000
DTEND;TZID=America/New_York:20280104T143000
DTSTAMP:20260420T233452
CREATED:20250107T111344Z
LAST-MODIFIED:20250107T111417Z
UID:10014981-1830605400-1830609000@test.acawso.org
SUMMARY:European Committee
DESCRIPTION:The monthly meeting is hosted by Zoom the First Tuesday of the month at 19:30 Central European Time / 18:30 UK / 20:30 Baltics / Helsinki / 21:30 Moscow time / 1:30pm ET \nhttps://us02web.zoom.us/j/83834372326 \nMeeting ID: 838 3437 2326\nPasscode: 437668 \nMore information about the European Committee can be found at https://test.acawso.org/category/european-connection/
URL:https://test.acawso.org/calendar/european-committee-2-2/2028-01-04/
CATEGORIES:committees
END:VEVENT
BEGIN:VEVENT
DTSTART;TZID=America/New_York:20280201T133000
DTEND;TZID=America/New_York:20280201T143000
DTSTAMP:20260420T233452
CREATED:20250107T111344Z
LAST-MODIFIED:20250107T111417Z
UID:10014982-1833024600-1833028200@test.acawso.org
SUMMARY:European Committee
DESCRIPTION:The monthly meeting is hosted by Zoom the First Tuesday of the month at 19:30 Central European Time / 18:30 UK / 20:30 Baltics / Helsinki / 21:30 Moscow time / 1:30pm ET \nhttps://us02web.zoom.us/j/83834372326 \nMeeting ID: 838 3437 2326\nPasscode: 437668 \nMore information about the European Committee can be found at https://test.acawso.org/category/european-connection/
URL:https://test.acawso.org/calendar/european-committee-2-2/2028-02-01/
CATEGORIES:committees
END:VEVENT
BEGIN:VEVENT
DTSTART;TZID=America/New_York:20280307T133000
DTEND;TZID=America/New_York:20280307T143000
DTSTAMP:20260420T233452
CREATED:20250107T111344Z
LAST-MODIFIED:20250107T111417Z
UID:10014983-1836048600-1836052200@test.acawso.org
SUMMARY:European Committee
DESCRIPTION:The monthly meeting is hosted by Zoom the First Tuesday of the month at 19:30 Central European Time / 18:30 UK / 20:30 Baltics / Helsinki / 21:30 Moscow time / 1:30pm ET \nhttps://us02web.zoom.us/j/83834372326 \nMeeting ID: 838 3437 2326\nPasscode: 437668 \nMore information about the European Committee can be found at https://test.acawso.org/category/european-connection/
URL:https://test.acawso.org/calendar/european-committee-2-2/2028-03-07/
CATEGORIES:committees
END:VEVENT
BEGIN:VEVENT
DTSTART;TZID=America/New_York:20280404T133000
DTEND;TZID=America/New_York:20280404T143000
DTSTAMP:20260420T233452
CREATED:20250107T111344Z
LAST-MODIFIED:20250107T111417Z
UID:10014984-1838467800-1838471400@test.acawso.org
SUMMARY:European Committee
DESCRIPTION:The monthly meeting is hosted by Zoom the First Tuesday of the month at 19:30 Central European Time / 18:30 UK / 20:30 Baltics / Helsinki / 21:30 Moscow time / 1:30pm ET \nhttps://us02web.zoom.us/j/83834372326 \nMeeting ID: 838 3437 2326\nPasscode: 437668 \nMore information about the European Committee can be found at https://test.acawso.org/category/european-connection/
URL:https://test.acawso.org/calendar/european-committee-2-2/2028-04-04/
CATEGORIES:committees
END:VEVENT
BEGIN:VEVENT
DTSTART;TZID=America/New_York:20280502T133000
DTEND;TZID=America/New_York:20280502T143000
DTSTAMP:20260420T233452
CREATED:20250107T111344Z
LAST-MODIFIED:20250107T111417Z
UID:10014985-1840887000-1840890600@test.acawso.org
SUMMARY:European Committee
DESCRIPTION:The monthly meeting is hosted by Zoom the First Tuesday of the month at 19:30 Central European Time / 18:30 UK / 20:30 Baltics / Helsinki / 21:30 Moscow time / 1:30pm ET \nhttps://us02web.zoom.us/j/83834372326 \nMeeting ID: 838 3437 2326\nPasscode: 437668 \nMore information about the European Committee can be found at https://test.acawso.org/category/european-connection/
URL:https://test.acawso.org/calendar/european-committee-2-2/2028-05-02/
CATEGORIES:committees
END:VEVENT
BEGIN:VEVENT
DTSTART;TZID=America/New_York:20280606T133000
DTEND;TZID=America/New_York:20280606T143000
DTSTAMP:20260420T233452
CREATED:20250107T111344Z
LAST-MODIFIED:20250107T111417Z
UID:10014986-1843911000-1843914600@test.acawso.org
SUMMARY:European Committee
DESCRIPTION:The monthly meeting is hosted by Zoom the First Tuesday of the month at 19:30 Central European Time / 18:30 UK / 20:30 Baltics / Helsinki / 21:30 Moscow time / 1:30pm ET \nhttps://us02web.zoom.us/j/83834372326 \nMeeting ID: 838 3437 2326\nPasscode: 437668 \nMore information about the European Committee can be found at https://test.acawso.org/category/european-connection/
URL:https://test.acawso.org/calendar/european-committee-2-2/2028-06-06/
CATEGORIES:committees
END:VEVENT
BEGIN:VEVENT
DTSTART;TZID=America/New_York:20280704T133000
DTEND;TZID=America/New_York:20280704T143000
DTSTAMP:20260420T233452
CREATED:20250107T111344Z
LAST-MODIFIED:20250107T111417Z
UID:10014987-1846330200-1846333800@test.acawso.org
SUMMARY:European Committee
DESCRIPTION:The monthly meeting is hosted by Zoom the First Tuesday of the month at 19:30 Central European Time / 18:30 UK / 20:30 Baltics / Helsinki / 21:30 Moscow time / 1:30pm ET \nhttps://us02web.zoom.us/j/83834372326 \nMeeting ID: 838 3437 2326\nPasscode: 437668 \nMore information about the European Committee can be found at https://test.acawso.org/category/european-connection/
URL:https://test.acawso.org/calendar/european-committee-2-2/2028-07-04/
CATEGORIES:committees
END:VEVENT
BEGIN:VEVENT
DTSTART;TZID=America/New_York:20280801T133000
DTEND;TZID=America/New_York:20280801T143000
DTSTAMP:20260420T233452
CREATED:20250107T111344Z
LAST-MODIFIED:20250107T111417Z
UID:10014988-1848749400-1848753000@test.acawso.org
SUMMARY:European Committee
DESCRIPTION:The monthly meeting is hosted by Zoom the First Tuesday of the month at 19:30 Central European Time / 18:30 UK / 20:30 Baltics / Helsinki / 21:30 Moscow time / 1:30pm ET \nhttps://us02web.zoom.us/j/83834372326 \nMeeting ID: 838 3437 2326\nPasscode: 437668 \nMore information about the European Committee can be found at https://test.acawso.org/category/european-connection/
URL:https://test.acawso.org/calendar/european-committee-2-2/2028-08-01/
CATEGORIES:committees
END:VEVENT
BEGIN:VEVENT
DTSTART;TZID=America/New_York:20280905T133000
DTEND;TZID=America/New_York:20280905T143000
DTSTAMP:20260420T233452
CREATED:20250107T111344Z
LAST-MODIFIED:20250107T111417Z
UID:10014989-1851773400-1851777000@test.acawso.org
SUMMARY:European Committee
DESCRIPTION:The monthly meeting is hosted by Zoom the First Tuesday of the month at 19:30 Central European Time / 18:30 UK / 20:30 Baltics / Helsinki / 21:30 Moscow time / 1:30pm ET \nhttps://us02web.zoom.us/j/83834372326 \nMeeting ID: 838 3437 2326\nPasscode: 437668 \nMore information about the European Committee can be found at https://test.acawso.org/category/european-connection/
URL:https://test.acawso.org/calendar/european-committee-2-2/2028-09-05/
CATEGORIES:committees
END:VEVENT
BEGIN:VEVENT
DTSTART;TZID=America/New_York:20281003T133000
DTEND;TZID=America/New_York:20281003T143000
DTSTAMP:20260420T233452
CREATED:20250107T111344Z
LAST-MODIFIED:20250107T111417Z
UID:10014990-1854192600-1854196200@test.acawso.org
SUMMARY:European Committee
DESCRIPTION:The monthly meeting is hosted by Zoom the First Tuesday of the month at 19:30 Central European Time / 18:30 UK / 20:30 Baltics / Helsinki / 21:30 Moscow time / 1:30pm ET \nhttps://us02web.zoom.us/j/83834372326 \nMeeting ID: 838 3437 2326\nPasscode: 437668 \nMore information about the European Committee can be found at https://test.acawso.org/category/european-connection/
URL:https://test.acawso.org/calendar/european-committee-2-2/2028-10-03/
CATEGORIES:committees
END:VEVENT
END:VCALENDAR