BEGIN:VCALENDAR
VERSION:2.0
PRODID:-//ACA WSO - ECPv6.15.20//NONSGML v1.0//EN
CALSCALE:GREGORIAN
METHOD:PUBLISH
X-ORIGINAL-URL:https://test.acawso.org
X-WR-CALDESC:Events for ACA WSO
REFRESH-INTERVAL;VALUE=DURATION:PT1H
X-Robots-Tag:noindex
X-PUBLISHED-TTL:PT1H
BEGIN:VTIMEZONE
TZID:America/New_York
BEGIN:DAYLIGHT
TZOFFSETFROM:-0500
TZOFFSETTO:-0400
TZNAME:EDT
DTSTART:20250309T070000
END:DAYLIGHT
BEGIN:STANDARD
TZOFFSETFROM:-0400
TZOFFSETTO:-0500
TZNAME:EST
DTSTART:20251102T060000
END:STANDARD
BEGIN:DAYLIGHT
TZOFFSETFROM:-0500
TZOFFSETTO:-0400
TZNAME:EDT
DTSTART:20260308T070000
END:DAYLIGHT
BEGIN:STANDARD
TZOFFSETFROM:-0400
TZOFFSETTO:-0500
TZNAME:EST
DTSTART:20261101T060000
END:STANDARD
BEGIN:DAYLIGHT
TZOFFSETFROM:-0500
TZOFFSETTO:-0400
TZNAME:EDT
DTSTART:20270314T070000
END:DAYLIGHT
BEGIN:STANDARD
TZOFFSETFROM:-0400
TZOFFSETTO:-0500
TZNAME:EST
DTSTART:20271107T060000
END:STANDARD
END:VTIMEZONE
BEGIN:VEVENT
DTSTART;TZID=America/New_York:20260219T161500
DTEND;TZID=America/New_York:20260219T171500
DTSTAMP:20260424T215538
CREATED:20240610T105549Z
LAST-MODIFIED:20240722T102939Z
UID:10013174-1771517700-1771521300@test.acawso.org
SUMMARY:Oral History Committee
DESCRIPTION:Oral History Committee meets on third Thursday of each month at 4:15pm Eastern. \nhttps://zoom.us/j/87931864867 \nMeeting ID: 879 3186 4867 \nPasscode: 076406
URL:https://test.acawso.org/calendar/oral-history-committee-2-2/2026-02-19/
CATEGORIES:committees
END:VEVENT
BEGIN:VEVENT
DTSTART;TZID=America/New_York:20260220T180000
DTEND;TZID=America/New_York:20260220T190000
DTSTAMP:20260424T215538
CREATED:20250816T110018Z
LAST-MODIFIED:20260302T110304Z
UID:10009449-1771610400-1771614000@test.acawso.org
SUMMARY:Data Analysis Committee
DESCRIPTION:  \nData Analysis Committee meets every third Friday the month at  3 PM PDT\, 4 PM MDT\, 5 PM CDT\, 6 PM EDT\, Saturday at 5 AM Thailand/Vietnam\, 6 AM Singapore/Taiwan/China\, 7 AM Japan \nFor information how to attend please contact the committee.
URL:https://test.acawso.org/calendar/data-analysis-committee-2-2-2-2-3/2026-02-20/
CATEGORIES:committees
END:VEVENT
BEGIN:VEVENT
DTSTART;TZID=America/New_York:20260221T103000
DTEND;TZID=America/New_York:20260221T120000
DTSTAMP:20260424T215538
CREATED:20260117T154318Z
LAST-MODIFIED:20260119T114552Z
UID:10016688-1771669800-1771675200@test.acawso.org
SUMMARY:ABC Sustainability Study Sub-Committee
DESCRIPTION:NOTE:  In January we are meeting on the 18th instead of the 17th. \nWe usually meet on the 1st & 3rd Saturday of each month from 10:30AM to Noon EDT. We recommend that you check the WSO Committee Calendar for any changes to this schedule. \nZoom URL: https://zoom.us/j/91045736882  \nMeeting ID: 910 4573 6882 \nPasscode: 992748
URL:https://test.acawso.org/calendar/abc-sustainability-study-sub-committee-6-3/2026-02-21/
CATEGORIES:committees
END:VEVENT
BEGIN:VEVENT
DTSTART;TZID=America/New_York:20260221T123000
DTEND;TZID=America/New_York:20260221T140000
DTSTAMP:20260424T215538
CREATED:20250426T032033Z
LAST-MODIFIED:20250827T230724Z
UID:10017597-1771677000-1771682400@test.acawso.org
SUMMARY:ABC/QDM Committee
DESCRIPTION:The ABC/AWC committee meets first and third Saturday from 12:30 to 2 pm EDT \nJoin Zoom Meeting\nhttps://us02web.zoom.us/j/87582913615?pwd=dWpPNVJPcVNiVjJxbGgzbFVwY05EZz09 \nMeeting ID: 875 8291 3615\nPasscode: ABC2022 \nContact abc@adultchildren.org for more details. \n 
URL:https://test.acawso.org/calendar/abc-awc-committee-4-2-3/2026-02-21/
CATEGORIES:committees
END:VEVENT
BEGIN:VEVENT
DTSTART;TZID=America/New_York:20260223T120000
DTEND;TZID=America/New_York:20260223T133000
DTSTAMP:20260424T215538
CREATED:20250801T144133Z
LAST-MODIFIED:20250801T144134Z
UID:10012155-1771848000-1771853400@test.acawso.org
SUMMARY:IT Website Redesign Working Group
DESCRIPTION:IT website redesign working group meetings every Monday at 12:00pm ET (US) \nContact:  itchair@acawso.org \nJoin Zoom Meeting\nhttps://us02web.zoom.us/j/83771567325 \nMeeting ID: 837 7156 7325\nPasscode: 088655
URL:https://test.acawso.org/calendar/it-website-redesign-working-group-2-2-2-2/2026-02-23/
CATEGORIES:committees
END:VEVENT
BEGIN:VEVENT
DTSTART;TZID=America/New_York:20260223T160000
DTEND;TZID=America/New_York:20260223T173000
DTSTAMP:20260424T215538
CREATED:20251119T192005Z
LAST-MODIFIED:20251119T192007Z
UID:10010206-1771862400-1771867800@test.acawso.org
SUMMARY:IT Committee
DESCRIPTION:IT Committee meets as and when needed on Mondays at 4:00pm ET (US). Please contact the IT Chair before attending the meeting to find out if it meets in a given week. \ncontact: itchair@acawso.org \nJoin Zoom Meeting \nhttps://us02web.zoom.us/j/89520227175 \nMeeting ID: 895 2022 7175\nPasscode: 90755
URL:https://test.acawso.org/calendar/it-committee-2023-07-19-2-2-2-2/2026-02-23/
CATEGORIES:committees
END:VEVENT
BEGIN:VEVENT
DTSTART;TZID=America/New_York:20260224T170000
DTEND;TZID=America/New_York:20260224T183000
DTSTAMP:20260424T215538
CREATED:20260206T175655Z
LAST-MODIFIED:20260206T175656Z
UID:10013861-1771952400-1771957800@test.acawso.org
SUMMARY:Charter Ad Hoc Committee
DESCRIPTION:Please see our Committee homepage for more information \nThis Study Group meets weekly on Tuesdays at 5:00 pm Eastern. \nMeeting ID: 993 7036 0615\nPasscode: 182011 \nIf you have questions\, please email us at abcstudy@acawso.org.
URL:https://test.acawso.org/calendar/abc-study-4-2-2-2/2026-02-24/
CATEGORIES:committees
END:VEVENT
BEGIN:VEVENT
DTSTART;TZID=America/New_York:20260226T110000
DTEND;TZID=America/New_York:20260226T123000
DTSTAMP:20260424T215538
CREATED:20251127T112704Z
LAST-MODIFIED:20260314T033456Z
UID:10017270-1772103600-1772109000@test.acawso.org
SUMMARY:MSC Global Fellowship Meeting
DESCRIPTION:Meeting times: Americas 11am ET New York\, 8am PT California\, 4pm England\, 5pm France\, 5pm Spain\, 6pm Lithuania\, 6pm South Africa\, 6pm Egypt\, 7pm Moscow\, Russia \nTopic: MSC Western Fellowship Meeting \nJoin Zoom Meeting \nhttps://zoom.us/j/93603824987 \nMeeting ID: 936 0382 4987\nPasscode: 163248
URL:https://test.acawso.org/calendar/western-global-fellowship-meeting-msc-2-2-2/2026-02-26/
CATEGORIES:committees
END:VEVENT
BEGIN:VEVENT
DTSTART;TZID=America/New_York:20260226T180000
DTEND;TZID=America/New_York:20260226T193000
DTSTAMP:20260424T215538
CREATED:20250731T160916Z
LAST-MODIFIED:20260213T010306Z
UID:10016975-1772128800-1772134200@test.acawso.org
SUMMARY:Ballot Prep Committee
DESCRIPTION:All are welcome. \nFor more information\, contact the committee at bpc@adultchildren.org \nZoom 2 ACAWSO is inviting you to a scheduled Zoom meeting. \nMeeting ID: 815 3118 9155\nPasscode: 90755
URL:https://test.acawso.org/calendar/ballot-prep-committee-10-3/2026-02-26/
CATEGORIES:committees
END:VEVENT
BEGIN:VEVENT
DTSTART;TZID=America/New_York:20260227T093000
DTEND;TZID=America/New_York:20260227T113000
DTSTAMP:20260424T215538
CREATED:20260227T201004Z
LAST-MODIFIED:20260227T201206Z
UID:10017992-1772184600-1772191800@test.acawso.org
SUMMARY:Publishing Committee
DESCRIPTION:Publishing Committee (Zoom 7) \nWe meet on Fridays once a month on the 4th Friday of each month. \n \nTime: 6:30 am PDT\, 9:30 am EDT\, 2:30 pm UK/GBST\, 3:30 pm CET \, 3:30 pm SAST\, 7:00 pm India \nMeeting ID: 857 7189 3168\nPasscode: 382777 \nAny questions\, contact Sue V at publishingchair@acawso.org  or on slack \n 
URL:https://test.acawso.org/calendar/publishing-committee-3-2-3-2-3-2/
CATEGORIES:committees
END:VEVENT
BEGIN:VEVENT
DTSTART;TZID=America/New_York:20260228T200000
DTEND;TZID=America/New_York:20260228T213000
DTSTAMP:20260424T215538
CREATED:20240212T162730Z
LAST-MODIFIED:20240212T162730Z
UID:10012411-1772308800-1772314200@test.acawso.org
SUMMARY:Big Red Book Working Group
DESCRIPTION:Zoom 2 ACAWSO is inviting you to a scheduled Zoom meeting.\nTopic: BRB Revision Working Group- Global East\nTime: Every month on the second and fourth Saturday at 8 PM Eastern US \nJoin Zoom Meeting\nhttps://zoom.us/j/92423141348\nMeeting ID: 924 2314 1348\nPasscode: 112358 \nPlease download and import the following iCalendar (.ics) files to your calendar system.\nMonthly: https://zoom.us/meeting/tJYpdeqpqjopHtwsBMOyTO0tAY5XaN4QYv7-/ics?icsToken=98tyKuCqqjkpG9CUsx2PRowQBojob-vwiH5egrdKjz3ILDlnTVPiF9sXCrNRROnp
URL:https://test.acawso.org/calendar/big-red-book-working-group/2026-02-28/
CATEGORIES:committees
END:VEVENT
BEGIN:VEVENT
DTSTART;TZID=America/New_York:20260302T120000
DTEND;TZID=America/New_York:20260302T133000
DTSTAMP:20260424T215538
CREATED:20250801T144133Z
LAST-MODIFIED:20250801T144134Z
UID:10012156-1772452800-1772458200@test.acawso.org
SUMMARY:IT Website Redesign Working Group
DESCRIPTION:IT website redesign working group meetings every Monday at 12:00pm ET (US) \nContact:  itchair@acawso.org \nJoin Zoom Meeting\nhttps://us02web.zoom.us/j/83771567325 \nMeeting ID: 837 7156 7325\nPasscode: 088655
URL:https://test.acawso.org/calendar/it-website-redesign-working-group-2-2-2-2/2026-03-02/
CATEGORIES:committees
END:VEVENT
BEGIN:VEVENT
DTSTART;TZID=America/New_York:20260302T160000
DTEND;TZID=America/New_York:20260302T173000
DTSTAMP:20260424T215538
CREATED:20251119T192005Z
LAST-MODIFIED:20251119T192007Z
UID:10010207-1772467200-1772472600@test.acawso.org
SUMMARY:IT Committee
DESCRIPTION:IT Committee meets as and when needed on Mondays at 4:00pm ET (US). Please contact the IT Chair before attending the meeting to find out if it meets in a given week. \ncontact: itchair@acawso.org \nJoin Zoom Meeting \nhttps://us02web.zoom.us/j/89520227175 \nMeeting ID: 895 2022 7175\nPasscode: 90755
URL:https://test.acawso.org/calendar/it-committee-2023-07-19-2-2-2-2/2026-03-02/
CATEGORIES:committees
END:VEVENT
BEGIN:VEVENT
DTSTART;TZID=America/New_York:20260303T133000
DTEND;TZID=America/New_York:20260303T143000
DTSTAMP:20260424T215538
CREATED:20250107T111344Z
LAST-MODIFIED:20250107T111417Z
UID:10014959-1772544600-1772548200@test.acawso.org
SUMMARY:European Committee
DESCRIPTION:The monthly meeting is hosted by Zoom the First Tuesday of the month at 19:30 Central European Time / 18:30 UK / 20:30 Baltics / Helsinki / 21:30 Moscow time / 1:30pm ET \nhttps://us02web.zoom.us/j/83834372326 \nMeeting ID: 838 3437 2326\nPasscode: 437668 \nMore information about the European Committee can be found at https://test.acawso.org/category/european-connection/
URL:https://test.acawso.org/calendar/european-committee-2-2/2026-03-03/
CATEGORIES:committees
END:VEVENT
BEGIN:VEVENT
DTSTART;TZID=America/New_York:20260303T170000
DTEND;TZID=America/New_York:20260303T183000
DTSTAMP:20260424T215538
CREATED:20260206T175655Z
LAST-MODIFIED:20260206T175656Z
UID:10011757-1772557200-1772562600@test.acawso.org
SUMMARY:Charter Ad Hoc Committee
DESCRIPTION:Please see our Committee homepage for more information \nThis Study Group meets weekly on Tuesdays at 5:00 pm Eastern. \nMeeting ID: 993 7036 0615\nPasscode: 182011 \nIf you have questions\, please email us at abcstudy@acawso.org.
URL:https://test.acawso.org/calendar/abc-study-4-2-2-2/2026-03-03/
CATEGORIES:committees
END:VEVENT
BEGIN:VEVENT
DTSTART;TZID=America/New_York:20260305T160000
DTEND;TZID=America/New_York:20260305T173000
DTSTAMP:20260424T215538
CREATED:20251121T010224Z
LAST-MODIFIED:20251219T051900Z
UID:10017835-1772726400-1772731800@test.acawso.org
SUMMARY:Concepts Study
DESCRIPTION:This ad hoc committee was created by the 2022 ABC. \nAll ACA’s are welcome \nZoom information: \nhttps://zoom.us/j/83429248013 \nMeeting ID: 834 2924 8013\nPasscode: 90755 \nCommittee’s page
URL:https://test.acawso.org/calendar/concepts-ii-and-vi-study-2-2-2-2/2026-03-05/
CATEGORIES:committees
END:VEVENT
BEGIN:VEVENT
DTSTART;TZID=America/New_York:20260305T180000
DTEND;TZID=America/New_York:20260305T193000
DTSTAMP:20260424T215538
CREATED:20260305T230717Z
LAST-MODIFIED:20260305T230717Z
UID:10016976-1772733600-1772739000@test.acawso.org
SUMMARY:Ballot Prep Committee
DESCRIPTION:All are welcome. \nFor more information\, contact the committee at bpc@adultchildren.org \nZoom 2 ACAWSO is inviting you to a scheduled Zoom meeting. \nMeeting ID: 815 3118 9155\nPasscode: 90755
URL:https://test.acawso.org/calendar/ballot-prep-committee-10-3-2/2026-03-05/
CATEGORIES:committees
END:VEVENT
BEGIN:VEVENT
DTSTART;TZID=America/New_York:20260306T180000
DTEND;TZID=America/New_York:20260306T190000
DTSTAMP:20260424T215538
CREATED:20250816T110018Z
LAST-MODIFIED:20260302T110304Z
UID:10018431-1772820000-1772823600@test.acawso.org
SUMMARY:Data Analysis Committee
DESCRIPTION:  \nData Analysis Committee meets every third Friday the month at  3 PM PDT\, 4 PM MDT\, 5 PM CDT\, 6 PM EDT\, Saturday at 5 AM Thailand/Vietnam\, 6 AM Singapore/Taiwan/China\, 7 AM Japan \nFor information how to attend please contact the committee.
URL:https://test.acawso.org/calendar/data-analysis-committee-2-2-2-2-3/2026-03-06/
CATEGORIES:committees
END:VEVENT
BEGIN:VEVENT
DTSTART;TZID=America/New_York:20260307T103000
DTEND;TZID=America/New_York:20260307T120000
DTSTAMP:20260424T215538
CREATED:20251031T215409Z
LAST-MODIFIED:20260228T184519Z
UID:10016707-1772879400-1772884800@test.acawso.org
SUMMARY:ABC Sustainability Study Sub-Committee
DESCRIPTION:We generally meet on the 1st & 3rd Saturday of each month from 10:30AM to Noon EDT. \nAlways check this WSO Committee Calendar for any changes to our schedule. \nWe meet on Zoom 2: \nZoom URL: https://zoom.us/j/91045736882  \nMeeting ID: 910 4573 6882 \nPasscode: 992748
URL:https://test.acawso.org/calendar/abc-sustainability-study-sub-committee-7-2/2026-03-07/
CATEGORIES:committees
END:VEVENT
BEGIN:VEVENT
DTSTART;TZID=America/New_York:20260307T123000
DTEND;TZID=America/New_York:20260307T140000
DTSTAMP:20260424T215538
CREATED:20250129T193225Z
LAST-MODIFIED:20250510T175944Z
UID:10015727-1772886600-1772892000@test.acawso.org
SUMMARY:ABC/QDM Committee
DESCRIPTION:The ABC/AWC committee meets first and third Saturdays from 12:30 to 2 pm EDT \nJoin Zoom Meeting\nhttps://us02web.zoom.us/j/87582913615?pwd=dWpPNVJPcVNiVjJxbGgzbFVwY05EZz09 \nMeeting ID: 875 8291 3615\nPasscode: ABC2022 \nContact abc@adultchildren.org for more details.
URL:https://test.acawso.org/calendar/abc-awc-committee-5/2026-03-07/
CATEGORIES:committees
END:VEVENT
BEGIN:VEVENT
DTSTART;TZID=America/New_York:20260307T130000
DTEND;TZID=America/New_York:20260307T141500
DTSTAMP:20260424T215538
CREATED:20260122T112954Z
LAST-MODIFIED:20260128T201831Z
UID:10018315-1772888400-1772892900@test.acawso.org
SUMMARY:Lit Evaluation Subcommittee
DESCRIPTION:Literature Evaluation meets the 1st Saturday of each month\, 1:00pm-2:15pm ET. \ncontact: liteval@acawso.org \nhttps://us02web.zoom.us/j/86113897454?pwd=UitVN2tHb1E1STJ5YXlWYU1mZXZ5Zz09 \nMeeting ID: 861 1389 7454\nPasscode: 127253
URL:https://test.acawso.org/calendar/lit-evaluation-subcommittee-3-2/2026-03-07/
CATEGORIES:committees
END:VEVENT
BEGIN:VEVENT
DTSTART;TZID=America/New_York:20260307T160000
DTEND;TZID=America/New_York:20260307T173000
DTSTAMP:20260424T215538
CREATED:20250315T203407Z
LAST-MODIFIED:20250315T203408Z
UID:10011427-1772899200-1772904600@test.acawso.org
SUMMARY:SRC Committee Meeting
DESCRIPTION:Service Resources Committee meets on the 1st and 3rd Saturday of the month at 4pm ET. \nZoom 2 ACAWSO is inviting you to a scheduled Zoom meeting. \nTopic: SRC Committee Meeting\nJoin Zoom Meeting\nhttps://us02web.zoom.us/j/82077851277 \nMeeting ID: 820 7785 1277\nPasscode: 987321 \n  \nPlease download and import the following iCalendar (.ics) files to your calendar system.\nWeekly: https://us02web.zoom.us/meeting/tZYtcO6gqzooHdN_nSsMjGe-HFnItRpAbjLl/ics?icsToken=98tyKuGqrjwtEtGUsh6ARpwQAo_CKPzwmH5BgqdzoxHWEA1ZRQa7HsRMG6ZNAPnS
URL:https://test.acawso.org/calendar/mssc-committee-meeting-2-2/2026-03-07/
CATEGORIES:committees
END:VEVENT
BEGIN:VEVENT
DTSTART;TZID=America/New_York:20260309T120000
DTEND;TZID=America/New_York:20260309T133000
DTSTAMP:20260424T215538
CREATED:20250801T144133Z
LAST-MODIFIED:20250801T144134Z
UID:10012157-1773057600-1773063000@test.acawso.org
SUMMARY:IT Website Redesign Working Group
DESCRIPTION:IT website redesign working group meetings every Monday at 12:00pm ET (US) \nContact:  itchair@acawso.org \nJoin Zoom Meeting\nhttps://us02web.zoom.us/j/83771567325 \nMeeting ID: 837 7156 7325\nPasscode: 088655
URL:https://test.acawso.org/calendar/it-website-redesign-working-group-2-2-2-2/2026-03-09/
CATEGORIES:committees
END:VEVENT
BEGIN:VEVENT
DTSTART;TZID=America/New_York:20260309T160000
DTEND;TZID=America/New_York:20260309T173000
DTSTAMP:20260424T215538
CREATED:20251119T192005Z
LAST-MODIFIED:20251119T192007Z
UID:10010208-1773072000-1773077400@test.acawso.org
SUMMARY:IT Committee
DESCRIPTION:IT Committee meets as and when needed on Mondays at 4:00pm ET (US). Please contact the IT Chair before attending the meeting to find out if it meets in a given week. \ncontact: itchair@acawso.org \nJoin Zoom Meeting \nhttps://us02web.zoom.us/j/89520227175 \nMeeting ID: 895 2022 7175\nPasscode: 90755
URL:https://test.acawso.org/calendar/it-committee-2023-07-19-2-2-2-2/2026-03-09/
CATEGORIES:committees
END:VEVENT
BEGIN:VEVENT
DTSTART;TZID=America/New_York:20260310T170000
DTEND;TZID=America/New_York:20260310T183000
DTSTAMP:20260424T215538
CREATED:20260206T175655Z
LAST-MODIFIED:20260206T175656Z
UID:10013862-1773162000-1773167400@test.acawso.org
SUMMARY:Charter Ad Hoc Committee
DESCRIPTION:Please see our Committee homepage for more information \nThis Study Group meets weekly on Tuesdays at 5:00 pm Eastern. \nMeeting ID: 993 7036 0615\nPasscode: 182011 \nIf you have questions\, please email us at abcstudy@acawso.org.
URL:https://test.acawso.org/calendar/abc-study-4-2-2-2/2026-03-10/
CATEGORIES:committees
END:VEVENT
BEGIN:VEVENT
DTSTART;TZID=America/New_York:20260312T160000
DTEND;TZID=America/New_York:20260312T173000
DTSTAMP:20260424T215538
CREATED:20260306T145257Z
LAST-MODIFIED:20260306T145429Z
UID:10018621-1773331200-1773336600@test.acawso.org
SUMMARY:Finance Committee
DESCRIPTION:The finance committee meets Thursdays from 4:00 pm ET – 5:30pm ET.  We are looking for members with business\, finance\, or bookkeeping experience. \n  \nPlease contact treasurer@adultchildren.org or finance@acawso.org if you are interested in visiting or joining the finance committee.
URL:https://test.acawso.org/calendar/finance-committee-3/2026-03-12/
CATEGORIES:committees
END:VEVENT
BEGIN:VEVENT
DTSTART;TZID=America/New_York:20260314T123000
DTEND;TZID=America/New_York:20260314T133000
DTSTAMP:20260424T215538
CREATED:20260228T184103Z
LAST-MODIFIED:20260228T184103Z
UID:10018420-1773491400-1773495000@test.acawso.org
SUMMARY:Floor Motions Task Force Meeting
DESCRIPTION:We are meeting the 2nd and 4th Saturdays from 12:30-1:30 pm ET US – to work on a motion that the ABC/CBM committee develop a recommendation to the Delegates for implementing an emergency motion procedure for immediate decisions and vote to be made at any delegate meeting. \nJoin Zoom Meeting   https://us02web.zoom.us/j/87582913615?pwd=dWpPNVJPcVNiVjJxbGgzbFVwY05EZz09   Meeting ID: 875 8291 3615   Passcode: ABC2022 \n 
URL:https://test.acawso.org/calendar/floor-motions-task-force-meeting/2026-03-14/
CATEGORIES:committees
END:VEVENT
BEGIN:VEVENT
DTSTART;TZID=America/New_York:20260314T200000
DTEND;TZID=America/New_York:20260314T213000
DTSTAMP:20260424T215538
CREATED:20241109T132041Z
LAST-MODIFIED:20241109T132042Z
UID:10012533-1773518400-1773523800@test.acawso.org
SUMMARY:Big Red Book Working Group
DESCRIPTION:Zoom 2 ACAWSO is inviting you to a scheduled Zoom meeting.\nTopic: BRB Revision Working Group- Global East\nTime: Every month on the second and fourth Saturday at 8 PM Eastern US \nJoin Zoom Meeting\nhttps://zoom.us/j/92423141348\nMeeting ID: 924 2314 1348\nPasscode: 112358 \nPlease download and import the following iCalendar (.ics) files to your calendar system.\nMonthly: https://zoom.us/meeting/tJYpdeqpqjopHtwsBMOyTO0tAY5XaN4QYv7-/ics?icsToken=98tyKuCqqjkpG9CUsx2PRowQBojob-vwiH5egrdKjz3ILDlnTVPiF9sXCrNRROnp
URL:https://test.acawso.org/calendar/brb-revision-working-group-global-east-3-2/2026-03-14/
CATEGORIES:committees
END:VEVENT
BEGIN:VEVENT
DTSTART;TZID=America/New_York:20260316T120000
DTEND;TZID=America/New_York:20260316T133000
DTSTAMP:20260424T215538
CREATED:20250801T144133Z
LAST-MODIFIED:20250801T144134Z
UID:10012158-1773662400-1773667800@test.acawso.org
SUMMARY:IT Website Redesign Working Group
DESCRIPTION:IT website redesign working group meetings every Monday at 12:00pm ET (US) \nContact:  itchair@acawso.org \nJoin Zoom Meeting\nhttps://us02web.zoom.us/j/83771567325 \nMeeting ID: 837 7156 7325\nPasscode: 088655
URL:https://test.acawso.org/calendar/it-website-redesign-working-group-2-2-2-2/2026-03-16/
CATEGORIES:committees
END:VEVENT
BEGIN:VEVENT
DTSTART;TZID=America/New_York:20260316T160000
DTEND;TZID=America/New_York:20260316T173000
DTSTAMP:20260424T215538
CREATED:20251119T192005Z
LAST-MODIFIED:20251119T192007Z
UID:10010209-1773676800-1773682200@test.acawso.org
SUMMARY:IT Committee
DESCRIPTION:IT Committee meets as and when needed on Mondays at 4:00pm ET (US). Please contact the IT Chair before attending the meeting to find out if it meets in a given week. \ncontact: itchair@acawso.org \nJoin Zoom Meeting \nhttps://us02web.zoom.us/j/89520227175 \nMeeting ID: 895 2022 7175\nPasscode: 90755
URL:https://test.acawso.org/calendar/it-committee-2023-07-19-2-2-2-2/2026-03-16/
CATEGORIES:committees
END:VEVENT
END:VCALENDAR