BEGIN:VCALENDAR
VERSION:2.0
PRODID:-//ACA WSO - ECPv6.15.20//NONSGML v1.0//EN
CALSCALE:GREGORIAN
METHOD:PUBLISH
X-WR-CALNAME:ACA WSO
X-ORIGINAL-URL:https://test.acawso.org
X-WR-CALDESC:Events for ACA WSO
REFRESH-INTERVAL;VALUE=DURATION:PT1H
X-Robots-Tag:noindex
X-PUBLISHED-TTL:PT1H
BEGIN:VTIMEZONE
TZID:America/New_York
BEGIN:DAYLIGHT
TZOFFSETFROM:-0500
TZOFFSETTO:-0400
TZNAME:EDT
DTSTART:20250309T070000
END:DAYLIGHT
BEGIN:STANDARD
TZOFFSETFROM:-0400
TZOFFSETTO:-0500
TZNAME:EST
DTSTART:20251102T060000
END:STANDARD
BEGIN:DAYLIGHT
TZOFFSETFROM:-0500
TZOFFSETTO:-0400
TZNAME:EDT
DTSTART:20260308T070000
END:DAYLIGHT
BEGIN:STANDARD
TZOFFSETFROM:-0400
TZOFFSETTO:-0500
TZNAME:EST
DTSTART:20261101T060000
END:STANDARD
BEGIN:DAYLIGHT
TZOFFSETFROM:-0500
TZOFFSETTO:-0400
TZNAME:EDT
DTSTART:20270314T070000
END:DAYLIGHT
BEGIN:STANDARD
TZOFFSETFROM:-0400
TZOFFSETTO:-0500
TZNAME:EST
DTSTART:20271107T060000
END:STANDARD
END:VTIMEZONE
BEGIN:VEVENT
DTSTART;TZID=America/New_York:20260319T161500
DTEND;TZID=America/New_York:20260319T171500
DTSTAMP:20260425T222531
CREATED:20240610T105549Z
LAST-MODIFIED:20240722T102939Z
UID:10013175-1773936900-1773940500@test.acawso.org
SUMMARY:Oral History Committee
DESCRIPTION:Oral History Committee meets on third Thursday of each month at 4:15pm Eastern. \nhttps://zoom.us/j/87931864867 \nMeeting ID: 879 3186 4867 \nPasscode: 076406
URL:https://test.acawso.org/calendar/oral-history-committee-2-2/2026-03-19/
CATEGORIES:committees
END:VEVENT
BEGIN:VEVENT
DTSTART;TZID=America/New_York:20260320T093000
DTEND;TZID=America/New_York:20260320T113000
DTSTAMP:20260425T222531
CREATED:20260227T201312Z
LAST-MODIFIED:20260227T201329Z
UID:10017993-1773999000-1774006200@test.acawso.org
SUMMARY:Publishing Committee
DESCRIPTION:Publishing Committee (Zoom 7) \nWe meet on Fridays once a month on the 4th Friday of each month. \n \nTime: 6:30 am PDT\, 9:30 am EDT\, 2:30 pm UK/GBST\, 3:30 pm CET \, 3:30 pm SAST\, 7:00 pm India \nMeeting ID: 857 7189 3168\nPasscode: 382777 \nAny questions\, contact Sue V at publishingchair@acawso.org  or on slack \n 
URL:https://test.acawso.org/calendar/publishing-committee-3-2-3-2-3-3/
CATEGORIES:committees
END:VEVENT
BEGIN:VEVENT
DTSTART;TZID=America/New_York:20260321T103000
DTEND;TZID=America/New_York:20260321T120000
DTSTAMP:20260425T222531
CREATED:20260117T154318Z
LAST-MODIFIED:20260119T114552Z
UID:10016689-1774089000-1774094400@test.acawso.org
SUMMARY:ABC Sustainability Study Sub-Committee
DESCRIPTION:NOTE:  In January we are meeting on the 18th instead of the 17th. \nWe usually meet on the 1st & 3rd Saturday of each month from 10:30AM to Noon EDT. We recommend that you check the WSO Committee Calendar for any changes to this schedule. \nZoom URL: https://zoom.us/j/91045736882  \nMeeting ID: 910 4573 6882 \nPasscode: 992748
URL:https://test.acawso.org/calendar/abc-sustainability-study-sub-committee-6-3/2026-03-21/
CATEGORIES:committees
END:VEVENT
BEGIN:VEVENT
DTSTART;TZID=America/New_York:20260321T123000
DTEND;TZID=America/New_York:20260321T140000
DTSTAMP:20260425T222531
CREATED:20250426T032033Z
LAST-MODIFIED:20250827T230724Z
UID:10017598-1774096200-1774101600@test.acawso.org
SUMMARY:ABC/QDM Committee
DESCRIPTION:The ABC/AWC committee meets first and third Saturday from 12:30 to 2 pm EDT \nJoin Zoom Meeting\nhttps://us02web.zoom.us/j/87582913615?pwd=dWpPNVJPcVNiVjJxbGgzbFVwY05EZz09 \nMeeting ID: 875 8291 3615\nPasscode: ABC2022 \nContact abc@adultchildren.org for more details. \n 
URL:https://test.acawso.org/calendar/abc-awc-committee-4-2-3/2026-03-21/
CATEGORIES:committees
END:VEVENT
BEGIN:VEVENT
DTSTART;TZID=America/New_York:20260323T120000
DTEND;TZID=America/New_York:20260323T133000
DTSTAMP:20260425T222531
CREATED:20250801T144133Z
LAST-MODIFIED:20250801T144134Z
UID:10012159-1774267200-1774272600@test.acawso.org
SUMMARY:IT Website Redesign Working Group
DESCRIPTION:IT website redesign working group meetings every Monday at 12:00pm ET (US) \nContact:  itchair@acawso.org \nJoin Zoom Meeting\nhttps://us02web.zoom.us/j/83771567325 \nMeeting ID: 837 7156 7325\nPasscode: 088655
URL:https://test.acawso.org/calendar/it-website-redesign-working-group-2-2-2-2/2026-03-23/
CATEGORIES:committees
END:VEVENT
BEGIN:VEVENT
DTSTART;TZID=America/New_York:20260323T160000
DTEND;TZID=America/New_York:20260323T173000
DTSTAMP:20260425T222531
CREATED:20251119T192005Z
LAST-MODIFIED:20251119T192007Z
UID:10010210-1774281600-1774287000@test.acawso.org
SUMMARY:IT Committee
DESCRIPTION:IT Committee meets as and when needed on Mondays at 4:00pm ET (US). Please contact the IT Chair before attending the meeting to find out if it meets in a given week. \ncontact: itchair@acawso.org \nJoin Zoom Meeting \nhttps://us02web.zoom.us/j/89520227175 \nMeeting ID: 895 2022 7175\nPasscode: 90755
URL:https://test.acawso.org/calendar/it-committee-2023-07-19-2-2-2-2/2026-03-23/
CATEGORIES:committees
END:VEVENT
BEGIN:VEVENT
DTSTART;TZID=America/New_York:20260324T170000
DTEND;TZID=America/New_York:20260324T183000
DTSTAMP:20260425T222531
CREATED:20260206T175655Z
LAST-MODIFIED:20260206T175656Z
UID:10013864-1774371600-1774377000@test.acawso.org
SUMMARY:Charter Ad Hoc Committee
DESCRIPTION:Please see our Committee homepage for more information \nThis Study Group meets weekly on Tuesdays at 5:00 pm Eastern. \nMeeting ID: 993 7036 0615\nPasscode: 182011 \nIf you have questions\, please email us at abcstudy@acawso.org.
URL:https://test.acawso.org/calendar/abc-study-4-2-2-2/2026-03-24/
CATEGORIES:committees
END:VEVENT
BEGIN:VEVENT
DTSTART;TZID=America/New_York:20260326T160000
DTEND;TZID=America/New_York:20260326T173000
DTSTAMP:20260425T222531
CREATED:20260306T144231Z
LAST-MODIFIED:20260306T144231Z
UID:10018501-1774540800-1774546200@test.acawso.org
SUMMARY:Finance Committee
DESCRIPTION:The finance committee meets Thursdays from 4:00 pm ET – 5:30pm ET.  We are looking for members with business\, finance\, or bookkeeping experience. \n  \nPlease contact treasurer@adultchildren.org or finance@acawso.org if you are interested in visiting or joining the finance committee.
URL:https://test.acawso.org/calendar/finance-committee-3-2/2026-03-26/
CATEGORIES:committees
END:VEVENT
BEGIN:VEVENT
DTSTART;TZID=America/New_York:20260328T123000
DTEND;TZID=America/New_York:20260328T133000
DTSTAMP:20260425T222531
CREATED:20260228T184218Z
LAST-MODIFIED:20260228T184348Z
UID:10018426-1774701000-1774704600@test.acawso.org
SUMMARY:Floor Motions Task Force Meeting
DESCRIPTION:We are meeting the 2nd and 4th Saturdays from 12:30-1:30 pm ET US – to work on a motion that the ABC/CBM committee develop a recommendation to the Delegates for implementing an emergency motion procedure for immediate decisions and vote to be made at any delegate meeting. \nJoin Zoom Meeting   https://us02web.zoom.us/j/87582913615?pwd=dWpPNVJPcVNiVjJxbGgzbFVwY05EZz09   Meeting ID: 875 8291 3615   Passcode: ABC2022 \n 
URL:https://test.acawso.org/calendar/floor-motions-task-force-meeting-2/2026-03-28/
CATEGORIES:committees
END:VEVENT
BEGIN:VEVENT
DTSTART;TZID=America/New_York:20260328T200000
DTEND;TZID=America/New_York:20260328T213000
DTSTAMP:20260425T222531
CREATED:20240212T162730Z
LAST-MODIFIED:20240212T162730Z
UID:10012412-1774728000-1774733400@test.acawso.org
SUMMARY:Big Red Book Working Group
DESCRIPTION:Zoom 2 ACAWSO is inviting you to a scheduled Zoom meeting.\nTopic: BRB Revision Working Group- Global East\nTime: Every month on the second and fourth Saturday at 8 PM Eastern US \nJoin Zoom Meeting\nhttps://zoom.us/j/92423141348\nMeeting ID: 924 2314 1348\nPasscode: 112358 \nPlease download and import the following iCalendar (.ics) files to your calendar system.\nMonthly: https://zoom.us/meeting/tJYpdeqpqjopHtwsBMOyTO0tAY5XaN4QYv7-/ics?icsToken=98tyKuCqqjkpG9CUsx2PRowQBojob-vwiH5egrdKjz3ILDlnTVPiF9sXCrNRROnp
URL:https://test.acawso.org/calendar/big-red-book-working-group/2026-03-28/
CATEGORIES:committees
END:VEVENT
BEGIN:VEVENT
DTSTART;TZID=America/New_York:20260330T120000
DTEND;TZID=America/New_York:20260330T133000
DTSTAMP:20260425T222531
CREATED:20250801T144133Z
LAST-MODIFIED:20250801T144134Z
UID:10012160-1774872000-1774877400@test.acawso.org
SUMMARY:IT Website Redesign Working Group
DESCRIPTION:IT website redesign working group meetings every Monday at 12:00pm ET (US) \nContact:  itchair@acawso.org \nJoin Zoom Meeting\nhttps://us02web.zoom.us/j/83771567325 \nMeeting ID: 837 7156 7325\nPasscode: 088655
URL:https://test.acawso.org/calendar/it-website-redesign-working-group-2-2-2-2/2026-03-30/
CATEGORIES:committees
END:VEVENT
BEGIN:VEVENT
DTSTART;TZID=America/New_York:20260330T160000
DTEND;TZID=America/New_York:20260330T173000
DTSTAMP:20260425T222531
CREATED:20251119T192005Z
LAST-MODIFIED:20251119T192007Z
UID:10010211-1774886400-1774891800@test.acawso.org
SUMMARY:IT Committee
DESCRIPTION:IT Committee meets as and when needed on Mondays at 4:00pm ET (US). Please contact the IT Chair before attending the meeting to find out if it meets in a given week. \ncontact: itchair@acawso.org \nJoin Zoom Meeting \nhttps://us02web.zoom.us/j/89520227175 \nMeeting ID: 895 2022 7175\nPasscode: 90755
URL:https://test.acawso.org/calendar/it-committee-2023-07-19-2-2-2-2/2026-03-30/
CATEGORIES:committees
END:VEVENT
BEGIN:VEVENT
DTSTART;TZID=America/New_York:20260331T170000
DTEND;TZID=America/New_York:20260331T183000
DTSTAMP:20260425T222531
CREATED:20260206T175655Z
LAST-MODIFIED:20260206T175656Z
UID:10013865-1774976400-1774981800@test.acawso.org
SUMMARY:Charter Ad Hoc Committee
DESCRIPTION:Please see our Committee homepage for more information \nThis Study Group meets weekly on Tuesdays at 5:00 pm Eastern. \nMeeting ID: 993 7036 0615\nPasscode: 182011 \nIf you have questions\, please email us at abcstudy@acawso.org.
URL:https://test.acawso.org/calendar/abc-study-4-2-2-2/2026-03-31/
CATEGORIES:committees
END:VEVENT
BEGIN:VEVENT
DTSTART;TZID=America/New_York:20260402T160000
DTEND;TZID=America/New_York:20260402T173000
DTSTAMP:20260425T222531
CREATED:20260407T102823Z
LAST-MODIFIED:20260409T172137Z
UID:10019110-1775145600-1775151000@test.acawso.org
SUMMARY:Concepts Study
DESCRIPTION:This ad hoc committee was created by the 2022 ABC. \nAll ACA’s are welcome \nZoom information: \nMeeting ID: 955 2372 8529Passcode: 26623787
URL:https://test.acawso.org/calendar/concepts-study/2026-04-02/
CATEGORIES:committees
END:VEVENT
BEGIN:VEVENT
DTSTART;TZID=America/New_York:20260404T103000
DTEND;TZID=America/New_York:20260404T120000
DTSTAMP:20260425T222531
CREATED:20251031T215409Z
LAST-MODIFIED:20260228T184519Z
UID:10016708-1775298600-1775304000@test.acawso.org
SUMMARY:ABC Sustainability Study Sub-Committee
DESCRIPTION:We generally meet on the 1st & 3rd Saturday of each month from 10:30AM to Noon EDT. \nAlways check this WSO Committee Calendar for any changes to our schedule. \nWe meet on Zoom 2: \nZoom URL: https://zoom.us/j/91045736882  \nMeeting ID: 910 4573 6882 \nPasscode: 992748
URL:https://test.acawso.org/calendar/abc-sustainability-study-sub-committee-7-2/2026-04-04/
CATEGORIES:committees
END:VEVENT
BEGIN:VEVENT
DTSTART;TZID=America/New_York:20260404T123000
DTEND;TZID=America/New_York:20260404T140000
DTSTAMP:20260425T222531
CREATED:20250129T193225Z
LAST-MODIFIED:20250510T175944Z
UID:10015728-1775305800-1775311200@test.acawso.org
SUMMARY:ABC/QDM Committee
DESCRIPTION:The ABC/AWC committee meets first and third Saturdays from 12:30 to 2 pm EDT \nJoin Zoom Meeting\nhttps://us02web.zoom.us/j/87582913615?pwd=dWpPNVJPcVNiVjJxbGgzbFVwY05EZz09 \nMeeting ID: 875 8291 3615\nPasscode: ABC2022 \nContact abc@adultchildren.org for more details.
URL:https://test.acawso.org/calendar/abc-awc-committee-5/2026-04-04/
CATEGORIES:committees
END:VEVENT
BEGIN:VEVENT
DTSTART;TZID=America/New_York:20260404T130000
DTEND;TZID=America/New_York:20260404T141500
DTSTAMP:20260425T222531
CREATED:20260122T112954Z
LAST-MODIFIED:20260128T201831Z
UID:10018316-1775307600-1775312100@test.acawso.org
SUMMARY:Lit Evaluation Subcommittee
DESCRIPTION:Literature Evaluation meets the 1st Saturday of each month\, 1:00pm-2:15pm ET. \ncontact: liteval@acawso.org \nhttps://us02web.zoom.us/j/86113897454?pwd=UitVN2tHb1E1STJ5YXlWYU1mZXZ5Zz09 \nMeeting ID: 861 1389 7454\nPasscode: 127253
URL:https://test.acawso.org/calendar/lit-evaluation-subcommittee-3-2/2026-04-04/
CATEGORIES:committees
END:VEVENT
BEGIN:VEVENT
DTSTART;TZID=America/New_York:20260404T160000
DTEND;TZID=America/New_York:20260404T173000
DTSTAMP:20260425T222531
CREATED:20250315T203407Z
LAST-MODIFIED:20250315T203408Z
UID:10011428-1775318400-1775323800@test.acawso.org
SUMMARY:SRC Committee Meeting
DESCRIPTION:Service Resources Committee meets on the 1st and 3rd Saturday of the month at 4pm ET. \nZoom 2 ACAWSO is inviting you to a scheduled Zoom meeting. \nTopic: SRC Committee Meeting\nJoin Zoom Meeting\nhttps://us02web.zoom.us/j/82077851277 \nMeeting ID: 820 7785 1277\nPasscode: 987321 \n  \nPlease download and import the following iCalendar (.ics) files to your calendar system.\nWeekly: https://us02web.zoom.us/meeting/tZYtcO6gqzooHdN_nSsMjGe-HFnItRpAbjLl/ics?icsToken=98tyKuGqrjwtEtGUsh6ARpwQAo_CKPzwmH5BgqdzoxHWEA1ZRQa7HsRMG6ZNAPnS
URL:https://test.acawso.org/calendar/mssc-committee-meeting-2-2/2026-04-04/
CATEGORIES:committees
END:VEVENT
BEGIN:VEVENT
DTSTART;TZID=America/New_York:20260406T120000
DTEND;TZID=America/New_York:20260406T133000
DTSTAMP:20260425T222531
CREATED:20250801T144133Z
LAST-MODIFIED:20250801T144134Z
UID:10012161-1775476800-1775482200@test.acawso.org
SUMMARY:IT Website Redesign Working Group
DESCRIPTION:IT website redesign working group meetings every Monday at 12:00pm ET (US) \nContact:  itchair@acawso.org \nJoin Zoom Meeting\nhttps://us02web.zoom.us/j/83771567325 \nMeeting ID: 837 7156 7325\nPasscode: 088655
URL:https://test.acawso.org/calendar/it-website-redesign-working-group-2-2-2-2/2026-04-06/
CATEGORIES:committees
END:VEVENT
BEGIN:VEVENT
DTSTART;TZID=America/New_York:20260406T160000
DTEND;TZID=America/New_York:20260406T173000
DTSTAMP:20260425T222531
CREATED:20251119T192005Z
LAST-MODIFIED:20251119T192007Z
UID:10010212-1775491200-1775496600@test.acawso.org
SUMMARY:IT Committee
DESCRIPTION:IT Committee meets as and when needed on Mondays at 4:00pm ET (US). Please contact the IT Chair before attending the meeting to find out if it meets in a given week. \ncontact: itchair@acawso.org \nJoin Zoom Meeting \nhttps://us02web.zoom.us/j/89520227175 \nMeeting ID: 895 2022 7175\nPasscode: 90755
URL:https://test.acawso.org/calendar/it-committee-2023-07-19-2-2-2-2/2026-04-06/
CATEGORIES:committees
END:VEVENT
BEGIN:VEVENT
DTSTART;TZID=America/New_York:20260407T133000
DTEND;TZID=America/New_York:20260407T143000
DTSTAMP:20260425T222531
CREATED:20250107T111344Z
LAST-MODIFIED:20250107T111417Z
UID:10014960-1775568600-1775572200@test.acawso.org
SUMMARY:European Committee
DESCRIPTION:The monthly meeting is hosted by Zoom the First Tuesday of the month at 19:30 Central European Time / 18:30 UK / 20:30 Baltics / Helsinki / 21:30 Moscow time / 1:30pm ET \nhttps://us02web.zoom.us/j/83834372326 \nMeeting ID: 838 3437 2326\nPasscode: 437668 \nMore information about the European Committee can be found at https://test.acawso.org/category/european-connection/
URL:https://test.acawso.org/calendar/european-committee-2-2/2026-04-07/
CATEGORIES:committees
END:VEVENT
BEGIN:VEVENT
DTSTART;TZID=America/New_York:20260407T170000
DTEND;TZID=America/New_York:20260407T183000
DTSTAMP:20260425T222531
CREATED:20260206T175655Z
LAST-MODIFIED:20260206T175656Z
UID:10011758-1775581200-1775586600@test.acawso.org
SUMMARY:Charter Ad Hoc Committee
DESCRIPTION:Please see our Committee homepage for more information \nThis Study Group meets weekly on Tuesdays at 5:00 pm Eastern. \nMeeting ID: 993 7036 0615\nPasscode: 182011 \nIf you have questions\, please email us at abcstudy@acawso.org.
URL:https://test.acawso.org/calendar/abc-study-4-2-2-2/2026-04-07/
CATEGORIES:committees
END:VEVENT
BEGIN:VEVENT
DTSTART;TZID=America/New_York:20260408T160000
DTEND;TZID=America/New_York:20260408T170000
DTSTAMP:20260425T222531
CREATED:20260407T103035Z
LAST-MODIFIED:20260409T172029Z
UID:10019356-1775664000-1775667600@test.acawso.org
SUMMARY:Concepts Study
DESCRIPTION:This ad hoc committee was created by the 2022 ABC. \nAll ACA’s are welcome \nZoom information: \nMeeting ID: 955 2372 8529Passcode: 26623787
URL:https://test.acawso.org/calendar/concepts-study-2-2/2026-04-08/
CATEGORIES:committees
END:VEVENT
BEGIN:VEVENT
DTSTART;TZID=America/New_York:20260409T160000
DTEND;TZID=America/New_York:20260409T173000
DTSTAMP:20260425T222531
CREATED:20260306T145257Z
LAST-MODIFIED:20260306T145429Z
UID:10018622-1775750400-1775755800@test.acawso.org
SUMMARY:Finance Committee
DESCRIPTION:The finance committee meets Thursdays from 4:00 pm ET – 5:30pm ET.  We are looking for members with business\, finance\, or bookkeeping experience. \n  \nPlease contact treasurer@adultchildren.org or finance@acawso.org if you are interested in visiting or joining the finance committee.
URL:https://test.acawso.org/calendar/finance-committee-3/2026-04-09/
CATEGORIES:committees
END:VEVENT
BEGIN:VEVENT
DTSTART;TZID=America/New_York:20260409T180000
DTEND;TZID=America/New_York:20260409T193000
DTSTAMP:20260425T222531
CREATED:20260305T230717Z
LAST-MODIFIED:20260305T230717Z
UID:10016981-1775757600-1775763000@test.acawso.org
SUMMARY:Ballot Prep Committee
DESCRIPTION:All are welcome. \nFor more information\, contact the committee at bpc@adultchildren.org \nZoom 2 ACAWSO is inviting you to a scheduled Zoom meeting. \nMeeting ID: 815 3118 9155\nPasscode: 90755
URL:https://test.acawso.org/calendar/ballot-prep-committee-10-3-2/2026-04-09/
CATEGORIES:committees
END:VEVENT
BEGIN:VEVENT
DTSTART;TZID=America/New_York:20260411T123000
DTEND;TZID=America/New_York:20260411T133000
DTSTAMP:20260425T222531
CREATED:20260228T184103Z
LAST-MODIFIED:20260228T184103Z
UID:10018421-1775910600-1775914200@test.acawso.org
SUMMARY:Floor Motions Task Force Meeting
DESCRIPTION:We are meeting the 2nd and 4th Saturdays from 12:30-1:30 pm ET US – to work on a motion that the ABC/CBM committee develop a recommendation to the Delegates for implementing an emergency motion procedure for immediate decisions and vote to be made at any delegate meeting. \nJoin Zoom Meeting   https://us02web.zoom.us/j/87582913615?pwd=dWpPNVJPcVNiVjJxbGgzbFVwY05EZz09   Meeting ID: 875 8291 3615   Passcode: ABC2022 \n 
URL:https://test.acawso.org/calendar/floor-motions-task-force-meeting/2026-04-11/
CATEGORIES:committees
END:VEVENT
BEGIN:VEVENT
DTSTART;TZID=America/New_York:20260411T200000
DTEND;TZID=America/New_York:20260411T213000
DTSTAMP:20260425T222531
CREATED:20241109T132041Z
LAST-MODIFIED:20241109T132042Z
UID:10012534-1775937600-1775943000@test.acawso.org
SUMMARY:Big Red Book Working Group
DESCRIPTION:Zoom 2 ACAWSO is inviting you to a scheduled Zoom meeting.\nTopic: BRB Revision Working Group- Global East\nTime: Every month on the second and fourth Saturday at 8 PM Eastern US \nJoin Zoom Meeting\nhttps://zoom.us/j/92423141348\nMeeting ID: 924 2314 1348\nPasscode: 112358 \nPlease download and import the following iCalendar (.ics) files to your calendar system.\nMonthly: https://zoom.us/meeting/tJYpdeqpqjopHtwsBMOyTO0tAY5XaN4QYv7-/ics?icsToken=98tyKuCqqjkpG9CUsx2PRowQBojob-vwiH5egrdKjz3ILDlnTVPiF9sXCrNRROnp
URL:https://test.acawso.org/calendar/brb-revision-working-group-global-east-3-2/2026-04-11/
CATEGORIES:committees
END:VEVENT
BEGIN:VEVENT
DTSTART;TZID=America/New_York:20260413T120000
DTEND;TZID=America/New_York:20260413T133000
DTSTAMP:20260425T222531
CREATED:20250801T144133Z
LAST-MODIFIED:20250801T144134Z
UID:10012162-1776081600-1776087000@test.acawso.org
SUMMARY:IT Website Redesign Working Group
DESCRIPTION:IT website redesign working group meetings every Monday at 12:00pm ET (US) \nContact:  itchair@acawso.org \nJoin Zoom Meeting\nhttps://us02web.zoom.us/j/83771567325 \nMeeting ID: 837 7156 7325\nPasscode: 088655
URL:https://test.acawso.org/calendar/it-website-redesign-working-group-2-2-2-2/2026-04-13/
CATEGORIES:committees
END:VEVENT
BEGIN:VEVENT
DTSTART;TZID=America/New_York:20260413T160000
DTEND;TZID=America/New_York:20260413T173000
DTSTAMP:20260425T222531
CREATED:20251119T192005Z
LAST-MODIFIED:20251119T192007Z
UID:10010213-1776096000-1776101400@test.acawso.org
SUMMARY:IT Committee
DESCRIPTION:IT Committee meets as and when needed on Mondays at 4:00pm ET (US). Please contact the IT Chair before attending the meeting to find out if it meets in a given week. \ncontact: itchair@acawso.org \nJoin Zoom Meeting \nhttps://us02web.zoom.us/j/89520227175 \nMeeting ID: 895 2022 7175\nPasscode: 90755
URL:https://test.acawso.org/calendar/it-committee-2023-07-19-2-2-2-2/2026-04-13/
CATEGORIES:committees
END:VEVENT
BEGIN:VEVENT
DTSTART;TZID=America/New_York:20260414T170000
DTEND;TZID=America/New_York:20260414T183000
DTSTAMP:20260425T222531
CREATED:20260206T175655Z
LAST-MODIFIED:20260206T175656Z
UID:10013866-1776186000-1776191400@test.acawso.org
SUMMARY:Charter Ad Hoc Committee
DESCRIPTION:Please see our Committee homepage for more information \nThis Study Group meets weekly on Tuesdays at 5:00 pm Eastern. \nMeeting ID: 993 7036 0615\nPasscode: 182011 \nIf you have questions\, please email us at abcstudy@acawso.org.
URL:https://test.acawso.org/calendar/abc-study-4-2-2-2/2026-04-14/
CATEGORIES:committees
END:VEVENT
END:VCALENDAR