BEGIN:VCALENDAR
VERSION:2.0
PRODID:-//ACA WSO - ECPv6.15.20//NONSGML v1.0//EN
CALSCALE:GREGORIAN
METHOD:PUBLISH
X-ORIGINAL-URL:https://test.acawso.org
X-WR-CALDESC:Events for ACA WSO
REFRESH-INTERVAL;VALUE=DURATION:PT1H
X-Robots-Tag:noindex
X-PUBLISHED-TTL:PT1H
BEGIN:VTIMEZONE
TZID:America/New_York
BEGIN:DAYLIGHT
TZOFFSETFROM:-0500
TZOFFSETTO:-0400
TZNAME:EDT
DTSTART:20250309T070000
END:DAYLIGHT
BEGIN:STANDARD
TZOFFSETFROM:-0400
TZOFFSETTO:-0500
TZNAME:EST
DTSTART:20251102T060000
END:STANDARD
BEGIN:DAYLIGHT
TZOFFSETFROM:-0500
TZOFFSETTO:-0400
TZNAME:EDT
DTSTART:20260308T070000
END:DAYLIGHT
BEGIN:STANDARD
TZOFFSETFROM:-0400
TZOFFSETTO:-0500
TZNAME:EST
DTSTART:20261101T060000
END:STANDARD
BEGIN:DAYLIGHT
TZOFFSETFROM:-0500
TZOFFSETTO:-0400
TZNAME:EDT
DTSTART:20270314T070000
END:DAYLIGHT
BEGIN:STANDARD
TZOFFSETFROM:-0400
TZOFFSETTO:-0500
TZNAME:EST
DTSTART:20271107T060000
END:STANDARD
END:VTIMEZONE
BEGIN:VEVENT
DTSTART;TZID=America/New_York:20260421T170000
DTEND;TZID=America/New_York:20260421T183000
DTSTAMP:20260420T194826
CREATED:20260206T175655Z
LAST-MODIFIED:20260206T175656Z
UID:10013867-1776790800-1776796200@test.acawso.org
SUMMARY:Charter Ad Hoc Committee
DESCRIPTION:Please see our Committee homepage for more information \nThis Study Group meets weekly on Tuesdays at 5:00 pm Eastern. \nMeeting ID: 993 7036 0615\nPasscode: 182011 \nIf you have questions\, please email us at abcstudy@acawso.org.
URL:https://test.acawso.org/calendar/abc-study-4-2-2-2/2026-04-21/
CATEGORIES:committees
END:VEVENT
BEGIN:VEVENT
DTSTART;TZID=America/New_York:20260423T160000
DTEND;TZID=America/New_York:20260423T173000
DTSTAMP:20260420T194826
CREATED:20260306T144231Z
LAST-MODIFIED:20260306T144231Z
UID:10018561-1776960000-1776965400@test.acawso.org
SUMMARY:Finance Committee
DESCRIPTION:The finance committee meets Thursdays from 4:00 pm ET – 5:30pm ET.  We are looking for members with business\, finance\, or bookkeeping experience. \n  \nPlease contact treasurer@adultchildren.org or finance@acawso.org if you are interested in visiting or joining the finance committee.
URL:https://test.acawso.org/calendar/finance-committee-3-2/2026-04-23/
CATEGORIES:committees
END:VEVENT
BEGIN:VEVENT
DTSTART;TZID=America/New_York:20260423T180000
DTEND;TZID=America/New_York:20260423T193000
DTSTAMP:20260420T194826
CREATED:20260305T230717Z
LAST-MODIFIED:20260305T230717Z
UID:10016983-1776967200-1776972600@test.acawso.org
SUMMARY:Ballot Prep Committee
DESCRIPTION:All are welcome. \nFor more information\, contact the committee at bpc@adultchildren.org \nZoom 2 ACAWSO is inviting you to a scheduled Zoom meeting. \nMeeting ID: 815 3118 9155\nPasscode: 90755
URL:https://test.acawso.org/calendar/ballot-prep-committee-10-3-2/2026-04-23/
CATEGORIES:committees
END:VEVENT
BEGIN:VEVENT
DTSTART;TZID=America/New_York:20260424T093000
DTEND;TZID=America/New_York:20260424T113000
DTSTAMP:20260420T194826
CREATED:20260227T195846Z
LAST-MODIFIED:20260227T200704Z
UID:10017994-1777023000-1777030200@test.acawso.org
SUMMARY:Publishing Committee
DESCRIPTION:Publishing Committee \nWe meet on Fridays once a month on the 4th Friday of each month. \n \nTime: 6:30 am PDT\, 9:30 am EDT\, 2:30 pm UK/GBST\, 3:30 pm CET \, 3:30 pm SAST\, 7:00 pm India \nMeeting ID: 857 7189 3168\nPasscode: 382777 \nAny questions\, contact Sue V at publishingchair@acawso.org  or on slack \n 
URL:https://test.acawso.org/calendar/publishing-committee-3-2-3-2-3/2026-04-24/
CATEGORIES:committees
END:VEVENT
BEGIN:VEVENT
DTSTART;TZID=America/New_York:20260425T123000
DTEND;TZID=America/New_York:20260425T133000
DTSTAMP:20260420T194826
CREATED:20260228T184218Z
LAST-MODIFIED:20260228T184348Z
UID:10018427-1777120200-1777123800@test.acawso.org
SUMMARY:Floor Motions Task Force Meeting
DESCRIPTION:We are meeting the 2nd and 4th Saturdays from 12:30-1:30 pm ET US – to work on a motion that the ABC/CBM committee develop a recommendation to the Delegates for implementing an emergency motion procedure for immediate decisions and vote to be made at any delegate meeting. \nJoin Zoom Meeting   https://us02web.zoom.us/j/87582913615?pwd=dWpPNVJPcVNiVjJxbGgzbFVwY05EZz09   Meeting ID: 875 8291 3615   Passcode: ABC2022 \n 
URL:https://test.acawso.org/calendar/floor-motions-task-force-meeting-2/2026-04-25/
CATEGORIES:committees
END:VEVENT
BEGIN:VEVENT
DTSTART;TZID=America/New_York:20260425T200000
DTEND;TZID=America/New_York:20260425T213000
DTSTAMP:20260420T194826
CREATED:20240212T162730Z
LAST-MODIFIED:20240212T162730Z
UID:10012413-1777147200-1777152600@test.acawso.org
SUMMARY:Big Red Book Working Group
DESCRIPTION:Zoom 2 ACAWSO is inviting you to a scheduled Zoom meeting.\nTopic: BRB Revision Working Group- Global East\nTime: Every month on the second and fourth Saturday at 8 PM Eastern US \nJoin Zoom Meeting\nhttps://zoom.us/j/92423141348\nMeeting ID: 924 2314 1348\nPasscode: 112358 \nPlease download and import the following iCalendar (.ics) files to your calendar system.\nMonthly: https://zoom.us/meeting/tJYpdeqpqjopHtwsBMOyTO0tAY5XaN4QYv7-/ics?icsToken=98tyKuCqqjkpG9CUsx2PRowQBojob-vwiH5egrdKjz3ILDlnTVPiF9sXCrNRROnp
URL:https://test.acawso.org/calendar/big-red-book-working-group/2026-04-25/
CATEGORIES:committees
END:VEVENT
BEGIN:VEVENT
DTSTART;TZID=America/New_York:20260427T120000
DTEND;TZID=America/New_York:20260427T133000
DTSTAMP:20260420T194826
CREATED:20250801T144133Z
LAST-MODIFIED:20250801T144134Z
UID:10012164-1777291200-1777296600@test.acawso.org
SUMMARY:IT Website Redesign Working Group
DESCRIPTION:IT website redesign working group meetings every Monday at 12:00pm ET (US) \nContact:  itchair@acawso.org \nJoin Zoom Meeting\nhttps://us02web.zoom.us/j/83771567325 \nMeeting ID: 837 7156 7325\nPasscode: 088655
URL:https://test.acawso.org/calendar/it-website-redesign-working-group-2-2-2-2/2026-04-27/
CATEGORIES:committees
END:VEVENT
BEGIN:VEVENT
DTSTART;TZID=America/New_York:20260427T160000
DTEND;TZID=America/New_York:20260427T173000
DTSTAMP:20260420T194826
CREATED:20251119T192005Z
LAST-MODIFIED:20251119T192007Z
UID:10010215-1777305600-1777311000@test.acawso.org
SUMMARY:IT Committee
DESCRIPTION:IT Committee meets as and when needed on Mondays at 4:00pm ET (US). Please contact the IT Chair before attending the meeting to find out if it meets in a given week. \ncontact: itchair@acawso.org \nJoin Zoom Meeting \nhttps://us02web.zoom.us/j/89520227175 \nMeeting ID: 895 2022 7175\nPasscode: 90755
URL:https://test.acawso.org/calendar/it-committee-2023-07-19-2-2-2-2/2026-04-27/
CATEGORIES:committees
END:VEVENT
BEGIN:VEVENT
DTSTART;TZID=America/New_York:20260428T170000
DTEND;TZID=America/New_York:20260428T183000
DTSTAMP:20260420T194826
CREATED:20260206T175655Z
LAST-MODIFIED:20260206T175656Z
UID:10013868-1777395600-1777401000@test.acawso.org
SUMMARY:Charter Ad Hoc Committee
DESCRIPTION:Please see our Committee homepage for more information \nThis Study Group meets weekly on Tuesdays at 5:00 pm Eastern. \nMeeting ID: 993 7036 0615\nPasscode: 182011 \nIf you have questions\, please email us at abcstudy@acawso.org.
URL:https://test.acawso.org/calendar/abc-study-4-2-2-2/2026-04-28/
CATEGORIES:committees
END:VEVENT
BEGIN:VEVENT
DTSTART;TZID=America/New_York:20260430T180000
DTEND;TZID=America/New_York:20260430T193000
DTSTAMP:20260420T194826
CREATED:20260305T230717Z
LAST-MODIFIED:20260305T230717Z
UID:10016984-1777572000-1777577400@test.acawso.org
SUMMARY:Ballot Prep Committee
DESCRIPTION:All are welcome. \nFor more information\, contact the committee at bpc@adultchildren.org \nZoom 2 ACAWSO is inviting you to a scheduled Zoom meeting. \nMeeting ID: 815 3118 9155\nPasscode: 90755
URL:https://test.acawso.org/calendar/ballot-prep-committee-10-3-2/2026-04-30/
CATEGORIES:committees
END:VEVENT
BEGIN:VEVENT
DTSTART;TZID=America/New_York:20260501T180000
DTEND;TZID=America/New_York:20260501T190000
DTSTAMP:20260420T194826
CREATED:20260409T160520Z
LAST-MODIFIED:20260409T160532Z
UID:10009451-1777658400-1777662000@test.acawso.org
SUMMARY:Data Analysis Committee
DESCRIPTION:  \nData Analysis Committee meets every third Friday the month at  3 PM PDT\, 4 PM MDT\, 5 PM CDT\, 6 PM EDT\, Saturday at 5 AM Thailand/Vietnam\, 6 AM Singapore/Taiwan/China\, 7 AM Japan \nFor information how to attend please contact the committee.
URL:https://test.acawso.org/calendar/data-analysis-committee-2-2-2-2-3-3/
CATEGORIES:committees
END:VEVENT
BEGIN:VEVENT
DTSTART;TZID=America/New_York:20260502T103000
DTEND;TZID=America/New_York:20260502T120000
DTSTAMP:20260420T194826
CREATED:20251031T215409Z
LAST-MODIFIED:20260228T184519Z
UID:10016709-1777717800-1777723200@test.acawso.org
SUMMARY:ABC Sustainability Study Sub-Committee
DESCRIPTION:We generally meet on the 1st & 3rd Saturday of each month from 10:30AM to Noon EDT. \nAlways check this WSO Committee Calendar for any changes to our schedule. \nWe meet on Zoom 2: \nZoom URL: https://zoom.us/j/91045736882  \nMeeting ID: 910 4573 6882 \nPasscode: 992748
URL:https://test.acawso.org/calendar/abc-sustainability-study-sub-committee-7-2/2026-05-02/
CATEGORIES:committees
END:VEVENT
BEGIN:VEVENT
DTSTART;TZID=America/New_York:20260502T123000
DTEND;TZID=America/New_York:20260502T140000
DTSTAMP:20260420T194826
CREATED:20250129T193225Z
LAST-MODIFIED:20250510T175944Z
UID:10015729-1777725000-1777730400@test.acawso.org
SUMMARY:ABC/QDM Committee
DESCRIPTION:The ABC/AWC committee meets first and third Saturdays from 12:30 to 2 pm EDT \nJoin Zoom Meeting\nhttps://us02web.zoom.us/j/87582913615?pwd=dWpPNVJPcVNiVjJxbGgzbFVwY05EZz09 \nMeeting ID: 875 8291 3615\nPasscode: ABC2022 \nContact abc@adultchildren.org for more details.
URL:https://test.acawso.org/calendar/abc-awc-committee-5/2026-05-02/
CATEGORIES:committees
END:VEVENT
BEGIN:VEVENT
DTSTART;TZID=America/New_York:20260502T130000
DTEND;TZID=America/New_York:20260502T141500
DTSTAMP:20260420T194826
CREATED:20260122T112954Z
LAST-MODIFIED:20260128T201831Z
UID:10018317-1777726800-1777731300@test.acawso.org
SUMMARY:Lit Evaluation Subcommittee
DESCRIPTION:Literature Evaluation meets the 1st Saturday of each month\, 1:00pm-2:15pm ET. \ncontact: liteval@acawso.org \nhttps://us02web.zoom.us/j/86113897454?pwd=UitVN2tHb1E1STJ5YXlWYU1mZXZ5Zz09 \nMeeting ID: 861 1389 7454\nPasscode: 127253
URL:https://test.acawso.org/calendar/lit-evaluation-subcommittee-3-2/2026-05-02/
CATEGORIES:committees
END:VEVENT
BEGIN:VEVENT
DTSTART;TZID=America/New_York:20260502T160000
DTEND;TZID=America/New_York:20260502T173000
DTSTAMP:20260420T194826
CREATED:20250315T203407Z
LAST-MODIFIED:20250315T203408Z
UID:10011429-1777737600-1777743000@test.acawso.org
SUMMARY:SRC Committee Meeting
DESCRIPTION:Service Resources Committee meets on the 1st and 3rd Saturday of the month at 4pm ET. \nZoom 2 ACAWSO is inviting you to a scheduled Zoom meeting. \nTopic: SRC Committee Meeting\nJoin Zoom Meeting\nhttps://us02web.zoom.us/j/82077851277 \nMeeting ID: 820 7785 1277\nPasscode: 987321 \n  \nPlease download and import the following iCalendar (.ics) files to your calendar system.\nWeekly: https://us02web.zoom.us/meeting/tZYtcO6gqzooHdN_nSsMjGe-HFnItRpAbjLl/ics?icsToken=98tyKuGqrjwtEtGUsh6ARpwQAo_CKPzwmH5BgqdzoxHWEA1ZRQa7HsRMG6ZNAPnS
URL:https://test.acawso.org/calendar/mssc-committee-meeting-2-2/2026-05-02/
CATEGORIES:committees
END:VEVENT
BEGIN:VEVENT
DTSTART;TZID=America/New_York:20260504T120000
DTEND;TZID=America/New_York:20260504T133000
DTSTAMP:20260420T194826
CREATED:20250801T144133Z
LAST-MODIFIED:20250801T144134Z
UID:10012165-1777896000-1777901400@test.acawso.org
SUMMARY:IT Website Redesign Working Group
DESCRIPTION:IT website redesign working group meetings every Monday at 12:00pm ET (US) \nContact:  itchair@acawso.org \nJoin Zoom Meeting\nhttps://us02web.zoom.us/j/83771567325 \nMeeting ID: 837 7156 7325\nPasscode: 088655
URL:https://test.acawso.org/calendar/it-website-redesign-working-group-2-2-2-2/2026-05-04/
CATEGORIES:committees
END:VEVENT
BEGIN:VEVENT
DTSTART;TZID=America/New_York:20260504T160000
DTEND;TZID=America/New_York:20260504T173000
DTSTAMP:20260420T194826
CREATED:20251119T192005Z
LAST-MODIFIED:20251119T192007Z
UID:10010216-1777910400-1777915800@test.acawso.org
SUMMARY:IT Committee
DESCRIPTION:IT Committee meets as and when needed on Mondays at 4:00pm ET (US). Please contact the IT Chair before attending the meeting to find out if it meets in a given week. \ncontact: itchair@acawso.org \nJoin Zoom Meeting \nhttps://us02web.zoom.us/j/89520227175 \nMeeting ID: 895 2022 7175\nPasscode: 90755
URL:https://test.acawso.org/calendar/it-committee-2023-07-19-2-2-2-2/2026-05-04/
CATEGORIES:committees
END:VEVENT
BEGIN:VEVENT
DTSTART;TZID=America/New_York:20260505T133000
DTEND;TZID=America/New_York:20260505T143000
DTSTAMP:20260420T194826
CREATED:20250107T111344Z
LAST-MODIFIED:20250107T111417Z
UID:10014961-1777987800-1777991400@test.acawso.org
SUMMARY:European Committee
DESCRIPTION:The monthly meeting is hosted by Zoom the First Tuesday of the month at 19:30 Central European Time / 18:30 UK / 20:30 Baltics / Helsinki / 21:30 Moscow time / 1:30pm ET \nhttps://us02web.zoom.us/j/83834372326 \nMeeting ID: 838 3437 2326\nPasscode: 437668 \nMore information about the European Committee can be found at https://test.acawso.org/category/european-connection/
URL:https://test.acawso.org/calendar/european-committee-2-2/2026-05-05/
CATEGORIES:committees
END:VEVENT
BEGIN:VEVENT
DTSTART;TZID=America/New_York:20260505T170000
DTEND;TZID=America/New_York:20260505T183000
DTSTAMP:20260420T194826
CREATED:20260206T175655Z
LAST-MODIFIED:20260206T175656Z
UID:10011759-1778000400-1778005800@test.acawso.org
SUMMARY:Charter Ad Hoc Committee
DESCRIPTION:Please see our Committee homepage for more information \nThis Study Group meets weekly on Tuesdays at 5:00 pm Eastern. \nMeeting ID: 993 7036 0615\nPasscode: 182011 \nIf you have questions\, please email us at abcstudy@acawso.org.
URL:https://test.acawso.org/calendar/abc-study-4-2-2-2/2026-05-05/
CATEGORIES:committees
END:VEVENT
BEGIN:VEVENT
DTSTART;TZID=America/New_York:20260507T160000
DTEND;TZID=America/New_York:20260507T173000
DTSTAMP:20260420T194826
CREATED:20260407T102823Z
LAST-MODIFIED:20260409T172137Z
UID:10019111-1778169600-1778175000@test.acawso.org
SUMMARY:Concepts Study
DESCRIPTION:This ad hoc committee was created by the 2022 ABC. \nAll ACA’s are welcome \nZoom information: \nMeeting ID: 955 2372 8529Passcode: 26623787
URL:https://test.acawso.org/calendar/concepts-study/2026-05-07/
CATEGORIES:committees
END:VEVENT
BEGIN:VEVENT
DTSTART;TZID=America/New_York:20260507T180000
DTEND;TZID=America/New_York:20260507T193000
DTSTAMP:20260420T194826
CREATED:20260305T230717Z
LAST-MODIFIED:20260305T230717Z
UID:10016985-1778176800-1778182200@test.acawso.org
SUMMARY:Ballot Prep Committee
DESCRIPTION:All are welcome. \nFor more information\, contact the committee at bpc@adultchildren.org \nZoom 2 ACAWSO is inviting you to a scheduled Zoom meeting. \nMeeting ID: 815 3118 9155\nPasscode: 90755
URL:https://test.acawso.org/calendar/ballot-prep-committee-10-3-2/2026-05-07/
CATEGORIES:committees
END:VEVENT
BEGIN:VEVENT
DTSTART;TZID=America/New_York:20260509T123000
DTEND;TZID=America/New_York:20260509T133000
DTSTAMP:20260420T194826
CREATED:20260228T184103Z
LAST-MODIFIED:20260228T184103Z
UID:10018422-1778329800-1778333400@test.acawso.org
SUMMARY:Floor Motions Task Force Meeting
DESCRIPTION:We are meeting the 2nd and 4th Saturdays from 12:30-1:30 pm ET US – to work on a motion that the ABC/CBM committee develop a recommendation to the Delegates for implementing an emergency motion procedure for immediate decisions and vote to be made at any delegate meeting. \nJoin Zoom Meeting   https://us02web.zoom.us/j/87582913615?pwd=dWpPNVJPcVNiVjJxbGgzbFVwY05EZz09   Meeting ID: 875 8291 3615   Passcode: ABC2022 \n 
URL:https://test.acawso.org/calendar/floor-motions-task-force-meeting/2026-05-09/
CATEGORIES:committees
END:VEVENT
BEGIN:VEVENT
DTSTART;TZID=America/New_York:20260509T200000
DTEND;TZID=America/New_York:20260509T213000
DTSTAMP:20260420T194826
CREATED:20241109T132041Z
LAST-MODIFIED:20241109T132042Z
UID:10012535-1778356800-1778362200@test.acawso.org
SUMMARY:Big Red Book Working Group
DESCRIPTION:Zoom 2 ACAWSO is inviting you to a scheduled Zoom meeting.\nTopic: BRB Revision Working Group- Global East\nTime: Every month on the second and fourth Saturday at 8 PM Eastern US \nJoin Zoom Meeting\nhttps://zoom.us/j/92423141348\nMeeting ID: 924 2314 1348\nPasscode: 112358 \nPlease download and import the following iCalendar (.ics) files to your calendar system.\nMonthly: https://zoom.us/meeting/tJYpdeqpqjopHtwsBMOyTO0tAY5XaN4QYv7-/ics?icsToken=98tyKuCqqjkpG9CUsx2PRowQBojob-vwiH5egrdKjz3ILDlnTVPiF9sXCrNRROnp
URL:https://test.acawso.org/calendar/brb-revision-working-group-global-east-3-2/2026-05-09/
CATEGORIES:committees
END:VEVENT
BEGIN:VEVENT
DTSTART;TZID=America/New_York:20260511T120000
DTEND;TZID=America/New_York:20260511T133000
DTSTAMP:20260420T194826
CREATED:20250801T144133Z
LAST-MODIFIED:20250801T144134Z
UID:10012166-1778500800-1778506200@test.acawso.org
SUMMARY:IT Website Redesign Working Group
DESCRIPTION:IT website redesign working group meetings every Monday at 12:00pm ET (US) \nContact:  itchair@acawso.org \nJoin Zoom Meeting\nhttps://us02web.zoom.us/j/83771567325 \nMeeting ID: 837 7156 7325\nPasscode: 088655
URL:https://test.acawso.org/calendar/it-website-redesign-working-group-2-2-2-2/2026-05-11/
CATEGORIES:committees
END:VEVENT
BEGIN:VEVENT
DTSTART;TZID=America/New_York:20260511T160000
DTEND;TZID=America/New_York:20260511T173000
DTSTAMP:20260420T194826
CREATED:20251119T192005Z
LAST-MODIFIED:20251119T192007Z
UID:10010217-1778515200-1778520600@test.acawso.org
SUMMARY:IT Committee
DESCRIPTION:IT Committee meets as and when needed on Mondays at 4:00pm ET (US). Please contact the IT Chair before attending the meeting to find out if it meets in a given week. \ncontact: itchair@acawso.org \nJoin Zoom Meeting \nhttps://us02web.zoom.us/j/89520227175 \nMeeting ID: 895 2022 7175\nPasscode: 90755
URL:https://test.acawso.org/calendar/it-committee-2023-07-19-2-2-2-2/2026-05-11/
CATEGORIES:committees
END:VEVENT
BEGIN:VEVENT
DTSTART;TZID=America/New_York:20260512T170000
DTEND;TZID=America/New_York:20260512T183000
DTSTAMP:20260420T194826
CREATED:20260206T175655Z
LAST-MODIFIED:20260206T175656Z
UID:10013869-1778605200-1778610600@test.acawso.org
SUMMARY:Charter Ad Hoc Committee
DESCRIPTION:Please see our Committee homepage for more information \nThis Study Group meets weekly on Tuesdays at 5:00 pm Eastern. \nMeeting ID: 993 7036 0615\nPasscode: 182011 \nIf you have questions\, please email us at abcstudy@acawso.org.
URL:https://test.acawso.org/calendar/abc-study-4-2-2-2/2026-05-12/
CATEGORIES:committees
END:VEVENT
BEGIN:VEVENT
DTSTART;TZID=America/New_York:20260514T160000
DTEND;TZID=America/New_York:20260514T173000
DTSTAMP:20260420T194826
CREATED:20260306T145257Z
LAST-MODIFIED:20260306T145429Z
UID:10018623-1778774400-1778779800@test.acawso.org
SUMMARY:Finance Committee
DESCRIPTION:The finance committee meets Thursdays from 4:00 pm ET – 5:30pm ET.  We are looking for members with business\, finance\, or bookkeeping experience. \n  \nPlease contact treasurer@adultchildren.org or finance@acawso.org if you are interested in visiting or joining the finance committee.
URL:https://test.acawso.org/calendar/finance-committee-3/2026-05-14/
CATEGORIES:committees
END:VEVENT
BEGIN:VEVENT
DTSTART;TZID=America/New_York:20260514T180000
DTEND;TZID=America/New_York:20260514T193000
DTSTAMP:20260420T194826
CREATED:20260305T230717Z
LAST-MODIFIED:20260305T230717Z
UID:10016986-1778781600-1778787000@test.acawso.org
SUMMARY:Ballot Prep Committee
DESCRIPTION:All are welcome. \nFor more information\, contact the committee at bpc@adultchildren.org \nZoom 2 ACAWSO is inviting you to a scheduled Zoom meeting. \nMeeting ID: 815 3118 9155\nPasscode: 90755
URL:https://test.acawso.org/calendar/ballot-prep-committee-10-3-2/2026-05-14/
CATEGORIES:committees
END:VEVENT
BEGIN:VEVENT
DTSTART;TZID=America/New_York:20260516T103000
DTEND;TZID=America/New_York:20260516T120000
DTSTAMP:20260420T194826
CREATED:20260117T154318Z
LAST-MODIFIED:20260119T114552Z
UID:10017356-1778927400-1778932800@test.acawso.org
SUMMARY:ABC Sustainability Study Sub-Committee
DESCRIPTION:NOTE:  In January we are meeting on the 18th instead of the 17th. \nWe usually meet on the 1st & 3rd Saturday of each month from 10:30AM to Noon EDT. We recommend that you check the WSO Committee Calendar for any changes to this schedule. \nZoom URL: https://zoom.us/j/91045736882  \nMeeting ID: 910 4573 6882 \nPasscode: 992748
URL:https://test.acawso.org/calendar/abc-sustainability-study-sub-committee-6-3/2026-05-16/
CATEGORIES:committees
END:VEVENT
BEGIN:VEVENT
DTSTART;TZID=America/New_York:20260516T123000
DTEND;TZID=America/New_York:20260516T140000
DTSTAMP:20260420T194826
CREATED:20250426T032033Z
LAST-MODIFIED:20250827T230724Z
UID:10017600-1778934600-1778940000@test.acawso.org
SUMMARY:ABC/QDM Committee
DESCRIPTION:The ABC/AWC committee meets first and third Saturday from 12:30 to 2 pm EDT \nJoin Zoom Meeting\nhttps://us02web.zoom.us/j/87582913615?pwd=dWpPNVJPcVNiVjJxbGgzbFVwY05EZz09 \nMeeting ID: 875 8291 3615\nPasscode: ABC2022 \nContact abc@adultchildren.org for more details. \n 
URL:https://test.acawso.org/calendar/abc-awc-committee-4-2-3/2026-05-16/
CATEGORIES:committees
END:VEVENT
END:VCALENDAR