BEGIN:VCALENDAR
VERSION:2.0
PRODID:-//ACA WSO - ECPv6.15.20//NONSGML v1.0//EN
CALSCALE:GREGORIAN
METHOD:PUBLISH
X-ORIGINAL-URL:https://test.acawso.org
X-WR-CALDESC:Events for ACA WSO
REFRESH-INTERVAL;VALUE=DURATION:PT1H
X-Robots-Tag:noindex
X-PUBLISHED-TTL:PT1H
BEGIN:VTIMEZONE
TZID:America/New_York
BEGIN:DAYLIGHT
TZOFFSETFROM:-0500
TZOFFSETTO:-0400
TZNAME:EDT
DTSTART:20250309T070000
END:DAYLIGHT
BEGIN:STANDARD
TZOFFSETFROM:-0400
TZOFFSETTO:-0500
TZNAME:EST
DTSTART:20251102T060000
END:STANDARD
BEGIN:DAYLIGHT
TZOFFSETFROM:-0500
TZOFFSETTO:-0400
TZNAME:EDT
DTSTART:20260308T070000
END:DAYLIGHT
BEGIN:STANDARD
TZOFFSETFROM:-0400
TZOFFSETTO:-0500
TZNAME:EST
DTSTART:20261101T060000
END:STANDARD
BEGIN:DAYLIGHT
TZOFFSETFROM:-0500
TZOFFSETTO:-0400
TZNAME:EDT
DTSTART:20270314T070000
END:DAYLIGHT
BEGIN:STANDARD
TZOFFSETFROM:-0400
TZOFFSETTO:-0500
TZNAME:EST
DTSTART:20271107T060000
END:STANDARD
END:VTIMEZONE
BEGIN:VEVENT
DTSTART;TZID=America/New_York:20260415T130000
DTEND;TZID=America/New_York:20260415T140000
DTSTAMP:20260421T065030
CREATED:20251217T165807Z
LAST-MODIFIED:20251217T165808Z
UID:10012620-1776258000-1776261600@test.acawso.org
SUMMARY:Translations Subcommittee
DESCRIPTION:Translation Subcommittee meets every 3rd Wednesday of the month at \n1 pm ET New York\, USA\n12 pm CT Mexico City\, Mexico\n10 am PT Los Angeles\, USA\n6 pm GMT London\, UK\n7 pm CET Madrid\, Spain\n9 pm MK Moscow\, Russia\n11:30pm IST New Delhi\, India\n3 am JT Tokyo\, Japan\n5 am AET Sydney\, AUS \n  \nMeeting ID: 879 0590 2057\nPasscode: 969814 \nAll are welcome!
URL:https://test.acawso.org/calendar/translations-subcommittee-2-3/2026-04-15/
CATEGORIES:committees
END:VEVENT
BEGIN:VEVENT
DTSTART;TZID=America/New_York:20260415T160000
DTEND;TZID=America/New_York:20260415T173000
DTSTAMP:20260421T065030
CREATED:20260407T103035Z
LAST-MODIFIED:20260409T172029Z
UID:10019357-1776268800-1776274200@test.acawso.org
SUMMARY:Concepts Study
DESCRIPTION:This ad hoc committee was created by the 2022 ABC. \nAll ACA’s are welcome \nZoom information: \nMeeting ID: 955 2372 8529Passcode: 26623787
URL:https://test.acawso.org/calendar/concepts-study-2-2/2026-04-15/
CATEGORIES:committees
END:VEVENT
END:VCALENDAR