BEGIN:VCALENDAR
VERSION:2.0
PRODID:-//ACA WSO - ECPv6.15.20//NONSGML v1.0//EN
CALSCALE:GREGORIAN
METHOD:PUBLISH
X-WR-CALNAME:ACA WSO
X-ORIGINAL-URL:https://test.acawso.org
X-WR-CALDESC:Events for ACA WSO
REFRESH-INTERVAL;VALUE=DURATION:PT1H
X-Robots-Tag:noindex
X-PUBLISHED-TTL:PT1H
BEGIN:VTIMEZONE
TZID:America/New_York
BEGIN:DAYLIGHT
TZOFFSETFROM:-0500
TZOFFSETTO:-0400
TZNAME:EDT
DTSTART:20250309T070000
END:DAYLIGHT
BEGIN:STANDARD
TZOFFSETFROM:-0400
TZOFFSETTO:-0500
TZNAME:EST
DTSTART:20251102T060000
END:STANDARD
BEGIN:DAYLIGHT
TZOFFSETFROM:-0500
TZOFFSETTO:-0400
TZNAME:EDT
DTSTART:20260308T070000
END:DAYLIGHT
BEGIN:STANDARD
TZOFFSETFROM:-0400
TZOFFSETTO:-0500
TZNAME:EST
DTSTART:20261101T060000
END:STANDARD
BEGIN:DAYLIGHT
TZOFFSETFROM:-0500
TZOFFSETTO:-0400
TZNAME:EDT
DTSTART:20270314T070000
END:DAYLIGHT
BEGIN:STANDARD
TZOFFSETFROM:-0400
TZOFFSETTO:-0500
TZNAME:EST
DTSTART:20271107T060000
END:STANDARD
END:VTIMEZONE
BEGIN:VEVENT
DTSTART;TZID=America/New_York:20260110T100000
DTEND;TZID=America/New_York:20260110T113000
DTSTAMP:20260424T171348
CREATED:20260110T151302Z
LAST-MODIFIED:20260110T151303Z
UID:10018096-1768039200-1768044600@test.acawso.org
SUMMARY:Meet the Trustees
DESCRIPTION:Join us on Saturday\, 10th January 2026 at 10:00am or 8pm ET to meet and talk to the Trustees. \nZoom Info: https://zoom.us/j/91694985625 Meeting ID: 916 9498 5625Passcode: 112358 \nSponsored by the Board of Trustees.
URL:https://test.acawso.org/calendar/meet-the-trustees-2/
CATEGORIES:committees,events
END:VEVENT
BEGIN:VEVENT
DTSTART;TZID=America/New_York:20260110T123000
DTEND;TZID=America/New_York:20260110T133000
DTSTAMP:20260424T171348
CREATED:20251030T042728Z
LAST-MODIFIED:20251030T204943Z
UID:10017676-1768048200-1768051800@test.acawso.org
SUMMARY:Floor Motion Task Force
DESCRIPTION:Meeting 2nd and 4th Saturday of the month\nFirst meeting November 8th\n12:30 pm-1:30 pm est\nMeeting ID: 875 8291 3615\nPasscode: ABC2022
URL:https://test.acawso.org/calendar/floor-motion-task-force/2026-01-10/
CATEGORIES:committees
END:VEVENT
BEGIN:VEVENT
DTSTART;TZID=America/New_York:20260110T200000
DTEND;TZID=America/New_York:20260110T213000
DTSTAMP:20260424T171348
CREATED:20241109T132041Z
LAST-MODIFIED:20241109T132042Z
UID:10012531-1768075200-1768080600@test.acawso.org
SUMMARY:Big Red Book Working Group
DESCRIPTION:Zoom 2 ACAWSO is inviting you to a scheduled Zoom meeting.\nTopic: BRB Revision Working Group- Global East\nTime: Every month on the second and fourth Saturday at 8 PM Eastern US \nJoin Zoom Meeting\nhttps://zoom.us/j/92423141348\nMeeting ID: 924 2314 1348\nPasscode: 112358 \nPlease download and import the following iCalendar (.ics) files to your calendar system.\nMonthly: https://zoom.us/meeting/tJYpdeqpqjopHtwsBMOyTO0tAY5XaN4QYv7-/ics?icsToken=98tyKuCqqjkpG9CUsx2PRowQBojob-vwiH5egrdKjz3ILDlnTVPiF9sXCrNRROnp
URL:https://test.acawso.org/calendar/brb-revision-working-group-global-east-3-2/2026-01-10/
CATEGORIES:committees
END:VEVENT
BEGIN:VEVENT
DTSTART;TZID=America/New_York:20260110T200000
DTEND;TZID=America/New_York:20260110T213000
DTSTAMP:20260424T171348
CREATED:20251218T121534Z
LAST-MODIFIED:20260110T153655Z
UID:10018111-1768075200-1768080600@test.acawso.org
SUMMARY:Meet the Trustees
DESCRIPTION:Join us on Saturday\, 10th January 2026 at 10:00am or 8pm ET to meet and talk to the Trustees. \nZoom Info: https://zoom.us/j/91694985625 \nMeeting ID: 916 9498 5625Passcode: 112358 \nSponsored by the Board of Trustees.
URL:https://test.acawso.org/calendar/meet-the-trustees/
CATEGORIES:committees,events
END:VEVENT
END:VCALENDAR