BEGIN:VCALENDAR
VERSION:2.0
PRODID:-//ACA WSO - ECPv6.15.20//NONSGML v1.0//EN
CALSCALE:GREGORIAN
METHOD:PUBLISH
X-ORIGINAL-URL:https://test.acawso.org
X-WR-CALDESC:Events for ACA WSO
REFRESH-INTERVAL;VALUE=DURATION:PT1H
X-Robots-Tag:noindex
X-PUBLISHED-TTL:PT1H
BEGIN:VTIMEZONE
TZID:America/New_York
BEGIN:DAYLIGHT
TZOFFSETFROM:-0500
TZOFFSETTO:-0400
TZNAME:EDT
DTSTART:20240310T070000
END:DAYLIGHT
BEGIN:STANDARD
TZOFFSETFROM:-0400
TZOFFSETTO:-0500
TZNAME:EST
DTSTART:20241103T060000
END:STANDARD
BEGIN:DAYLIGHT
TZOFFSETFROM:-0500
TZOFFSETTO:-0400
TZNAME:EDT
DTSTART:20250309T070000
END:DAYLIGHT
BEGIN:STANDARD
TZOFFSETFROM:-0400
TZOFFSETTO:-0500
TZNAME:EST
DTSTART:20251102T060000
END:STANDARD
BEGIN:DAYLIGHT
TZOFFSETFROM:-0500
TZOFFSETTO:-0400
TZNAME:EDT
DTSTART:20260308T070000
END:DAYLIGHT
BEGIN:STANDARD
TZOFFSETFROM:-0400
TZOFFSETTO:-0500
TZNAME:EST
DTSTART:20261101T060000
END:STANDARD
END:VTIMEZONE
BEGIN:VEVENT
DTSTART;TZID=America/New_York:20251108T103000
DTEND;TZID=America/New_York:20251108T120000
DTSTAMP:20260425T145348
CREATED:20251031T215409Z
LAST-MODIFIED:20260228T184519Z
UID:10017685-1762597800-1762603200@test.acawso.org
SUMMARY:ABC Sustainability Study Sub-Committee
DESCRIPTION:We generally meet on the 1st & 3rd Saturday of each month from 10:30AM to Noon EDT. \nAlways check this WSO Committee Calendar for any changes to our schedule. \nWe meet on Zoom 2: \nZoom URL: https://zoom.us/j/91045736882  \nMeeting ID: 910 4573 6882 \nPasscode: 992748
URL:https://test.acawso.org/calendar/abc-sustainability-study-sub-committee-7-2/2025-11-08/
CATEGORIES:committees
END:VEVENT
BEGIN:VEVENT
DTSTART;TZID=America/New_York:20251108T120000
DTEND;TZID=America/New_York:20251108T133000
DTSTAMP:20260425T145348
CREATED:20251025T105953Z
LAST-MODIFIED:20251027T214813Z
UID:10017670-1762603200-1762608600@test.acawso.org
SUMMARY:Open House for Literature\, Publishing & Translations
DESCRIPTION:**Join the Literature\, Publishing & Translations Open House!** \nTwo sessions are scheduled to accommodate our global ACA fellowship. \nEvery Adult Child deserves to hear the ACA message of healing and know they are not alone. Literature is how we carry this message to those who still suffer\, and your participation is essential. \nPlease join our Open House to hear from fellow members giving service and to discover meaningful ways you can help co-create ACA’s evolving literature. You will learn about opportunities to contribute by: \n* Translating ACA literature for members across cultures and languages.\n* Evaluating all literature and preparing it for Conference approval.\n* Developing new literature to expand our message of recovery. \nYou will also learn about the International Literature Fund\, which provides grants to registered ACA groups for translation expenses and literature distribution outside North America. \nWe cannot do this without YOU! \nTwo sessions same presentation and Zoom ID: \nSaturday\, 8 Nov 2025\n9am Pacific/12 noon Eastern/5pm GMT/10:30pm New Delhi \nAND \nSaturday\, 8 Nov 2025\n5pm Pacific/8pm Eastern\nSunday\, 9 Nov 2025\n1am GMT/8am HKT/2pm New Zealand \nZoom ID: 615 273 4244\nPasscode: 13579 \nJoin Zoom Meeting\nhttps://zoom.us/j/6152734244?omn=99984931338 \nSponsored by Literature Assessment
URL:https://test.acawso.org/calendar/open-house-for-literature-publishing-translations/2025-11-08/1/
CATEGORIES:committees,events
END:VEVENT
BEGIN:VEVENT
DTSTART;TZID=America/New_York:20251108T123000
DTEND;TZID=America/New_York:20251108T133000
DTSTAMP:20260425T145348
CREATED:20251030T042728Z
LAST-MODIFIED:20251030T204943Z
UID:10017674-1762605000-1762608600@test.acawso.org
SUMMARY:Floor Motion Task Force
DESCRIPTION:Meeting 2nd and 4th Saturday of the month\nFirst meeting November 8th\n12:30 pm-1:30 pm est\nMeeting ID: 875 8291 3615\nPasscode: ABC2022
URL:https://test.acawso.org/calendar/floor-motion-task-force/2025-11-08/
CATEGORIES:committees
END:VEVENT
BEGIN:VEVENT
DTSTART;TZID=America/New_York:20251108T200000
DTEND;TZID=America/New_York:20251108T213000
DTSTAMP:20260425T145348
CREATED:20241109T132041Z
LAST-MODIFIED:20241109T132042Z
UID:10012529-1762632000-1762637400@test.acawso.org
SUMMARY:Big Red Book Working Group
DESCRIPTION:Zoom 2 ACAWSO is inviting you to a scheduled Zoom meeting.\nTopic: BRB Revision Working Group- Global East\nTime: Every month on the second and fourth Saturday at 8 PM Eastern US \nJoin Zoom Meeting\nhttps://zoom.us/j/92423141348\nMeeting ID: 924 2314 1348\nPasscode: 112358 \nPlease download and import the following iCalendar (.ics) files to your calendar system.\nMonthly: https://zoom.us/meeting/tJYpdeqpqjopHtwsBMOyTO0tAY5XaN4QYv7-/ics?icsToken=98tyKuCqqjkpG9CUsx2PRowQBojob-vwiH5egrdKjz3ILDlnTVPiF9sXCrNRROnp
URL:https://test.acawso.org/calendar/brb-revision-working-group-global-east-3-2/2025-11-08/
CATEGORIES:committees
END:VEVENT
BEGIN:VEVENT
DTSTART;TZID=America/New_York:20251108T200000
DTEND;TZID=America/New_York:20251108T213000
DTSTAMP:20260425T145348
CREATED:20251025T105953Z
LAST-MODIFIED:20251027T214813Z
UID:10017671-1762632000-1762637400@test.acawso.org
SUMMARY:Open House for Literature\, Publishing & Translations
DESCRIPTION:**Join the Literature\, Publishing & Translations Open House!** \nTwo sessions are scheduled to accommodate our global ACA fellowship. \nEvery Adult Child deserves to hear the ACA message of healing and know they are not alone. Literature is how we carry this message to those who still suffer\, and your participation is essential. \nPlease join our Open House to hear from fellow members giving service and to discover meaningful ways you can help co-create ACA’s evolving literature. You will learn about opportunities to contribute by: \n* Translating ACA literature for members across cultures and languages.\n* Evaluating all literature and preparing it for Conference approval.\n* Developing new literature to expand our message of recovery. \nYou will also learn about the International Literature Fund\, which provides grants to registered ACA groups for translation expenses and literature distribution outside North America. \nWe cannot do this without YOU! \nTwo sessions same presentation and Zoom ID: \nSaturday\, 8 Nov 2025\n9am Pacific/12 noon Eastern/5pm GMT/10:30pm New Delhi \nAND \nSaturday\, 8 Nov 2025\n5pm Pacific/8pm Eastern\nSunday\, 9 Nov 2025\n1am GMT/8am HKT/2pm New Zealand \nZoom ID: 615 273 4244\nPasscode: 13579 \nJoin Zoom Meeting\nhttps://zoom.us/j/6152734244?omn=99984931338 \nSponsored by Literature Assessment
URL:https://test.acawso.org/calendar/open-house-for-literature-publishing-translations/2025-11-08/2/
CATEGORIES:committees,events
END:VEVENT
END:VCALENDAR