BEGIN:VCALENDAR
VERSION:2.0
PRODID:-//ACA WSO - ECPv6.15.20//NONSGML v1.0//EN
CALSCALE:GREGORIAN
METHOD:PUBLISH
X-WR-CALNAME:ACA WSO
X-ORIGINAL-URL:https://test.acawso.org
X-WR-CALDESC:Events for ACA WSO
REFRESH-INTERVAL;VALUE=DURATION:PT1H
X-Robots-Tag:noindex
X-PUBLISHED-TTL:PT1H
BEGIN:VTIMEZONE
TZID:America/New_York
BEGIN:DAYLIGHT
TZOFFSETFROM:-0500
TZOFFSETTO:-0400
TZNAME:EDT
DTSTART:20240310T070000
END:DAYLIGHT
BEGIN:STANDARD
TZOFFSETFROM:-0400
TZOFFSETTO:-0500
TZNAME:EST
DTSTART:20241103T060000
END:STANDARD
BEGIN:DAYLIGHT
TZOFFSETFROM:-0500
TZOFFSETTO:-0400
TZNAME:EDT
DTSTART:20250309T070000
END:DAYLIGHT
BEGIN:STANDARD
TZOFFSETFROM:-0400
TZOFFSETTO:-0500
TZNAME:EST
DTSTART:20251102T060000
END:STANDARD
BEGIN:DAYLIGHT
TZOFFSETFROM:-0500
TZOFFSETTO:-0400
TZNAME:EDT
DTSTART:20260308T070000
END:DAYLIGHT
BEGIN:STANDARD
TZOFFSETFROM:-0400
TZOFFSETTO:-0500
TZNAME:EST
DTSTART:20261101T060000
END:STANDARD
END:VTIMEZONE
BEGIN:VEVENT
DTSTART;TZID=America/New_York:20251106T160000
DTEND;TZID=America/New_York:20251109T130000
DTSTAMP:20260421T082604
CREATED:20250823T104202Z
LAST-MODIFIED:20250823T104202Z
UID:10017409-1762444800-1762693200@test.acawso.org
SUMMARY:Fall Retreat
DESCRIPTION:Come join us for our 41st bi-annual Pacific Northwest ACA Retreat! \nThis year’s thems is: Going on a Treasure Hunt! Finding yourself through the ACA 12 Steps. single day or 2-4 night options available. \nWe welcome you to participant as much or as little as you choose. Our numbers have steadily been growing as we come out of the pandemic. Please consider joinging us in this beautiful facility\, surrounded by fellow travellers and nature. \nSponsored by WEB0912
URL:https://test.acawso.org/calendar/fall-retreat/
CATEGORIES:events
END:VEVENT
BEGIN:VEVENT
DTSTART;TZID=America/New_York:20251030T190000
DTEND;TZID=America/New_York:20251030T210000
DTSTAMP:20260421T082604
CREATED:20250524T042051Z
LAST-MODIFIED:20250717T183202Z
UID:10016724-1761850800-1761858000@test.acawso.org
SUMMARY:Ready Set GO!! Evening Series
DESCRIPTION:Ready Set GO!! is a 6-week introductory program of the ACA program\, the ACA 12 Steps and an introductory Inner Child Workshop “Awakening My Little One”. \nStarts October 30th and runs through December 11th. (No session on November 27th) Each session lasts 2 hours. \nClick HERE to download the flyer and view all of the information you will need for Ready Set GO!! (RSG) \nNote that our Tuesday Morning series starts October 28th and runs through December 9th. (No session on November 25th)
URL:https://test.acawso.org/calendar/ready-set-go-evening-series-20/
CATEGORIES:events
END:VEVENT
BEGIN:VEVENT
DTSTART;TZID=America/New_York:20251028T100000
DTEND;TZID=America/New_York:20251028T120000
DTSTAMP:20260421T082604
CREATED:20250524T040507Z
LAST-MODIFIED:20250717T183120Z
UID:10016718-1761645600-1761652800@test.acawso.org
SUMMARY:Ready Set GO!! Morning Series
DESCRIPTION:Ready Set GO!! is a 6-week introductory program of the ACA program\, the ACA 12 Steps and an introductory Inner Child Workshop “Awakening My Little One”. \nStarts October 28th and runs through December 9th. (No session on November 25th) Each session lasts 2 hours. \nClick HERE to download the flyer and view all of the information you will need for Ready Set GO!! (RSG) \nNote that our Thursday Evening series starts October 30th and runs through December 11th. (No session on November 27th)
URL:https://test.acawso.org/calendar/ready-set-go-morning-series-24/
CATEGORIES:events
END:VEVENT
BEGIN:VEVENT
DTSTART;TZID=America/New_York:20251025T130000
DTEND;TZID=America/New_York:20251025T170000
DTSTAMP:20260421T082604
CREATED:20250924T104344Z
LAST-MODIFIED:20250924T104344Z
UID:10017654-1761397200-1761411600@test.acawso.org
SUMMARY:ACoA Recovery Day
DESCRIPTION:Recovery Day is a “mini-retreat” for ACoAs in the DC area to deepen their connection to the program and their connections with one another. \nWe will have workshops and panel discussions\, and optional fellowship after at a nearby restaurant. \nSponsored by DC0022
URL:https://test.acawso.org/calendar/acoa-recovery-day/
CATEGORIES:events
END:VEVENT
BEGIN:VEVENT
DTSTART;TZID=America/New_York:20251024T153000
DTEND;TZID=America/New_York:20251026T120000
DTSTAMP:20260421T082604
CREATED:20250527T131756Z
LAST-MODIFIED:20250527T131756Z
UID:10016732-1761319800-1761480000@test.acawso.org
SUMMARY:Actions Coming From Love ACA Retreat
DESCRIPTION:Announcing our 2025 ACA Actions Coming From Love Retreat! \nOctober 24th-26th\, 2025 \nDaylesford Abbey\, Paoli\, PA\nDaylesford Abbey\, 220 S Valley Rd\, Paoli\, PA 19301 \nWe are looking forward to holding our retreat again at the Daylesford Abbey\, about an hour outside of Philadelphia.\nThis will be our 8th year holding our ACA retreat. \nOur retreat is centered on the collective wisdom of ACA recovery. Our retreat is focused on the definition of ACA: \n“This is a spiritual program based on actions coming from love…” \nOur retreat was created to help give a boost to everyone’s recovery\, whether new to the program or whether you’ve been going to the rooms for a while. \nACA is such a unique recovery program.\nWe read the Laundry List.\nWe read the Problem.\nWe read the Solution.\nWe read the Steps. \nWe read things like “detaching with love” and “actions coming from love\,” but what do these things mean? How do we go about putting these things into our lives? \nDuring our retreat we will meet and work on experiential exercises to help us have deeper understandings of how to love ourselves in ways that have perhaps baffled us. \nWe will have an art room\, a reading room and will have the Abbey campus for nature walks. There will be time to meet with other attendees and make new friends. \nEach person will have a private bedroom. There are some rooms which have two beds if you wish to share a room\, however the cost will be the same per person. There are plenty of bathrooms and shower rooms. Meals will be provided for everyone. \nIf you wish to be a commuter\, please let us know on the registration form. \nPlease find our retreat flyer attached to this email. And please help us promote our retreat by forwarding our flyer to your meetings and other Fellow Travelers. \nAny questions\, please feel free to email us at: ActionsComingFromLove@Gmail.com \nBe kind and gentle with yourself… \nThe 2025 Actions From Love Retreat committee \nSponosred by PA 123
URL:https://test.acawso.org/calendar/actions-coming-from-love-aca-retreat-2/
CATEGORIES:events
END:VEVENT
BEGIN:VEVENT
DTSTART;TZID=America/New_York:20251018T140000
DTEND;TZID=America/New_York:20251018T173000
DTSTAMP:20260421T082604
CREATED:20251001T102512Z
LAST-MODIFIED:20251001T102512Z
UID:10017656-1760796000-1760808600@test.acawso.org
SUMMARY:ACA meeting and fellowship picnic
DESCRIPTION:First annual SoCal ACA meeting and picnic in Griffith Park\nBring a chair\, bring a lunch\, bring fellowship. \nSponsored by IG#630
URL:https://test.acawso.org/calendar/aca-meeting-and-fellowship-picnic/
CATEGORIES:events
END:VEVENT
BEGIN:VEVENT
DTSTART;TZID=America/New_York:20251018T100000
DTEND;TZID=America/New_York:20251018T170000
DTSTAMP:20260421T082604
CREATED:20250929T123913Z
LAST-MODIFIED:20250929T123913Z
UID:10017655-1760781600-1760806800@test.acawso.org
SUMMARY:Action Coming from Love - Annual Conference & Workshop
DESCRIPTION:The Annual Intergroup Conference will be held on Saturday\, October 18\, 2025 from 9:00 am to 4:00pm. \nThis is a hybrid event. We will meet in-person at the Lutheran Church of Holy Spirit\, 30 Riverwoods Rd\, Lincolnshire\, IL 60069 as well as virtually. \nWe will have speakers\, breakout room exercises\, and group sharing surrounding the workshop theme “Action coming from love”\, on developing Emotional Integrity\, Trust\, and Self-Love. The goal is to provide you with practical skills on developing these attitudes that you can take home with you after the workshop ends. \nThere will be no fee for participating in this event\, and Lunch will be provided for in-person participants. 7th Tradition contributions are welcome. \nFor details and to register\, please go to\nhttps://westgreatlakesaca.org/2025-west-great-lakes-aca-annual-conference/ \nSponsored by IG#70
URL:https://test.acawso.org/calendar/action-coming-from-love-annual-conference-workshop/
CATEGORIES:events
ORGANIZER;CN="West Great Lakes ACA Intergroup IG#70":MAILTO:Mattw4aca@gmail.com
END:VEVENT
BEGIN:VEVENT
DTSTART;TZID=America/New_York:20251016T170000
DTEND;TZID=America/New_York:20251016T200000
DTSTAMP:20260421T082604
CREATED:20250909T170229Z
LAST-MODIFIED:20250909T170229Z
UID:10017646-1760634000-1760644800@test.acawso.org
SUMMARY:Anniversary / Birthday event
DESCRIPTION:Binghamton New York ACA face to face meeting is turning 6 years old! \nSponsored by NY0220
URL:https://test.acawso.org/calendar/anniversary-birthday-event/
CATEGORIES:events
END:VEVENT
BEGIN:VEVENT
DTSTART;TZID=America/New_York:20251010T160000
DTEND;TZID=America/New_York:20251012T120000
DTSTAMP:20260421T082604
CREATED:20250730T123217Z
LAST-MODIFIED:20250730T123217Z
UID:10017013-1760112000-1760270400@test.acawso.org
SUMMARY:Weekend Event 2night stay-5meals served
DESCRIPTION:This is a weekend event beginning @ 4:00 pm on Friday October 10th till Sunday October 12th Noontime.\n2 Night stay & 5 meals served. Cost is $250.00 There will be workshops\, meetings. \nSponsored by IG#044
URL:https://test.acawso.org/calendar/weekend-event-2night-stay-5meals-served/
CATEGORIES:events
END:VEVENT
BEGIN:VEVENT
DTSTART;TZID=America/New_York:20251010T150000
DTEND;TZID=America/New_York:20251012T150000
DTSTAMP:20260421T082604
CREATED:20250804T112000Z
LAST-MODIFIED:20250805T130354Z
UID:10017263-1760108400-1760281200@test.acawso.org
SUMMARY:ACA Fall Mountain Retreat
DESCRIPTION:Come join us for a weekend of recovery\, friendship\, fellowship\, 12 Step Meetings\, Workshops\, Arts & Crafts\, Talent no Talent Show and physical activities amid the beautiful pines in the San Bernardino National Forest! \nRegister at: https://sites.google.com/view/aca-fall-mountain-retreat/home \nSponsored by IG#625
URL:https://test.acawso.org/calendar/aca-fall-mountain-retreat/
CATEGORIES:events
END:VEVENT
BEGIN:VEVENT
DTSTART;TZID=America/New_York:20251010T150000
DTEND;TZID=America/New_York:20251012T120000
DTSTAMP:20260421T082604
CREATED:20250527T104141Z
LAST-MODIFIED:20250527T104141Z
UID:10016731-1760108400-1760270400@test.acawso.org
SUMMARY:ACA Oregon Retreat 2025
DESCRIPTION:Join us for the 2025 ACA Oregon Retreat on the weekend of October 10 – 12\, 2025 at Canby Grove Conference Center. \nWe’ll be hosting Workshops\, Fellowship\, Variety Show\, Affirmation Circle\, Games\, Music\, Crafts and more! \nFind more information on: https://acaoregon.org/aca-retreat/ \nSponsored by IG#589
URL:https://test.acawso.org/calendar/aca-oregon-retreat-2025/
CATEGORIES:events
END:VEVENT
BEGIN:VEVENT
DTSTART;TZID=America/New_York:20251004T210000
DTEND;TZID=America/New_York:20251004T223000
DTSTAMP:20260421T082604
CREATED:20250916T193244Z
LAST-MODIFIED:20250919T205454Z
UID:10017653-1759611600-1759617000@test.acawso.org
SUMMARY:Fellowship Group Voting Town Hall/Forum
DESCRIPTION:Fellowship Group Voting begins on October 1st for the proposed Name Change. \nTown Halls/Forums have been scheduled\, as shown below\, and there are several reasons why we recommend that you attend one or more of them. You will: \n\nHear an explanation of the Fellowship Group Voting process\nHave the opportunity to get support for conducting an effective group conscience\nLearn about the WSO voting system that is being used for this Fellowship Group Vote\n\nThere will be six 90 minute Town Halls held on three days at two different times so that groups in different time zones will have equal access: \nOctober 4\, 2025 at 11:00 am ET\nOctober 4\, 2025 at  9:00 pm ET\nDecember 6\, 2025 at 11:00 am ET\nDecember 6\, 20252 at 9:00 pm ET\nJanuary 17\, 2026 at 11:00 am ET\nJanuary 17\, 2026 at 9:00 pm ET \n  \nThe Zoom link for all of the Town Halls is:\nhttps://zoom.us/j/94640487526\nMeeting ID: 946 4048 7526\nPasscode: 607305
URL:https://test.acawso.org/calendar/fellowship-group-voting-town-hall-forum/2025-10-04/2/
CATEGORIES:events
END:VEVENT
BEGIN:VEVENT
DTSTART;TZID=America/New_York:20251004T110000
DTEND;TZID=America/New_York:20251004T123000
DTSTAMP:20260421T082604
CREATED:20250916T193244Z
LAST-MODIFIED:20250919T205454Z
UID:10017652-1759575600-1759581000@test.acawso.org
SUMMARY:Fellowship Group Voting Town Hall/Forum
DESCRIPTION:Fellowship Group Voting begins on October 1st for the proposed Name Change. \nTown Halls/Forums have been scheduled\, as shown below\, and there are several reasons why we recommend that you attend one or more of them. You will: \n\nHear an explanation of the Fellowship Group Voting process\nHave the opportunity to get support for conducting an effective group conscience\nLearn about the WSO voting system that is being used for this Fellowship Group Vote\n\nThere will be six 90 minute Town Halls held on three days at two different times so that groups in different time zones will have equal access: \nOctober 4\, 2025 at 11:00 am ET\nOctober 4\, 2025 at  9:00 pm ET\nDecember 6\, 2025 at 11:00 am ET\nDecember 6\, 20252 at 9:00 pm ET\nJanuary 17\, 2026 at 11:00 am ET\nJanuary 17\, 2026 at 9:00 pm ET \n  \nThe Zoom link for all of the Town Halls is:\nhttps://zoom.us/j/94640487526\nMeeting ID: 946 4048 7526\nPasscode: 607305
URL:https://test.acawso.org/calendar/fellowship-group-voting-town-hall-forum/2025-10-04/1/
CATEGORIES:events
END:VEVENT
BEGIN:VEVENT
DTSTART;TZID=America/New_York:20250921T100000
DTEND;TZID=America/New_York:20250921T130000
DTSTAMP:20260421T082604
CREATED:20250901T191148Z
LAST-MODIFIED:20250901T191405Z
UID:10017645-1758448800-1758459600@test.acawso.org
SUMMARY:The Complete Picture
DESCRIPTION:Dear ACA Fellow Traveler\, \nThis workshop marks the turning of the season. Autumn calls us inward—to release what no longer serves us\, to gather wisdom\, and to let our true colors shine. We invite you and your Inner Family to join us for “The Complete Picture.” \nTogether\, we will explore the Drama Triangle\, nurture our Inner Child(ren)\, and deepen connection through ACA readings\, creative expression\, and meditation. Like leaves carried on the autumn wind\, we will let go\, share our stories\, and open space for healing and renewal. \nPlease bring items that comfort and inspire—a childhood photo\, art supplies\, a keepsake\, or a favorite autumn scent. These small offerings will support our creative flow and the unfolding of our journey.\nIn the spirit of harvest and transformation\, we welcome you into this circle of warmth\, courage\, and hope. \nWith love and anticipation\,\nFearless Souls – Adult Children in Recovery – #IG754 \nTime: September 21\, 2025\, @ 4pm Brussels\, 3pm GMT/UK\, 10am ET\, 7am PT\, 8am MT\nDuration: +/- 3 hours\nRegistration link: https://zoom.us/meeting/register/bOSM0wVdRCSd8isyhZ5z3Q\nZoom ID: 922 1575 0139 Passcode: LOVE \nAll Welcome  500 participants \nSponsored by IG#754
URL:https://test.acawso.org/calendar/the-complete-picture-2/
CATEGORIES:events
END:VEVENT
BEGIN:VEVENT
DTSTART;TZID=America/New_York:20250913T140000
DTEND;TZID=America/New_York:20250913T160000
DTSTAMP:20260421T082604
CREATED:20250520T152440Z
LAST-MODIFIED:20250520T152440Z
UID:10016644-1757772000-1757779200@test.acawso.org
SUMMARY:Board Meeting with the Fellowship
DESCRIPTION:All ACA members are invited to attend these meetings. \nThese meetings are held quarterly on the second Saturday of the month from 2:00 – 4:00 PM ET. \nThe 2025 Meeting Dates \n\nMarch 8\nJune 14\nSeptember 13\nDecember 13\n\n  \nMeeting ID: 228 809 511 Passcode: 90755 \nor call in via phone at: +1 305 224 1968 (US) or see: Outside US Phone #’s \nThe WSO Secretary provides the agendas for the Board Meetings with the Fellowship and generates the meeting minutes for subsequent review and approval by the WSO Board.
URL:https://test.acawso.org/calendar/board-meeting-with-the-fellowship-2/2025-09-13/
CATEGORIES:committees,events
END:VEVENT
BEGIN:VEVENT
DTSTART;TZID=America/New_York:20250913T090000
DTEND;TZID=America/New_York:20250913T170000
DTSTAMP:20260421T082604
CREATED:20250728T104649Z
LAST-MODIFIED:20250814T211909Z
UID:10017012-1757754000-1757782800@test.acawso.org
SUMMARY:One Day Convention
DESCRIPTION:One Day Mini-Convention hosted by Southeast Florida ACA Intergroup.\nPlease Join in person for a day of Feelings\, Fellowship\, and FUN in West Palm Beach\, Florida. \nWorkshop presenters are local fellow travelers\, joined by guest presenter\, Bonnie M\, chair of the Loving Parent Guidebook writing committee. See attached flyer for more info! \nSponsored by IG#650
URL:https://test.acawso.org/calendar/one-day-convention/
CATEGORIES:events
END:VEVENT
BEGIN:VEVENT
DTSTART;TZID=America/New_York:20250911T190000
DTEND;TZID=America/New_York:20250911T210000
DTSTAMP:20260421T082604
CREATED:20250317T181434Z
LAST-MODIFIED:20250717T183015Z
UID:10016046-1757617200-1757624400@test.acawso.org
SUMMARY:Ready Set Go!! Evening Series
DESCRIPTION:Ready Set GO!! is a 6-week introductory program of the ACA program\, the ACA 12 Steps and an introductory Inner Child Workshop “Awakening My Little One”. \nStarts September 11th and runs through October 16th. Each session lasts 2 hours. \nClick HERE to download the flyer and view all of the information you will need for Ready Set GO!! (RSG) \nNote that our Tuesday Morning series starts September 9th and runs through October 14th.
URL:https://test.acawso.org/calendar/ready-set-go-evening-series-19/
CATEGORIES:events
END:VEVENT
BEGIN:VEVENT
DTSTART;TZID=America/New_York:20250909T100000
DTEND;TZID=America/New_York:20250909T120000
DTSTAMP:20260421T082604
CREATED:20250317T181217Z
LAST-MODIFIED:20250717T182912Z
UID:10016034-1757412000-1757419200@test.acawso.org
SUMMARY:Ready Set GO!!  Morning Series
DESCRIPTION:Ready Set GO!! is a 6-week introductory program of the ACA program\, the ACA 12 Steps and an introductory Inner Child Workshop “Awakening My Little One”. \nStarts Sept 9th and runs through October 14th. Each session lasts 2 hours. \nClick HERE to download the flyer and view all of the information you will need for Ready Set GO!! (RSG) \nNote that our Thursday Evening series starts Sept 11th and runs through October 16th.
URL:https://test.acawso.org/calendar/ready-set-go-morning-series-23/
CATEGORIES:events
END:VEVENT
BEGIN:VEVENT
DTSTART;TZID=America/New_York:20250901T050000
DTEND;TZID=America/New_York:20250902T030000
DTSTAMP:20260421T082604
CREATED:20250818T110205Z
LAST-MODIFIED:20250818T110205Z
UID:10017407-1756702800-1756782000@test.acawso.org
SUMMARY:Labor Day Marathon Meeting
DESCRIPTION:Sponsored by TEL0427 \nSee the flyer for all the details.
URL:https://test.acawso.org/calendar/labor-day-marathon-meeting-2/
CATEGORIES:events
END:VEVENT
BEGIN:VEVENT
DTSTART;TZID=America/New_York:20250830T140000
DTEND;TZID=America/New_York:20250830T160000
DTSTAMP:20260421T082604
CREATED:20250825T212627Z
LAST-MODIFIED:20250825T212627Z
UID:10017410-1756562400-1756569600@test.acawso.org
SUMMARY:ACA Pioneers Speaker Series
DESCRIPTION:Special Speaker Event with Sharon W and Ted K about the early days of the Adult Child recovery movement. \nSponsored by Region 2
URL:https://test.acawso.org/calendar/aca-pioneers-speaker-series/
CATEGORIES:events
END:VEVENT
BEGIN:VEVENT
DTSTART;TZID=America/New_York:20250824T110000
DTEND;TZID=America/New_York:20250824T180000
DTSTAMP:20260421T082604
CREATED:20250602T123952Z
LAST-MODIFIED:20250602T123952Z
UID:10016740-1756033200-1756058400@test.acawso.org
SUMMARY:Promise 7 We learn to Play and have fun in our lives
DESCRIPTION:Come to play at the top of the Chesapeake Bay. The focus is on what stops us from play and what can we learn from play.\nLocation: North Beach Area pavilion #1 Elk Neck State Park\, North East MD\nExit 109A 272 East towards North East Follow this road into Elk Neck State Park\, make a right into the North East Beach area follow to parking lot. Bring a snack or drink to share with the group. 7th Tradition will be collected. contact paacaigevents@gmail.com \nSponsored by MD0085
URL:https://test.acawso.org/calendar/promise-7-we-learn-to-play-and-have-fun-in-our-lives/
CATEGORIES:events
END:VEVENT
BEGIN:VEVENT
DTSTART;TZID=America/New_York:20250814T200000
DTEND;TZID=America/New_York:20250814T210000
DTSTAMP:20260421T082604
CREATED:20250811T103356Z
LAST-MODIFIED:20250811T103356Z
UID:10017324-1755201600-1755205200@test.acawso.org
SUMMARY:AWC Open House
DESCRIPTION:If you feel called to participate in planning the next Annual World Convention (AWC)\, please join the AWC Planning Team.\nWe meet weekly on Tuesdays at 12:00 pm ET and Thursdays at 8 pm ET. \nYou are invited to our next Open House:\nThursday August 14 at 8:00 pm ET \nJoin Zoom meeting:\nhttps://zoom.us/j/95512617178\nMeeting ID: 955 1261 7178\nPasscode: AWC \nFor more information about the AWC Planning Team\, visit https://test.acawso.org/awc-planning-team/\nFor more information about the Annual World Convention and recordings from past Conventions\, visit https://adultchildren.org/awc/ \nSponsored by AWC Planning Team
URL:https://test.acawso.org/calendar/awc-open-house/
CATEGORIES:events
END:VEVENT
BEGIN:VEVENT
DTSTART;TZID=America/New_York:20250802T100000
DTEND;TZID=America/New_York:20250802T123000
DTSTAMP:20260421T082604
CREATED:20250604T104429Z
LAST-MODIFIED:20250604T104429Z
UID:10016742-1754128800-1754137800@test.acawso.org
SUMMARY:Being Your Own Loving Parent: A compassionate return to feelings and needs
DESCRIPTION:This will be an experiential event that helps the participant shift from emotional confusion and reactivity to clarity and self-compassion. The participant will learn to recognize pseudo-feelings like “rejected” or“ unsupported\,” connect with the feelings and needs underneath\, and show up for themselves the way a loving parent would. \nRegister using the QR code on the flyer\, or visit https://atlanticsoutheastaca.org/events \nSponsored by IG #757
URL:https://test.acawso.org/calendar/being-your-own-loving-parent-a-compassionate-return-to-feelings-and-needs/
CATEGORIES:events
END:VEVENT
BEGIN:VEVENT
DTSTART;TZID=America/New_York:20250728T110000
DTEND;TZID=America/New_York:20250728T123000
DTSTAMP:20260421T082604
CREATED:20250625T184622Z
LAST-MODIFIED:20250625T184622Z
UID:10016939-1753700400-1753705800@test.acawso.org
SUMMARY:Member Services Committee Meeting
DESCRIPTION:HELP WANTED!\nWe are looking for volunteers in Member Services Committee especially with the need of a Young Adult & Teen Subcommittee Chair. \nPlease attend our committee business meeting held on the fourth Monday of each month at 11am ET. \nThe next meeting wil be held on july 28th For more information\, see the committee calendar at acawso.org/committees-calendar/ for more information \nSponsored by Member Services Committee
URL:https://test.acawso.org/calendar/member-services-committee-meeting/
CATEGORIES:events
END:VEVENT
BEGIN:VEVENT
DTSTART;TZID=America/New_York:20250712T160000
DTEND;TZID=America/New_York:20250712T180000
DTSTAMP:20260421T082604
CREATED:20250617T161203Z
LAST-MODIFIED:20250617T161203Z
UID:10016879-1752336000-1752343200@test.acawso.org
SUMMARY:Sponsorship Workshop
DESCRIPTION:Region 6 and IG 640 are holding a Sponsorship Workshop that takes members through the ACA 12 Steps as outlined in the Big Red Book. Carol from Escalon\, CA and Courbet from Sacramento\, CA will be facilitating. All Are Welcome. \nSponsored by Region 6 and IG#640 \nSponsorship-Workshop-Flyer
URL:https://test.acawso.org/calendar/sponsorship-workshop-3/
CATEGORIES:events
END:VEVENT
BEGIN:VEVENT
DTSTART;TZID=America/New_York:20250712T130000
DTEND;TZID=America/New_York:20250712T153000
DTSTAMP:20260421T082604
CREATED:20250624T111425Z
LAST-MODIFIED:20250624T111425Z
UID:10016938-1752325200-1752334200@test.acawso.org
SUMMARY:Embracing Family Diversity
DESCRIPTION:“Embracing Family Diversity\,” an online workshop\, will focus on the experience of growing up in various family\nstructures such as single parent homes\, adoption\, foster care\, those raised by caretakers inside and outside\nthe home\, etc. Speakers will share their Experience\, Strength and Hope\, followed by meditation\, writing and\nsharing in a meeting format. You might want to have paper and pens/pencils/crayons/markers ready for the\nwriting portion. Music will be DJ’ed for a half hour before the workshop starts! \nEveryone is welcome. \nMusic          9:30-10am PT\nOpening      10:00-10:10am PT\nSpeaker 1   10:10-10:40am PT\nSpeaker 2    10:40-11:10am PT\nMeditation  11:10-11:15am PT\nWriting        11:15-11:25am PT\nSharing       11:25am-12:25pm PT\nClosing       12:25-12:30pm PT \nZoom ID: 869 3169 2217 / Passcode: 704277\nhttps://us02web.zoom.us/j/86931692217?pwd=prfno8XNp53ai1qBa3kE5ZJAdQaMWA.1 \nFor more information\, email <diversity@gebaca.org> or go to gebaca.org .
URL:https://test.acawso.org/calendar/embracing-family-diversity/
LOCATION:IG#648
CATEGORIES:events
END:VEVENT
BEGIN:VEVENT
DTSTART;TZID=America/New_York:20250710T190000
DTEND;TZID=America/New_York:20250710T210000
DTSTAMP:20260421T082604
CREATED:20250317T180950Z
LAST-MODIFIED:20250713T203114Z
UID:10016022-1752174000-1752181200@test.acawso.org
SUMMARY:Ready Set Go!! Evening Series
DESCRIPTION:Ready Set GO!! is a 6-week introductory program of the ACA program\, the ACA 12 Steps and an introductory Inner Child Workshop “Awakening My Little One”. \nStarts July 10th and runs through August 14th. Each session lasts 2 hours. \nClick HERE to view all of the information you will need for Ready Set Go! (RSG) \nNote that our Tuesday Morning series starts July 8th and runs through August 12th.
URL:https://test.acawso.org/calendar/ready-set-go-evening-series-18/
CATEGORIES:events
END:VEVENT
BEGIN:VEVENT
DTSTART;TZID=America/New_York:20250708T100000
DTEND;TZID=America/New_York:20250708T120000
DTSTAMP:20260421T082604
CREATED:20250317T180456Z
LAST-MODIFIED:20250713T203227Z
UID:10016010-1751968800-1751976000@test.acawso.org
SUMMARY:Ready Set GO!!  Morning Series
DESCRIPTION:Ready Set GO!! is a 6-week introductory program of the ACA program\, the ACA 12 Steps and an introductory Inner Child Workshop “Awakening My Little One”. \nStarts July 8th and runs through August 12th. Each session lasts 2 hours. \nClick HERE to download the flyer and to view all of the information you will need for Ready Set Go! (RSG) \nNote that our Thursday Evening series starts July 10th and runs through August 14th.
URL:https://test.acawso.org/calendar/ready-set-go-morning-series-22/
CATEGORIES:events
END:VEVENT
BEGIN:VEVENT
DTSTART;TZID=America/New_York:20250629T070000
DTEND;TZID=America/New_York:20250629T094000
DTSTAMP:20260421T082604
CREATED:20250624T103429Z
LAST-MODIFIED:20250624T103429Z
UID:10016937-1751180400-1751190000@test.acawso.org
SUMMARY:Workshop on Twelve Traditions
DESCRIPTION:Russian Speaking Regional Service Committee #645 is happy to invite to attend open workshop on Twelve traditions. \nOn Sunday June\, 29 at 2:00 pm GMT+3 / 7:00 am ET we host a worksop with two speakers and Q&A session on Tradition Nine: \n “Adult Children of Alcoholics\, as such\, ought never be organized\, but we may create service boards or committees directly responsible to those they serve”. \nSpeakers will share their experience of applying Tradition 9 to programme\, work and relationships: \n2:00 pm GMT+3 / 7am ET time- BP(Bangkok) \n3:30 pm GMT+3 / 8:30 ET time – Marianne (Norway) \nPlease\, join us via the Zoom link:\nhttps://us06web.zoom.us/j/6261313985?omn=85949865963 \nSponsored by IG#645
URL:https://test.acawso.org/calendar/workshop-on-twelve-traditions/
CATEGORIES:events
END:VEVENT
BEGIN:VEVENT
DTSTART;TZID=America/New_York:20250628T140000
DTEND;TZID=America/New_York:20250628T180000
DTSTAMP:20260421T082604
CREATED:20250510T104227Z
LAST-MODIFIED:20250510T104227Z
UID:10016614-1751119200-1751133600@test.acawso.org
SUMMARY:ACA Play Day in the Park
DESCRIPTION:ACA PLAY DAY\nSaturday June 28\, 2025 \nFrom 11 am – 2:30 pm\nValle Lindo Park\nFree Parking on Coe Street\,\nCamarillo\, CA 93010 \n(Meet near the Star on Map – -see flyer) \nJoin in rock painting\, face-painting\, badminton\, bocce ball\, jumprope\, croquet\, corn hole and bubbles. Share potluck lunch. Fellowship with ACA friends. An ACA meeting in the park! \n*10:30am – 11:00am — Welcome and Set-up \n*11:00am – 1:30pm — Fun\, Food\, Fellowship & Crafts \n*1:30pm – 2:30pm — ACA Share Meeting \n*2:30 – 3:00pm — Help Clean Up \nPlease bring your own Drink and a Snack to share for the potluck lunch and a chair for the meeting. \nBring a blanket or jacket in case it is cold in the park. \nThere are restrooms at the park. \nAll Adult Children of Alcoholic and Dysfunctional Families are invited! \nSponsored by CA1492
URL:https://test.acawso.org/calendar/aca-play-day-in-the-park/
CATEGORIES:events
END:VEVENT
END:VCALENDAR