BEGIN:VCALENDAR
VERSION:2.0
PRODID:-//ACA WSO - ECPv6.15.20//NONSGML v1.0//EN
CALSCALE:GREGORIAN
METHOD:PUBLISH
X-WR-CALNAME:ACA WSO
X-ORIGINAL-URL:https://test.acawso.org
X-WR-CALDESC:Events for ACA WSO
REFRESH-INTERVAL;VALUE=DURATION:PT1H
X-Robots-Tag:noindex
X-PUBLISHED-TTL:PT1H
BEGIN:VTIMEZONE
TZID:America/New_York
BEGIN:DAYLIGHT
TZOFFSETFROM:-0500
TZOFFSETTO:-0400
TZNAME:EDT
DTSTART:20250309T070000
END:DAYLIGHT
BEGIN:STANDARD
TZOFFSETFROM:-0400
TZOFFSETTO:-0500
TZNAME:EST
DTSTART:20251102T060000
END:STANDARD
BEGIN:DAYLIGHT
TZOFFSETFROM:-0500
TZOFFSETTO:-0400
TZNAME:EDT
DTSTART:20260308T070000
END:DAYLIGHT
BEGIN:STANDARD
TZOFFSETFROM:-0400
TZOFFSETTO:-0500
TZNAME:EST
DTSTART:20261101T060000
END:STANDARD
BEGIN:DAYLIGHT
TZOFFSETFROM:-0500
TZOFFSETTO:-0400
TZNAME:EDT
DTSTART:20270314T070000
END:DAYLIGHT
BEGIN:STANDARD
TZOFFSETFROM:-0400
TZOFFSETTO:-0500
TZNAME:EST
DTSTART:20271107T060000
END:STANDARD
END:VTIMEZONE
BEGIN:VEVENT
DTSTART;TZID=America/New_York:20260507T200000
DTEND;TZID=America/New_York:20260510T160000
DTSTAMP:20260420T213131
CREATED:20260223T111758Z
LAST-MODIFIED:20260223T111758Z
UID:10018416-1778184000-1778428800@test.acawso.org
SUMMARY:Spring Retreat
DESCRIPTION:Come join us for our 42nd bi-annual Pacific Northwest ACA Retreat! This year’s thems is: Using the Tools of ACA . Single day or 2-3 night options available. We welcome you to participant as much or as little as you choose. Our numbers have steadily been growing as we come out of the pandemic. Please consider joining us in this beautiful facility\, surrounded by fellow travellers and nature \nSponsored by WA0243
URL:https://test.acawso.org/calendar/spring-retreat/
CATEGORIES:events
END:VEVENT
BEGIN:VEVENT
DTSTART;TZID=America/New_York:20260509T120000
DTEND;TZID=America/New_York:20260509T130000
DTSTAMP:20260420T213131
CREATED:20260101T175833Z
LAST-MODIFIED:20260217T160844Z
UID:10018407-1778328000-1778331600@test.acawso.org
SUMMARY:Sponsorship
DESCRIPTION:Sponsorship Workshop invites newcomers and old timers to meet. Newcomers can ask questions and Old timers can offer suggestions. The Sponsorship Workshop will be held every 2nd Saturday at 9 am PST noon EST. \nSponsored by Region 6 and IG#640
URL:https://test.acawso.org/calendar/sponsorship/2026-05-09/
CATEGORIES:events
END:VEVENT
BEGIN:VEVENT
DTSTART;TZID=America/New_York:20260512T100000
DTEND;TZID=America/New_York:20260512T120000
DTSTAMP:20260420T213131
CREATED:20260318T194614Z
LAST-MODIFIED:20260318T194614Z
UID:10019052-1778580000-1778587200@test.acawso.org
SUMMARY:Ready Set GO!! Morning Series
DESCRIPTION:Ready Set GO!! is a 6-week introductory program of the ACA program\, the ACA 12 Steps and an introductory Inner Child Workshop “Awakening My Little One”. \nStarts Tuesday\, May 12th and runs for 6 consecutive weeks. Each session lasts 2 hours. \nREMINDER: Participants must attend the 1st week of the session in order to attend the remaining 5 weeks. \nClick HERE to download the flyer and view all of the information you will need for Ready Set GO!! (RSG) \nNote that our Thursday Evening series starts May 14th and also runs for 6 consecutive weeks.
URL:https://test.acawso.org/calendar/ready-set-go-morning-series-27/
CATEGORIES:events
END:VEVENT
BEGIN:VEVENT
DTSTART;TZID=America/New_York:20260514T190000
DTEND;TZID=America/New_York:20260514T210000
DTSTAMP:20260420T213131
CREATED:20260318T195319Z
LAST-MODIFIED:20260318T195319Z
UID:10019053-1778785200-1778792400@test.acawso.org
SUMMARY:Ready Set GO!! Evening Series
DESCRIPTION:Ready Set GO!! is a 6-week introductory program of the ACA program\, the ACA 12 Steps and an introductory Inner Child Workshop “Awakening My Little One”. \nStarts Thursday\, May 14th and runs for 6 consecutive weeks. Each session lasts 2 hours. \nREMINDER: Participants must attend the 1st week of the session in order to attend the remaining 5 weeks. \nClick HERE to download the flyer and view all of the information you will need for Ready Set GO!! (RSG) \nNote that our Tuesday Morning series starts May 16th and also runs for 6 consecutive weeks.
URL:https://test.acawso.org/calendar/ready-set-go-evening-series-23/
CATEGORIES:events
END:VEVENT
BEGIN:VEVENT
DTSTART;TZID=America/New_York:20260529T170000
DTEND;TZID=America/New_York:20260531T180000
DTSTAMP:20260420T213131
CREATED:20260126T113409Z
LAST-MODIFIED:20260126T113409Z
UID:10018254-1780074000-1780250400@test.acawso.org
SUMMARY:Camp Recovery
DESCRIPTION:Registration opens March 21 at 10:30 Pacific —> acacamprecovery.org to link to Eventbrite to Register \nWhat is Camp Recovery?\nIt is a weekend retreat of self-care and fellowship that is held every year during the Spring. It’s an opportunity for you and your Inner Child to grow\, heal\, play\, discover\, reflect\, and work on yourselves. This year we are gathering at NEW camp – Camp Cedar Lake in Big Bear Lake\, CA. Come join your fellow travelers in the tall trees and fresh air of the beautiful San Bernardino Mountains! \nWhat we do?\nOur program is based on the Adult Children of Alcoholics and Dysfunctional Families program. We cooperate with all other 12 Step programs\, so persons from other programs are invited and welcome to attend. We venture deeper into our recovery with enthusiasm through workshops\, 12 Step meetings\, crafts\, music\, hiking\, dancing\, Talent/No Talent show\, and fellowship. \nWe look forward to seeing you this Spring! \nSponsored by IG#715
URL:https://test.acawso.org/calendar/camp-recovery/
CATEGORIES:events
END:VEVENT
BEGIN:VEVENT
DTSTART;TZID=America/New_York:20260530T113000
DTEND;TZID=America/New_York:20260530T200000
DTSTAMP:20260420T213131
CREATED:20260401T142537Z
LAST-MODIFIED:20260401T142537Z
UID:10019094-1780140600-1780171200@test.acawso.org
SUMMARY:One Day Spring Retreat
DESCRIPTION:In-person retreat in Corralitos\, CA. There will be 2 workshops\, speaker\, outdoor activities and games. Price includes coffee\, tea\, water\, lunch and use of outdoor games\, giant slide\, swimming pool and outdoor courts such as basketball\, soccer\, etc. \nPrice for general registration $45.00\nOptional activities(additional fee):\nZipline $15\nDinner $20 \nRegistration opens April 2\nRegistration closes May 15 \ngo to https://acamontereybay.org/event/retreat-action-coming-from-love/ for more information \nSponsored by IG#654
URL:https://test.acawso.org/calendar/one-day-spring-retreat/
CATEGORIES:events
END:VEVENT
BEGIN:VEVENT
DTSTART;TZID=America/New_York:20260613T120000
DTEND;TZID=America/New_York:20260613T130000
DTSTAMP:20260420T213131
CREATED:20260101T175833Z
LAST-MODIFIED:20260217T160844Z
UID:10018408-1781352000-1781355600@test.acawso.org
SUMMARY:Sponsorship
DESCRIPTION:Sponsorship Workshop invites newcomers and old timers to meet. Newcomers can ask questions and Old timers can offer suggestions. The Sponsorship Workshop will be held every 2nd Saturday at 9 am PST noon EST. \nSponsored by Region 6 and IG#640
URL:https://test.acawso.org/calendar/sponsorship/2026-06-13/
CATEGORIES:events
END:VEVENT
BEGIN:VEVENT
DTSTART;TZID=America/New_York:20260613T140000
DTEND;TZID=America/New_York:20260613T160000
DTSTAMP:20260420T213131
CREATED:20260101T172857Z
LAST-MODIFIED:20260119T165415Z
UID:10018105-1781359200-1781366400@test.acawso.org
SUMMARY:Board Meetings with Fellowship
DESCRIPTION:The WSO Board holds an open Board Meeting with the Fellowship(TC)\, via video conference\, each quarter. All ACA members are invited to attend these meetings. \nThese meetings are held quarterly on the second Saturday of the month from 2:00 – 4:00 PM ET. \n2026 DATES: \n\nMarch 14\nJune 13\nSept. 12\nDec. 12\n\nMeeting ID: 228 809 511 Passcode: 90755 \nor call in via phone at: +1 305 224 1968 (US) or see: Outside US Phone #’s \nFor more information please see this page.
URL:https://test.acawso.org/calendar/board-meetings-with-fellowship/2026-06-13/
CATEGORIES:events
END:VEVENT
BEGIN:VEVENT
DTSTART;TZID=America/New_York:20260711T120000
DTEND;TZID=America/New_York:20260711T130000
DTSTAMP:20260420T213131
CREATED:20260101T175833Z
LAST-MODIFIED:20260217T160844Z
UID:10018409-1783771200-1783774800@test.acawso.org
SUMMARY:Sponsorship
DESCRIPTION:Sponsorship Workshop invites newcomers and old timers to meet. Newcomers can ask questions and Old timers can offer suggestions. The Sponsorship Workshop will be held every 2nd Saturday at 9 am PST noon EST. \nSponsored by Region 6 and IG#640
URL:https://test.acawso.org/calendar/sponsorship/2026-07-11/
CATEGORIES:events
END:VEVENT
BEGIN:VEVENT
DTSTART;TZID=America/New_York:20260714T100000
DTEND;TZID=America/New_York:20260714T120000
DTSTAMP:20260420T213131
CREATED:20260322T202742Z
LAST-MODIFIED:20260322T202933Z
UID:10019055-1784023200-1784030400@test.acawso.org
SUMMARY:Ready Set GO!! Morning Series
DESCRIPTION:Ready Set GO!! is a 6-week introductory program of the ACA program\, the ACA 12 Steps and an introductory Inner Child Workshop “Awakening My Little One”. \nStarts Tuesday\, July 14th and runs for 6 consecutive weeks. Each session lasts 2 hours. \nREMINDER: Participants must attend the 1st week of the session in order to attend the remaining 5 weeks. \nClick HERE to download the flyer and view all of the information you will need for Ready Set GO!! (RSG) \nNote that our Thursday evening series starts July 16th and also runs for 6 consecutive weeks.
URL:https://test.acawso.org/calendar/ready-set-go-4/
CATEGORIES:events
END:VEVENT
BEGIN:VEVENT
DTSTART;TZID=America/New_York:20260716T190000
DTEND;TZID=America/New_York:20260716T210000
DTSTAMP:20260420T213131
CREATED:20260322T202914Z
LAST-MODIFIED:20260322T202914Z
UID:10019056-1784228400-1784235600@test.acawso.org
SUMMARY:Ready Set GO!! Evening Series
DESCRIPTION:Ready Set GO!! is a 6-week introductory program of the ACA program\, the ACA 12 Steps and an introductory Inner Child Workshop “Awakening My Little One”. \nStarts Thursday\, July 16th and runs for 6 consecutive weeks. Each session lasts 2 hours. \nREMINDER: Participants must attend the 1st week of the session in order to attend the remaining 5 weeks. \nClick HERE to download the flyer and view all of the information you will need for Ready Set GO!! (RSG) \nNote that our Tuesday morning series starts July 14th and also runs for 6 consecutive weeks.
URL:https://test.acawso.org/calendar/ready-set-go-evening-series-24/
CATEGORIES:events
END:VEVENT
BEGIN:VEVENT
DTSTART;TZID=America/New_York:20260720T073000
DTEND;TZID=America/New_York:20260725T090000
DTSTAMP:20260420T213131
CREATED:20260321T125053Z
LAST-MODIFIED:20260321T125053Z
UID:10019054-1784532600-1784970000@test.acawso.org
SUMMARY:ACA Special Meetings during the world's largest air show in Oshkosh WI
DESCRIPTION:EAA AirVenture Oshkosh 2026\, the world’s largest air show hosted by the Experimental Aircraft Association\, will take place July 20–26\, 2026 in Oshkosh\, Wisconsin. Each year the event draws more than 700\,000 people from around the world.\nIn celebration of AirVenture week\, our local Adult Children of Alcoholics groups\, WI0151\, will be hosting special ACA meetings at 8:00 AM each morning\, Monday\, July 20 through Saturday\, July 25.\nWe are asking for your help in sharing this information with the ACA fellowship so that those visiting for AirVenture—or anyone in need of a meeting—will know there is a place to find support during the week.\nThank you for helping us carry the ACA message and extend fellowship to those who may need it. \nSponsored by WI0151
URL:https://test.acawso.org/calendar/aca-special-meetings-during-the-worlds-largest-air-show-in-oshkosh-wi/
CATEGORIES:events
END:VEVENT
BEGIN:VEVENT
DTSTART;TZID=America/New_York:20260808T120000
DTEND;TZID=America/New_York:20260808T130000
DTSTAMP:20260420T213131
CREATED:20260101T175833Z
LAST-MODIFIED:20260217T160844Z
UID:10018410-1786190400-1786194000@test.acawso.org
SUMMARY:Sponsorship
DESCRIPTION:Sponsorship Workshop invites newcomers and old timers to meet. Newcomers can ask questions and Old timers can offer suggestions. The Sponsorship Workshop will be held every 2nd Saturday at 9 am PST noon EST. \nSponsored by Region 6 and IG#640
URL:https://test.acawso.org/calendar/sponsorship/2026-08-08/
CATEGORIES:events
END:VEVENT
BEGIN:VEVENT
DTSTART;TZID=America/New_York:20260912T120000
DTEND;TZID=America/New_York:20260912T130000
DTSTAMP:20260420T213131
CREATED:20260101T175833Z
LAST-MODIFIED:20260217T160844Z
UID:10018411-1789214400-1789218000@test.acawso.org
SUMMARY:Sponsorship
DESCRIPTION:Sponsorship Workshop invites newcomers and old timers to meet. Newcomers can ask questions and Old timers can offer suggestions. The Sponsorship Workshop will be held every 2nd Saturday at 9 am PST noon EST. \nSponsored by Region 6 and IG#640
URL:https://test.acawso.org/calendar/sponsorship/2026-09-12/
CATEGORIES:events
END:VEVENT
BEGIN:VEVENT
DTSTART;TZID=America/New_York:20260912T140000
DTEND;TZID=America/New_York:20260912T160000
DTSTAMP:20260420T213131
CREATED:20260101T172857Z
LAST-MODIFIED:20260119T165415Z
UID:10018106-1789221600-1789228800@test.acawso.org
SUMMARY:Board Meetings with Fellowship
DESCRIPTION:The WSO Board holds an open Board Meeting with the Fellowship(TC)\, via video conference\, each quarter. All ACA members are invited to attend these meetings. \nThese meetings are held quarterly on the second Saturday of the month from 2:00 – 4:00 PM ET. \n2026 DATES: \n\nMarch 14\nJune 13\nSept. 12\nDec. 12\n\nMeeting ID: 228 809 511 Passcode: 90755 \nor call in via phone at: +1 305 224 1968 (US) or see: Outside US Phone #’s \nFor more information please see this page.
URL:https://test.acawso.org/calendar/board-meetings-with-fellowship/2026-09-12/
CATEGORIES:events
END:VEVENT
BEGIN:VEVENT
DTSTART;TZID=America/New_York:20260915T100000
DTEND;TZID=America/New_York:20260915T120000
DTSTAMP:20260420T213131
CREATED:20260322T203240Z
LAST-MODIFIED:20260322T203334Z
UID:10019058-1789466400-1789473600@test.acawso.org
SUMMARY:Ready Set GO!! Morning Series
DESCRIPTION:Ready Set GO!! is a 6-week introductory program of the ACA program\, the ACA 12 Steps and an introductory Inner Child Workshop “Awakening My Little One”. \nStarts Tuesday\, September 15th and runs for 6 consecutive weeks. Each session lasts 2 hours. \nREMINDER: Participants must attend the 1st week of the session in order to attend the remaining 5 weeks. \nClick HERE to download the flyer and view all of the information you will need for Ready Set GO!! (RSG) \nNote that our Thursday evening series starts September 17th and also runs for 6 consecutive weeks.
URL:https://test.acawso.org/calendar/ready-set-go-morning-series-28/
CATEGORIES:events
END:VEVENT
BEGIN:VEVENT
DTSTART;TZID=America/New_York:20260917T190000
DTEND;TZID=America/New_York:20260917T210000
DTSTAMP:20260420T213131
CREATED:20260322T203134Z
LAST-MODIFIED:20260322T203134Z
UID:10019057-1789671600-1789678800@test.acawso.org
SUMMARY:Ready Set GO!! Evening Series
DESCRIPTION:Ready Set GO!! is a 6-week introductory program of the ACA program\, the ACA 12 Steps and an introductory Inner Child Workshop “Awakening My Little One”. \nStarts Thursday\, September 17th and runs for 6 consecutive weeks. Each session lasts 2 hours. \nREMINDER: Participants must attend the 1st week of the session in order to attend the remaining 5 weeks. \nClick HERE to download the flyer and view all of the information you will need for Ready Set GO!! (RSG) \nNote that our Tuesday morning series starts September 15th and also runs for 6 consecutive weeks.
URL:https://test.acawso.org/calendar/ready-set-go-evening-series-25/
CATEGORIES:events
END:VEVENT
BEGIN:VEVENT
DTSTART;TZID=America/New_York:20260918T140000
DTEND;TZID=America/New_York:20260920T130000
DTSTAMP:20260420T213131
CREATED:20260214T131825Z
LAST-MODIFIED:20260214T131825Z
UID:10018402-1789740000-1789909200@test.acawso.org
SUMMARY:ACA Retreat in the Pines
DESCRIPTION:SEPT 18TH – 20TH 2026\nOur theme this year is “Emotional Sobriety” — a gentle\, powerful return to inner balance. We invite you to join us for a three-day weekend filled with workshops\, meetings\, free spirited fun\, fellowship\, and the opportunity for reflection. A quiet mountain peace that sinks into the soul like sunlight through the pines.\nThis retreat includes two nights of lodging\, five nourishing meals\, and access to all workshops and activities. For those who feel most at home in simplicity\, we offer discounted weekend passes for Rustic cabins\, tent camping\, and RV stays. RV spaces with water and electric hookups are available\, and the retreat center provides a dump station as well. Space is limited. You’ll find additional activity and meal options on the registration page.\nIf you feel called to volunteer\, please reach out to admin@aca-retreat.org for more information.\n* Registration opens the middle of May check out the Retreat in the Pines website: https://aca-retreat.org/\nWe can’t wait to welcome you up on the mountain this September— a place where the air is clearer\, the heart feels lighter\, and healing becomes possible. \nSponsored by IG#9
URL:https://test.acawso.org/calendar/aca-retreat-in-the-pines/
CATEGORIES:events
END:VEVENT
BEGIN:VEVENT
DTSTART;TZID=America/New_York:20261010T120000
DTEND;TZID=America/New_York:20261010T130000
DTSTAMP:20260420T213131
CREATED:20260101T175833Z
LAST-MODIFIED:20260217T160844Z
UID:10018412-1791633600-1791637200@test.acawso.org
SUMMARY:Sponsorship
DESCRIPTION:Sponsorship Workshop invites newcomers and old timers to meet. Newcomers can ask questions and Old timers can offer suggestions. The Sponsorship Workshop will be held every 2nd Saturday at 9 am PST noon EST. \nSponsored by Region 6 and IG#640
URL:https://test.acawso.org/calendar/sponsorship/2026-10-10/
CATEGORIES:events
END:VEVENT
BEGIN:VEVENT
DTSTART;TZID=America/New_York:20261114T120000
DTEND;TZID=America/New_York:20261114T130000
DTSTAMP:20260420T213131
CREATED:20260101T175833Z
LAST-MODIFIED:20260217T160844Z
UID:10018413-1794657600-1794661200@test.acawso.org
SUMMARY:Sponsorship
DESCRIPTION:Sponsorship Workshop invites newcomers and old timers to meet. Newcomers can ask questions and Old timers can offer suggestions. The Sponsorship Workshop will be held every 2nd Saturday at 9 am PST noon EST. \nSponsored by Region 6 and IG#640
URL:https://test.acawso.org/calendar/sponsorship/2026-11-14/
CATEGORIES:events
END:VEVENT
BEGIN:VEVENT
DTSTART;TZID=America/New_York:20261212T120000
DTEND;TZID=America/New_York:20261212T130000
DTSTAMP:20260420T213131
CREATED:20260101T175833Z
LAST-MODIFIED:20260217T160844Z
UID:10018414-1797076800-1797080400@test.acawso.org
SUMMARY:Sponsorship
DESCRIPTION:Sponsorship Workshop invites newcomers and old timers to meet. Newcomers can ask questions and Old timers can offer suggestions. The Sponsorship Workshop will be held every 2nd Saturday at 9 am PST noon EST. \nSponsored by Region 6 and IG#640
URL:https://test.acawso.org/calendar/sponsorship/2026-12-12/
CATEGORIES:events
END:VEVENT
BEGIN:VEVENT
DTSTART;TZID=America/New_York:20261212T140000
DTEND;TZID=America/New_York:20261212T160000
DTSTAMP:20260420T213131
CREATED:20260101T172857Z
LAST-MODIFIED:20260119T165415Z
UID:10018107-1797084000-1797091200@test.acawso.org
SUMMARY:Board Meetings with Fellowship
DESCRIPTION:The WSO Board holds an open Board Meeting with the Fellowship(TC)\, via video conference\, each quarter. All ACA members are invited to attend these meetings. \nThese meetings are held quarterly on the second Saturday of the month from 2:00 – 4:00 PM ET. \n2026 DATES: \n\nMarch 14\nJune 13\nSept. 12\nDec. 12\n\nMeeting ID: 228 809 511 Passcode: 90755 \nor call in via phone at: +1 305 224 1968 (US) or see: Outside US Phone #’s \nFor more information please see this page.
URL:https://test.acawso.org/calendar/board-meetings-with-fellowship/2026-12-12/
CATEGORIES:events
END:VEVENT
END:VCALENDAR