BEGIN:VCALENDAR
VERSION:2.0
PRODID:-//ACA WSO - ECPv6.15.20//NONSGML v1.0//EN
CALSCALE:GREGORIAN
METHOD:PUBLISH
X-ORIGINAL-URL:https://test.acawso.org
X-WR-CALDESC:Events for ACA WSO
REFRESH-INTERVAL;VALUE=DURATION:PT1H
X-Robots-Tag:noindex
X-PUBLISHED-TTL:PT1H
BEGIN:VTIMEZONE
TZID:America/New_York
BEGIN:DAYLIGHT
TZOFFSETFROM:-0500
TZOFFSETTO:-0400
TZNAME:EDT
DTSTART:20250309T070000
END:DAYLIGHT
BEGIN:STANDARD
TZOFFSETFROM:-0400
TZOFFSETTO:-0500
TZNAME:EST
DTSTART:20251102T060000
END:STANDARD
BEGIN:DAYLIGHT
TZOFFSETFROM:-0500
TZOFFSETTO:-0400
TZNAME:EDT
DTSTART:20260308T070000
END:DAYLIGHT
BEGIN:STANDARD
TZOFFSETFROM:-0400
TZOFFSETTO:-0500
TZNAME:EST
DTSTART:20261101T060000
END:STANDARD
BEGIN:DAYLIGHT
TZOFFSETFROM:-0500
TZOFFSETTO:-0400
TZNAME:EDT
DTSTART:20270314T070000
END:DAYLIGHT
BEGIN:STANDARD
TZOFFSETFROM:-0400
TZOFFSETTO:-0500
TZNAME:EST
DTSTART:20271107T060000
END:STANDARD
END:VTIMEZONE
BEGIN:VEVENT
DTSTART;TZID=America/New_York:20260529T170000
DTEND;TZID=America/New_York:20260531T180000
DTSTAMP:20260421T022444
CREATED:20260126T113409Z
LAST-MODIFIED:20260126T113409Z
UID:10018254-1780074000-1780250400@test.acawso.org
SUMMARY:Camp Recovery
DESCRIPTION:Registration opens March 21 at 10:30 Pacific —> acacamprecovery.org to link to Eventbrite to Register \nWhat is Camp Recovery?\nIt is a weekend retreat of self-care and fellowship that is held every year during the Spring. It’s an opportunity for you and your Inner Child to grow\, heal\, play\, discover\, reflect\, and work on yourselves. This year we are gathering at NEW camp – Camp Cedar Lake in Big Bear Lake\, CA. Come join your fellow travelers in the tall trees and fresh air of the beautiful San Bernardino Mountains! \nWhat we do?\nOur program is based on the Adult Children of Alcoholics and Dysfunctional Families program. We cooperate with all other 12 Step programs\, so persons from other programs are invited and welcome to attend. We venture deeper into our recovery with enthusiasm through workshops\, 12 Step meetings\, crafts\, music\, hiking\, dancing\, Talent/No Talent show\, and fellowship. \nWe look forward to seeing you this Spring! \nSponsored by IG#715
URL:https://test.acawso.org/calendar/camp-recovery/
CATEGORIES:events
END:VEVENT
END:VCALENDAR