BEGIN:VCALENDAR
VERSION:2.0
PRODID:-//ACA WSO - ECPv6.15.20//NONSGML v1.0//EN
CALSCALE:GREGORIAN
METHOD:PUBLISH
X-ORIGINAL-URL:https://test.acawso.org
X-WR-CALDESC:Events for ACA WSO
REFRESH-INTERVAL;VALUE=DURATION:PT1H
X-Robots-Tag:noindex
X-PUBLISHED-TTL:PT1H
BEGIN:VTIMEZONE
TZID:America/New_York
BEGIN:DAYLIGHT
TZOFFSETFROM:-0500
TZOFFSETTO:-0400
TZNAME:EDT
DTSTART:20250309T070000
END:DAYLIGHT
BEGIN:STANDARD
TZOFFSETFROM:-0400
TZOFFSETTO:-0500
TZNAME:EST
DTSTART:20251102T060000
END:STANDARD
BEGIN:DAYLIGHT
TZOFFSETFROM:-0500
TZOFFSETTO:-0400
TZNAME:EDT
DTSTART:20260308T070000
END:DAYLIGHT
BEGIN:STANDARD
TZOFFSETFROM:-0400
TZOFFSETTO:-0500
TZNAME:EST
DTSTART:20261101T060000
END:STANDARD
BEGIN:DAYLIGHT
TZOFFSETFROM:-0500
TZOFFSETTO:-0400
TZNAME:EDT
DTSTART:20270314T070000
END:DAYLIGHT
BEGIN:STANDARD
TZOFFSETFROM:-0400
TZOFFSETTO:-0500
TZNAME:EST
DTSTART:20271107T060000
END:STANDARD
END:VTIMEZONE
BEGIN:VEVENT
DTSTART;TZID=America/New_York:20260418T090000
DTEND;TZID=America/New_York:20260418T153000
DTSTAMP:20260421T022351
CREATED:20260207T113619Z
LAST-MODIFIED:20260207T125912Z
UID:10018383-1776502800-1776526200@test.acawso.org
SUMMARY:Becoming Your Own Loving Parent Share-A-Day
DESCRIPTION:Becoming Your Own Loving Parent Share-A-Day \nSaturday April 18\, 2026\n9:00am – 3:30pm \nSt Martin in the Fields Church\n8000 St. Martin’s Lane\nPhiladelphia\, PA 19118 \nSpeaker Workshops Community \nBRING YOUR OWN LUNCH \nPresented by Steps In The Fields Thursday ACA Meeting\nPA123 \nFree Event\n7th Tradition collection\nThis is our 9th Share-A-Day \nSponsored by PA123
URL:https://test.acawso.org/calendar/becoming-your-own-loving-parent-share-a-day-2/
CATEGORIES:events
END:VEVENT
BEGIN:VEVENT
DTSTART;TZID=America/New_York:20260418T133000
DTEND;TZID=America/New_York:20260418T150000
DTSTAMP:20260421T022351
CREATED:20260404T115858Z
LAST-MODIFIED:20260404T115858Z
UID:10019095-1776519000-1776524400@test.acawso.org
SUMMARY:Literature Committee Quarterly Open House
DESCRIPTION:Tradition 5: Each group has but one primary purpose—to carry its message to the adult child who still suffers. \nJoin us for our Quarterly Open House to hear from Literature\, Publishing\, and Translations plus learn about the new Editing and Standards subcommittees. \nWith over 50 active projects underway\, there’s a lot we have to share and plenty of opportunities for you to get involved. \nThis is an enormous undertaking and we need you! Whether you’re an editor\, proofreader\, evaluator\, translator\, project manager\, coordinator\, InDesign expert\, or someone who just loves taking good notes\, there’s a place for you here. \nWe especially want to hear from members whose perspectives and experiences haven’t always been centered\, so the message of recovery reaches every still-suffering adult child worldwide. \nLiterature Development &\nLiterature Evaluation will also be on hand to give updates on projects in development and the conference approval process. \nQuestions? Email: literature@acawso.org \nJoin us!\nSaturday\, April 18 2026 10:30 AM PT/1:30 PM ET\n5:30 pm GMT\nMeeting ID: 937 6963 2246\nPasscode: 590159 \nSponsored by Literature Evaluation and Literature Development Subcommittees
URL:https://test.acawso.org/calendar/literature-committee-quarterly-open-house/
CATEGORIES:committees,events
END:VEVENT
END:VCALENDAR