BEGIN:VCALENDAR
VERSION:2.0
PRODID:-//ACA WSO - ECPv6.15.20//NONSGML v1.0//EN
CALSCALE:GREGORIAN
METHOD:PUBLISH
X-ORIGINAL-URL:https://test.acawso.org
X-WR-CALDESC:Events for ACA WSO
REFRESH-INTERVAL;VALUE=DURATION:PT1H
X-Robots-Tag:noindex
X-PUBLISHED-TTL:PT1H
BEGIN:VTIMEZONE
TZID:America/New_York
BEGIN:DAYLIGHT
TZOFFSETFROM:-0500
TZOFFSETTO:-0400
TZNAME:EDT
DTSTART:20250309T070000
END:DAYLIGHT
BEGIN:STANDARD
TZOFFSETFROM:-0400
TZOFFSETTO:-0500
TZNAME:EST
DTSTART:20251102T060000
END:STANDARD
BEGIN:DAYLIGHT
TZOFFSETFROM:-0500
TZOFFSETTO:-0400
TZNAME:EDT
DTSTART:20260308T070000
END:DAYLIGHT
BEGIN:STANDARD
TZOFFSETFROM:-0400
TZOFFSETTO:-0500
TZNAME:EST
DTSTART:20261101T060000
END:STANDARD
BEGIN:DAYLIGHT
TZOFFSETFROM:-0500
TZOFFSETTO:-0400
TZNAME:EDT
DTSTART:20270314T070000
END:DAYLIGHT
BEGIN:STANDARD
TZOFFSETFROM:-0400
TZOFFSETTO:-0500
TZNAME:EST
DTSTART:20271107T060000
END:STANDARD
END:VTIMEZONE
BEGIN:VEVENT
DTSTART;TZID=America/New_York:20260415T213000
DTEND;TZID=America/New_York:20260415T233000
DTSTAMP:20260421T004729
CREATED:20260404T122610Z
LAST-MODIFIED:20260404T122610Z
UID:10019096-1776288600-1776295800@test.acawso.org
SUMMARY:Inner Family Time Workshop: Connecting the Loving Parent & Inner Child Workshop
DESCRIPTION:An ACA Workshop on Zoom sponsored by the ACA Arizona Intergroup (IG #9) \nDuring this 2-hour workshop we will practice connecting with higher power\, expressing the inner child or inner teen\, and embodying the inner loving parent. \nAfter a meditation to guide you to connect with your higher power\, loving parent\, and inner child or teen\, you will have 30 minutes to play\, create\, dance\, journal or whatever else your inner child would like to do\, while witnessed and affirmed by your loving parent. Following a visualization to integrate all of these parts within you\, time is open for those who wish to share what the experience was like for them. \nTo prepare for the workshop you may want to ask your inner child or teen what supplies they would like to have available during the Inner Family Time. If they aren’t sure\, you can select some art supplies\, a favorite plushie\, a device to listen to music\, and anything else your inner child has enjoyed in the past. There is no wrong thing to do during Inner Family Time. Our purpose is to create a safe space for our inner child or inner teen to express themselves and to be witnessed and supported by inner loving parent and higher power. \nJoin Zoom Meeting:\nhttps://us02web.zoom.us/j/83261660731?pwd=enROMXRnMW9FTFE3WXg4bXRJVXVqQT09 \nZoom Meeting ID: 832 6166 0731\nPasscode: 176939 \n*** Please note that the Zoom room is always open. If nobody is there when you arrive\, check to make sure you are arriving at the correct meeting time for your time zone. \nSponsored by IG#9
URL:https://test.acawso.org/calendar/inner-family-time-workshop-connecting-the-loving-parent-inner-child-workshop/
CATEGORIES:events
END:VEVENT
END:VCALENDAR