BEGIN:VCALENDAR
VERSION:2.0
PRODID:-//ACA WSO - ECPv6.15.20//NONSGML v1.0//EN
CALSCALE:GREGORIAN
METHOD:PUBLISH
X-ORIGINAL-URL:https://test.acawso.org
X-WR-CALDESC:Events for ACA WSO
REFRESH-INTERVAL;VALUE=DURATION:PT1H
X-Robots-Tag:noindex
X-PUBLISHED-TTL:PT1H
BEGIN:VTIMEZONE
TZID:America/New_York
BEGIN:DAYLIGHT
TZOFFSETFROM:-0500
TZOFFSETTO:-0400
TZNAME:EDT
DTSTART:20250309T070000
END:DAYLIGHT
BEGIN:STANDARD
TZOFFSETFROM:-0400
TZOFFSETTO:-0500
TZNAME:EST
DTSTART:20251102T060000
END:STANDARD
BEGIN:DAYLIGHT
TZOFFSETFROM:-0500
TZOFFSETTO:-0400
TZNAME:EDT
DTSTART:20260308T070000
END:DAYLIGHT
BEGIN:STANDARD
TZOFFSETFROM:-0400
TZOFFSETTO:-0500
TZNAME:EST
DTSTART:20261101T060000
END:STANDARD
BEGIN:DAYLIGHT
TZOFFSETFROM:-0500
TZOFFSETTO:-0400
TZNAME:EDT
DTSTART:20270314T070000
END:DAYLIGHT
BEGIN:STANDARD
TZOFFSETFROM:-0400
TZOFFSETTO:-0500
TZNAME:EST
DTSTART:20271107T060000
END:STANDARD
END:VTIMEZONE
BEGIN:VEVENT
DTSTART;TZID=America/New_York:20260327T180000
DTEND;TZID=America/New_York:20260328T210000
DTSTAMP:20260421T181644
CREATED:20260207T141905Z
LAST-MODIFIED:20260207T141905Z
UID:10018384-1774634400-1774731600@test.acawso.org
SUMMARY:ACA Annual World Convention
DESCRIPTION:You are invited to join the largest ACA recovery event of the year: the ACA’s Annual World Convention!!\nTHIS IS AN ONLINE ONLY EVENT\nTaking place around the clock starting on Friday March 27 at 6:00 pm ET\, until Saturday March 28 at 9:00 pm ET \nPrepare to experience an unforgettable ACA Convention filled with fun\, interactive workshops designed to support you in your ACA Recovery Journey. Whether you’re just beginning\, or deep into your healing work\, this Convention offers a safe and transformative space to learn\, grow\, and connect. \nSome of the workshops on the program will include: \nThe Gift of Forgiveness \nParenting Children While Reparenting Yourself \nFinding Freedom Through Boundaries \nUsing the Traditions of ACA to Reparent our Inner Family \nThe Wisdom of Self-Pity \nIdentifying and Reframing Critical Childhood Messages \nUsing the Traditions and Commitments to Service to Transform Relationships \nIn the Fellowship Room we will have open ACA meetings in different languages and experiential sessions that include: \nPermission to Play: Healing the Inner Child Through Joy \nMaking Use of the Body and the Inner Loving Parent to Address and Heal Feelings of Shame and Guilt \nThe Emotion-Body Connection: Learn Tools to Release Stored Trauma \nFinding Safety in the Body Through the Five Senses \nA Dance Party\, a Talent / No Talent show \n¡En español with English translation! Arte-Pintura-esquematica para la introspección de la herida a la solución de necesidades – Art / Painting for introspection of wounds and healing \nFor the first time at the AWC!! Tell Us About Your Pet (show and / or tell)  \nImportant: you must register at https://adultchildren.org/awc/ to receive an email with the Zoom access information.\nYou will be emailed a reminder a few days before March 27. \n  \nSponsored by AWC Planning Team
URL:https://test.acawso.org/calendar/aca-annual-world-convention-2/
CATEGORIES:events
END:VEVENT
END:VCALENDAR