BEGIN:VCALENDAR
VERSION:2.0
PRODID:-//ACA WSO - ECPv6.15.20//NONSGML v1.0//EN
CALSCALE:GREGORIAN
METHOD:PUBLISH
X-WR-CALNAME:ACA WSO
X-ORIGINAL-URL:https://test.acawso.org
X-WR-CALDESC:Events for ACA WSO
REFRESH-INTERVAL;VALUE=DURATION:PT1H
X-Robots-Tag:noindex
X-PUBLISHED-TTL:PT1H
BEGIN:VTIMEZONE
TZID:America/New_York
BEGIN:DAYLIGHT
TZOFFSETFROM:-0500
TZOFFSETTO:-0400
TZNAME:EDT
DTSTART:20250309T070000
END:DAYLIGHT
BEGIN:STANDARD
TZOFFSETFROM:-0400
TZOFFSETTO:-0500
TZNAME:EST
DTSTART:20251102T060000
END:STANDARD
BEGIN:DAYLIGHT
TZOFFSETFROM:-0500
TZOFFSETTO:-0400
TZNAME:EDT
DTSTART:20260308T070000
END:DAYLIGHT
BEGIN:STANDARD
TZOFFSETFROM:-0400
TZOFFSETTO:-0500
TZNAME:EST
DTSTART:20261101T060000
END:STANDARD
BEGIN:DAYLIGHT
TZOFFSETFROM:-0500
TZOFFSETTO:-0400
TZNAME:EDT
DTSTART:20270314T070000
END:DAYLIGHT
BEGIN:STANDARD
TZOFFSETFROM:-0400
TZOFFSETTO:-0500
TZNAME:EST
DTSTART:20271107T060000
END:STANDARD
END:VTIMEZONE
BEGIN:VEVENT
DTSTART;TZID=America/New_York:20260312T190000
DTEND;TZID=America/New_York:20260312T210000
DTSTAMP:20260421T082648
CREATED:20260301T211903Z
LAST-MODIFIED:20260301T211903Z
UID:10018429-1773342000-1773349200@test.acawso.org
SUMMARY:Ready Set GO!!  Evening Series
DESCRIPTION:Ready Set GO!! is a 6-week introductory program of the ACA program\, the ACA 12 Steps and an introductory Inner Child Workshop “Awakening My Little One”. \nStarts March 12th and runs through April 16th. Each session lasts 2 hours. \nClick HERE to download the flyer and view all of the information you will need for Ready Set GO!! (RSG) \nNote that our Tuesday Morning series starts March 10th and runs through April 14th.
URL:https://test.acawso.org/calendar/ready-set-go-evening-series-22/
CATEGORIES:events
END:VEVENT
END:VCALENDAR