BEGIN:VCALENDAR
VERSION:2.0
PRODID:-//ACA WSO - ECPv6.15.20//NONSGML v1.0//EN
CALSCALE:GREGORIAN
METHOD:PUBLISH
X-WR-CALNAME:ACA WSO
X-ORIGINAL-URL:https://test.acawso.org
X-WR-CALDESC:Events for ACA WSO
REFRESH-INTERVAL;VALUE=DURATION:PT1H
X-Robots-Tag:noindex
X-PUBLISHED-TTL:PT1H
BEGIN:VTIMEZONE
TZID:America/New_York
BEGIN:DAYLIGHT
TZOFFSETFROM:-0500
TZOFFSETTO:-0400
TZNAME:EDT
DTSTART:20250309T070000
END:DAYLIGHT
BEGIN:STANDARD
TZOFFSETFROM:-0400
TZOFFSETTO:-0500
TZNAME:EST
DTSTART:20251102T060000
END:STANDARD
BEGIN:DAYLIGHT
TZOFFSETFROM:-0500
TZOFFSETTO:-0400
TZNAME:EDT
DTSTART:20260308T070000
END:DAYLIGHT
BEGIN:STANDARD
TZOFFSETFROM:-0400
TZOFFSETTO:-0500
TZNAME:EST
DTSTART:20261101T060000
END:STANDARD
BEGIN:DAYLIGHT
TZOFFSETFROM:-0500
TZOFFSETTO:-0400
TZNAME:EDT
DTSTART:20270314T070000
END:DAYLIGHT
BEGIN:STANDARD
TZOFFSETFROM:-0400
TZOFFSETTO:-0500
TZNAME:EST
DTSTART:20271107T060000
END:STANDARD
END:VTIMEZONE
BEGIN:VEVENT
DTSTART;TZID=America/New_York:20260307T090000
DTEND;TZID=America/New_York:20260307T110000
DTSTAMP:20260421T131505
CREATED:20260213T011628Z
LAST-MODIFIED:20260307T033857Z
UID:10018396-1772874000-1772881200@test.acawso.org
SUMMARY:Ballot Prep Question and Answer Session
DESCRIPTION:To help support informed group conscience and open dialogue across our global fellowship\, we are holding the second of two Question & Answer (Q&A) Sessions related to the Ballot Proposals.   These sessions are designed to provide members and delegates from around the world an opportunity to ask questions and seek clarification about the proposals in a spirit of unity and mutual understanding.  Rather than formal presentations by proposal submitters\, as in past years\, the format will be open Q&A.  \nThe second meeting will be held today – note that ET refers to Eastern US time: \n\nSaturday\, March 7th at 9 AM ET   (2026-03-07\, 9:00-11:00 ET)  \n\nThe following is the ZOOM Information  \nSaturday\, March 7th at 9 AM ET (2026-03-07\, 9:00-11:00 ET)Meeting ID: 937 8976 0592https://zoom.us/j/93789760592Passcode: Ballot
URL:https://test.acawso.org/calendar/ballot-prep-question-and-answer-session-2/
CATEGORIES:events
END:VEVENT
BEGIN:VEVENT
DTSTART;TZID=America/New_York:20260307T160000
DTEND;TZID=America/New_York:20260307T200000
DTSTAMP:20260421T131505
CREATED:20260219T180213Z
LAST-MODIFIED:20260219T180213Z
UID:10018415-1772899200-1772913600@test.acawso.org
SUMMARY:UNITY IN DIVERSITY 2026: Our Own Understanding - Many Spiritual Paths in ACA
DESCRIPTION:ACA is one fellowship united in our primary purpose to carry the message to the adult child who still suffers. Our fellowship is diverse and many of us have experienced trauma and neglect both in our families and society. Familial and societal dysfunction impacted us then and affect us today. In ACA\, we heal and recover together\, one day at a time.\nJoin other Fellow Travelers to listen and share This half-day event will focus on our own understanding of spirituality\, how our childhood and culture influenced our journey\, and how our spiritual perspective might have changed in ACA recovery. There will be time for participant sharing following the panel and main speaker\, and during the closing meeting..\nMain speaker: AJ\, Detroit MI\nMusic: DJ Lady O \nEVENT SCHEDULE (Pacific Time)\n12:30-1pm Music\n1:00-1:15pm Opening\n1:15-2:20pm Panel\n2:20-2:30pm Break\n2:30-3:40pm Main Speaker\n3:40-3:50pm Break\n3:50-4:50pm Meeting\n4:50 -5:00pm Closing\n5-5:30pm Fellowship \nZoom Information: Meeting ID: 841 6255 5548 / Passcode: 925145\nJoin Zoom Meeting https://us06web.zoom.us/j/84162555548?pwd=6CaXeHbd5j1BbCD45qIplrOMHZY2BD.1 \nFor questions or information\, email <diversity@gebaca.org>\nGEBACA website: gebaca.org \nSponsored by IG#648
URL:https://test.acawso.org/calendar/unity-in-diversity-2026-our-own-understanding-many-spiritual-paths-in-aca/
CATEGORIES:events
END:VEVENT
END:VCALENDAR