BEGIN:VCALENDAR
VERSION:2.0
PRODID:-//ACA WSO - ECPv6.15.20//NONSGML v1.0//EN
CALSCALE:GREGORIAN
METHOD:PUBLISH
X-ORIGINAL-URL:https://test.acawso.org
X-WR-CALDESC:Events for ACA WSO
REFRESH-INTERVAL;VALUE=DURATION:PT1H
X-Robots-Tag:noindex
X-PUBLISHED-TTL:PT1H
BEGIN:VTIMEZONE
TZID:America/New_York
BEGIN:DAYLIGHT
TZOFFSETFROM:-0500
TZOFFSETTO:-0400
TZNAME:EDT
DTSTART:20250309T070000
END:DAYLIGHT
BEGIN:STANDARD
TZOFFSETFROM:-0400
TZOFFSETTO:-0500
TZNAME:EST
DTSTART:20251102T060000
END:STANDARD
BEGIN:DAYLIGHT
TZOFFSETFROM:-0500
TZOFFSETTO:-0400
TZNAME:EDT
DTSTART:20260308T070000
END:DAYLIGHT
BEGIN:STANDARD
TZOFFSETFROM:-0400
TZOFFSETTO:-0500
TZNAME:EST
DTSTART:20261101T060000
END:STANDARD
BEGIN:DAYLIGHT
TZOFFSETFROM:-0500
TZOFFSETTO:-0400
TZNAME:EDT
DTSTART:20270314T070000
END:DAYLIGHT
BEGIN:STANDARD
TZOFFSETFROM:-0400
TZOFFSETTO:-0500
TZNAME:EST
DTSTART:20271107T060000
END:STANDARD
END:VTIMEZONE
BEGIN:VEVENT
DTSTART;TZID=America/New_York:20260301T210000
DTEND;TZID=America/New_York:20260301T230000
DTSTAMP:20260421T163135
CREATED:20260213T010908Z
LAST-MODIFIED:20260302T020952Z
UID:10018393-1772398800-1772406000@test.acawso.org
SUMMARY:Ballot Prep Question and Answer Session
DESCRIPTION:To help support informed group conscience and open dialogue across our global fellowship\, we will be holding two Question & Answer (Q&A) Sessions related to the Ballot Proposals.   These sessions are designed to provide members and delegates from around the world an opportunity to ask questions and seek clarification about the proposals in a spirit of unity and mutual understanding.  Rather than formal presentations by proposal submitters\, as in past years\, the focus will be open Q&A.  \nThese meetings will be held on the following dates and time – note that ET refers to Eastern US time: \n\nSunday\, March 1st at 9 PM ET   (2026-03-01\, 21:00-23:00 ET) \nSaturday\, March 7th at 9 AM ET   (2026-03-07\, 9:00-11:00 ET)  \n\nThe following is the ZOOM Information  \nSunday\, March 1st at 9 PM ET (2026-03-01\, 21:00-23:00 ET)Meeting ID: 926 1459 4952https://zoom.us/j/92614594952Passcode: Ballot \nSaturday\, March 7th at 9 AM ET (2026-03-07\, 9:00-11:00 ET)Meeting ID: 937 8976 0592https://zoom.us/j/93789760592Passcode: Ballot
URL:https://test.acawso.org/calendar/ballot-prep-question-and-answer-session/
CATEGORIES:events
END:VEVENT
END:VCALENDAR